BEGIN:VCALENDAR
VERSION:2.0
PRODID:-//Amplivo Academy - ECPv6.3.5//NONSGML v1.0//EN
CALSCALE:GREGORIAN
METHOD:PUBLISH
X-ORIGINAL-URL:https://academy.amplivo.com
X-WR-CALDESC:Events for Amplivo Academy
REFRESH-INTERVAL;VALUE=DURATION:PT1H
X-Robots-Tag:noindex
X-PUBLISHED-TTL:PT1H
BEGIN:VTIMEZONE
TZID:Europe/Amsterdam
BEGIN:DAYLIGHT
TZOFFSETFROM:+0100
TZOFFSETTO:+0200
TZNAME:CEST
DTSTART:20250330T010000
END:DAYLIGHT
BEGIN:STANDARD
TZOFFSETFROM:+0200
TZOFFSETTO:+0100
TZNAME:CET
DTSTART:20251026T010000
END:STANDARD
TZID:Europe/Paris
BEGIN:DAYLIGHT
TZOFFSETFROM:+0100
TZOFFSETTO:+0200
TZNAME:CEST
DTSTART:20250330T010000
END:DAYLIGHT
BEGIN:STANDARD
TZOFFSETFROM:+0200
TZOFFSETTO:+0100
TZNAME:CET
DTSTART:20251026T010000
END:STANDARD
TZID:Europe/Madrid
BEGIN:DAYLIGHT
TZOFFSETFROM:+0100
TZOFFSETTO:+0200
TZNAME:CEST
DTSTART:20250330T010000
END:DAYLIGHT
BEGIN:STANDARD
TZOFFSETFROM:+0200
TZOFFSETTO:+0100
TZNAME:CET
DTSTART:20251026T010000
END:STANDARD
TZID:Europe/Berlin
BEGIN:DAYLIGHT
TZOFFSETFROM:+0100
TZOFFSETTO:+0200
TZNAME:CEST
DTSTART:20250330T010000
END:DAYLIGHT
BEGIN:STANDARD
TZOFFSETFROM:+0200
TZOFFSETTO:+0100
TZNAME:CET
DTSTART:20251026T010000
END:STANDARD
TZID:Europe/Paris
BEGIN:DAYLIGHT
TZOFFSETFROM:+0100
TZOFFSETTO:+0200
TZNAME:CEST
DTSTART:20250330T010000
END:DAYLIGHT
BEGIN:STANDARD
TZOFFSETFROM:+0200
TZOFFSETTO:+0100
TZNAME:CET
DTSTART:20251026T010000
END:STANDARD
TZID:UTC
BEGIN:STANDARD
TZOFFSETFROM:+0000
TZOFFSETTO:+0000
TZNAME:UTC
DTSTART:20250101T000000
END:STANDARD
END:VTIMEZONE
BEGIN:VEVENT
DTSTART;TZID=Europe/Amsterdam:20250722T200000
DTEND;TZID=Europe/Amsterdam:20250722T210000
DTSTAMP:20260419T223715
CREATED:20250723T072737Z
LAST-MODIFIED:20250723T085902Z
UID:10000020-1753214400-1753218000@academy.amplivo.com
SUMMARY:Presentation
DESCRIPTION:Are you ready to discover a unique and powerful concept that can change your future? \nJoin us for a special Zoom presentation where we’ll explain the plastic waste to oil project in detail. This gives you the opportunity to be among the first to discover this innovative model. \nMake sure you’re there\, and feel free to bring anyone you’d like to join. It’s a small step to log in\, a big step for your future.
URL:https://academy.amplivo.com/event/presentation/
CATEGORIES:Presentation
ATTACH;FMTTYPE=image/png:https://academy.amplivo.com/wp-content/uploads/Schermafbeelding-2025-07-23-om-09.29.07.png
END:VEVENT
BEGIN:VEVENT
DTSTART;TZID=Europe/Paris:20250728T190000
DTEND;TZID=Europe/Paris:20250728T193000
DTSTAMP:20260419T223715
CREATED:20250724T174928Z
LAST-MODIFIED:20250725T101041Z
UID:10000024-1753729200-1753731000@academy.amplivo.com
SUMMARY:Présentation
DESCRIPTION:Dans cette présentation de l’opportunité d’affaires Amplivo\, nous vous expliquerons comment contribuer à nettoyer la planète tout en améliorant votre qualité de vie – le tout depuis le confort de votre maison. \nN’hésitez pas à inviter toute personne de votre entourage qui pourrait être intéressée à se joindre à nous dans cette mission.
URL:https://academy.amplivo.com/event/presentation-2/
CATEGORIES:Presentation
ATTACH;FMTTYPE=image/jpeg:https://academy.amplivo.com/wp-content/uploads/Lundi-28-19h.jpeg
END:VEVENT
BEGIN:VEVENT
DTSTART;TZID=Europe/Madrid:20250728T200000
DTEND;TZID=Europe/Madrid:20250728T200000
DTSTAMP:20260419T223715
CREATED:20250724T155450Z
LAST-MODIFIED:20250724T160117Z
UID:10000023-1753732800-1753732800@academy.amplivo.com
SUMMARY:Presentación
DESCRIPTION:En esta presentación de la Oportunidad de Negocio de Amplivo\, compartiremos contigo información sobre cómo puedes ayudar a limpiar el planeta y mejorar tu calidad de vida al mismo tiempo\, todo desde la comodidad de tu hogar. No dudes en invitar a cualquier persona que creas que pueda estar interesada en unirse a nuestra misión.
URL:https://academy.amplivo.com/event/presentacion/
CATEGORIES:Presentation
ATTACH;FMTTYPE=image/jpeg:https://academy.amplivo.com/wp-content/uploads/Lluis-1.jpg
END:VEVENT
BEGIN:VEVENT
DTSTART;TZID=Europe/Berlin:20250728T200000
DTEND;TZID=Europe/Berlin:20250728T203000
DTSTAMP:20260419T223715
CREATED:20250724T085855Z
LAST-MODIFIED:20250724T090129Z
UID:10000022-1753732800-1753734600@academy.amplivo.com
SUMMARY:Präsentation
DESCRIPTION:In dieser Präsentation der Amplivo-Geschäftsgelegenheit werden wir Ihnen Informationen darüber geben\, wie Sie helfen können\, den Planeten zu säubern und gleichzeitig Ihre Lebensqualität zu verbessern\, und das alles bequem von zu Hause aus.\nBitte laden Sie auch alle anderen Personen ein\, die Sie kennen und die daran interessiert sein könnten\, uns bei unserer Mission zu unterstützen.
URL:https://academy.amplivo.com/event/prasentation/
CATEGORIES:Presentation
ATTACH;FMTTYPE=image/jpeg:https://academy.amplivo.com/wp-content/uploads/Prasentation.jpg
END:VEVENT
BEGIN:VEVENT
DTSTART;TZID=Europe/Paris:20250728T213000
DTEND;TZID=Europe/Paris:20250728T223000
DTSTAMP:20260419T223715
CREATED:20250725T233505Z
LAST-MODIFIED:20250725T233604Z
UID:10000027-1753738200-1753741800@academy.amplivo.com
SUMMARY:Apresentação
DESCRIPTION:Nesta apresentação da Oportunidade de Negócio Amplivo\, iremos partilhar informações sobre como pode ajudar a limpar o planeta e melhorar a sua qualidade de vida ao mesmo tempo\, tudo a partir do conforto da sua casa.\nSinta-se à vontade para convidar qualquer pessoa que conheça\, e que possa estar interessada em juntar-se a nós\, no cumprimento da nossa missão.
URL:https://academy.amplivo.com/event/apresentacao/
CATEGORIES:Presentation
ATTACH;FMTTYPE=image/jpeg:https://academy.amplivo.com/wp-content/uploads/Apresentacao-portugese-Mondays.001.jpeg
END:VEVENT
BEGIN:VEVENT
DTSTART;TZID=UTC:20250729T200000
DTEND;TZID=UTC:20250729T203000
DTSTAMP:20260419T223715
CREATED:20250723T112605Z
LAST-MODIFIED:20250723T112802Z
UID:10000021-1753819200-1753821000@academy.amplivo.com
SUMMARY:Presentatie
DESCRIPTION:In deze presentatie van de Amplivo Business Opportunity laten we je zien hoe je zowel kunt helpen om de planeet op te ruimen als je eigen leven kunt verbeteren\, allemaal vanuit het comfort van je eigen huis. \nVoel je vrij om iedereen uit te nodigen die ook geïnteresseerd is om zich aan te sluiten bij onze missie.
URL:https://academy.amplivo.com/event/presentatie/
CATEGORIES:Presentation
ATTACH;FMTTYPE=image/jpeg:https://academy.amplivo.com/wp-content/uploads/photo_2025-05-07_15-53-38.jpg
END:VEVENT
BEGIN:VEVENT
DTSTART;TZID=Europe/Paris:20250730T200000
DTEND;TZID=Europe/Paris:20250730T203000
DTSTAMP:20260419T223715
CREATED:20250725T100852Z
LAST-MODIFIED:20250725T101136Z
UID:10000025-1753905600-1753907400@academy.amplivo.com
SUMMARY:Présentation
DESCRIPTION:Dans cette présentation de l’opportunité d’affaires Amplivo\, nous vous expliquerons comment contribuer à nettoyer la planète tout en améliorant votre qualité de vie – le tout depuis le confort de votre maison. \nN’hésitez pas à inviter toute personne de votre entourage qui pourrait être intéressée à se joindre à nous dans cette mission. 
URL:https://academy.amplivo.com/event/presentation-3/
CATEGORIES:Presentation
ATTACH;FMTTYPE=image/jpeg:https://academy.amplivo.com/wp-content/uploads/Mercredi-30-20h.jpeg
END:VEVENT
BEGIN:VEVENT
DTSTART;TZID=Europe/Paris:20250730T213000
DTEND;TZID=Europe/Paris:20250730T223000
DTSTAMP:20260419T223715
CREATED:20250725T234149Z
LAST-MODIFIED:20250725T234149Z
UID:10000029-1753911000-1753914600@academy.amplivo.com
SUMMARY:Formação
DESCRIPTION:Estas formações\, ministradas pelos principais líderes da empresa\, irão ajudá-lo a crescer e a desenvolver o seu negócio Amplivo\, para que possa viver a vida que realmente merece\, ao mesmo tempo que ajuda a limpar o planeta para benefício das gerações futuras.
URL:https://academy.amplivo.com/event/formacao/
CATEGORIES:Training
ATTACH;FMTTYPE=image/jpeg:https://academy.amplivo.com/wp-content/uploads/Formacao_-portugese-wednesdays.001.jpeg
END:VEVENT
BEGIN:VEVENT
DTSTART;TZID=Europe/Paris:20250731T120000
DTEND;TZID=Europe/Paris:20250731T123000
DTSTAMP:20260419T223715
CREATED:20250725T101457Z
LAST-MODIFIED:20250725T101457Z
UID:10000026-1753963200-1753965000@academy.amplivo.com
SUMMARY:Présentation
DESCRIPTION:Dans cette présentation de l’opportunité d’affaires Amplivo\, nous vous expliquerons comment contribuer à nettoyer la planète tout en améliorant votre qualité de vie – le tout depuis le confort de votre maison. \nN’hésitez pas à inviter toute personne de votre entourage qui pourrait être intéressée à se joindre à nous dans cette mission. 
URL:https://academy.amplivo.com/event/presentation-4/
CATEGORIES:Presentation
ATTACH;FMTTYPE=image/jpeg:https://academy.amplivo.com/wp-content/uploads/Jeudi-31-12h.jpeg
END:VEVENT
BEGIN:VEVENT
DTSTART;TZID=Europe/Paris:20250731T200000
DTEND;TZID=Europe/Paris:20250731T210000
DTSTAMP:20260419T223715
CREATED:20250728T093821Z
LAST-MODIFIED:20250728T093821Z
UID:10000030-1753992000-1753995600@academy.amplivo.com
SUMMARY:Formation
DESCRIPTION:Ces formations\, dispensées par les meilleurs leaders de l’entreprise\, vous aident à développer votre activité Amplivo afin que vous puissiez vivre pleinement la vie que vous méritez\, tout en contribuant à nettoyer la planète pour les générations futures.
URL:https://academy.amplivo.com/event/formation/
CATEGORIES:Training
ATTACH;FMTTYPE=image/jpeg:https://academy.amplivo.com/wp-content/uploads/Jeudi-31-20H.jpeg
END:VEVENT
BEGIN:VEVENT
DTSTART;TZID=UTC:20250731T210000
DTEND;TZID=UTC:20250731T213000
DTSTAMP:20260419T223715
CREATED:20250730T105526Z
LAST-MODIFIED:20250731T080639Z
UID:10000031-1753995600-1753997400@academy.amplivo.com
SUMMARY:Presentazione (IT)
DESCRIPTION:Presentazione in lingua italiana del business Corsair-Amplivo. In questo evento zoom di presentazione\, i migliori relatori italiani si impegnano a far capire cosa facciamo\, dal piano industriale al plastic credit CSR25.
URL:https://academy.amplivo.com/event/presentazione/
CATEGORIES:Presentation
ATTACH;FMTTYPE=image/jpeg:https://academy.amplivo.com/wp-content/uploads/GIOVEDI.jpg
END:VEVENT
BEGIN:VEVENT
DTSTART;TZID=Europe/Paris:20250731T213000
DTEND;TZID=Europe/Paris:20250731T223000
DTSTAMP:20260419T223715
CREATED:20250725T233828Z
LAST-MODIFIED:20250725T234227Z
UID:10000028-1753997400-1754001000@academy.amplivo.com
SUMMARY:Apresentação
DESCRIPTION:Nesta apresentação da Oportunidade de Negócio Amplivo\, iremos partilhar informações sobre como pode ajudar a limpar o planeta e melhorar a sua qualidade de vida ao mesmo tempo\, tudo a partir do conforto da sua casa.\nSinta-se à vontade para convidar qualquer pessoa que conheça\, e que possa estar interessada em juntar-se a nós\, no cumprimento da nossa missão.
URL:https://academy.amplivo.com/event/apresentacao-2/
CATEGORIES:Presentation
ATTACH;FMTTYPE=image/jpeg:https://academy.amplivo.com/wp-content/uploads/Apresentacao-portugese-Thursdays.001.jpeg
END:VEVENT
BEGIN:VEVENT
DTSTART;TZID=Europe/Madrid:20250804T200000
DTEND;TZID=Europe/Madrid:20250804T200000
DTSTAMP:20260419T223715
CREATED:20250731T092018Z
LAST-MODIFIED:20250731T092259Z
UID:10000032-1754337600-1754337600@academy.amplivo.com
SUMMARY:Presentacion (ES)
DESCRIPTION:En esta presentación de la Oportunidad de Negocio de Amplivo\, compartiremos contigo información sobre cómo puedes ayudar a limpiar el planeta y mejorar tu calidad de vida al mismo tiempo\, todo desde la comodidad de tu hogar. No dudes en invitar a cualquier persona que creas que pueda estar interesada en unirse a nuestra misión.
URL:https://academy.amplivo.com/event/presentaciones/
CATEGORIES:Presentation
ATTACH;FMTTYPE=image/jpeg:https://academy.amplivo.com/wp-content/uploads/Lluis-2.jpg
END:VEVENT
BEGIN:VEVENT
DTSTART;TZID=UTC:20250804T200000
DTEND;TZID=UTC:20250804T203000
DTSTAMP:20260419T223715
CREATED:20250731T102515Z
LAST-MODIFIED:20250731T102515Z
UID:10000033-1754337600-1754339400@academy.amplivo.com
SUMMARY:Präsentation (DE)
DESCRIPTION:In dieser Präsentation der Amplivo-Geschäftsgelegenheit werden wir Ihnen Informationen darüber geben\, wie Sie helfen können\, den Planeten zu säubern und gleichzeitig Ihre Lebensqualität zu verbessern\, und das alles bequem von zu Hause aus.\nBitte laden Sie auch alle anderen Personen ein\, die Sie kennen und die daran interessiert sein könnten\, uns bei unserer Mission zu unterstützen.
URL:https://academy.amplivo.com/event/prasentation-de/
CATEGORIES:Presentation
ATTACH;FMTTYPE=image/jpeg:https://academy.amplivo.com/wp-content/uploads/Prasentation-1.jpg
END:VEVENT
BEGIN:VEVENT
DTSTART;TZID=UTC:20250804T203000
DTEND;TZID=UTC:20250804T220000
DTSTAMP:20260419T223715
CREATED:20250804T092317Z
LAST-MODIFIED:20250804T092635Z
UID:10001925-1754339400-1754344800@academy.amplivo.com
SUMMARY:Formazione (IT)
DESCRIPTION:Formazione italiana in compagnia dei Top Leader e del Global Leader dott. Andrea Cerio. Ogni Lunedì\, informazioni e formazione tecnica e motivazionale.
URL:https://academy.amplivo.com/event/formazione-it-3/2025-08-04/
CATEGORIES:Training
ATTACH;FMTTYPE=image/jpeg:https://academy.amplivo.com/wp-content/uploads/Form.ITA_.jpg
END:VEVENT
BEGIN:VEVENT
DTSTART;TZID=Europe/Paris:20250804T213000
DTEND;TZID=Europe/Paris:20250804T223000
DTSTAMP:20260419T223715
CREATED:20250803T151340Z
LAST-MODIFIED:20250803T151340Z
UID:10000042-1754343000-1754346600@academy.amplivo.com
SUMMARY:Apresentação (PT)
DESCRIPTION:Nesta apresentação da Oportunidade de Negócio Amplivo\, iremos partilhar informações sobre como pode ajudar a limpar o planeta e melhorar a sua qualidade de vida ao mesmo tempo\, tudo a partir do conforto da sua casa.\nSinta-se à vontade para convidar qualquer pessoa que conheça\, e que possa estar interessada em juntar-se a nós\, no cumprimento da nossa missão.
URL:https://academy.amplivo.com/event/apresentacao-pt/
CATEGORIES:Presentation
ATTACH;FMTTYPE=image/jpeg:https://academy.amplivo.com/wp-content/uploads/WhatsApp-Image-2025-08-03-at-16.10.08-2.jpeg
END:VEVENT
BEGIN:VEVENT
DTSTART;TZID=Europe/Madrid:20250805T200000
DTEND;TZID=Europe/Madrid:20250805T200000
DTSTAMP:20260419T223715
CREATED:20250803T100235Z
LAST-MODIFIED:20250803T100235Z
UID:10000040-1754424000-1754424000@academy.amplivo.com
SUMMARY:Formación (ES)
DESCRIPTION:Estas formaciones\, impartidas por los principales líderes de la compañía\, te ayudarán a hacer crecer y desarrollar tu negocio con Amplivo\, para que puedas vivir la vida que realmente mereces mientras contribuyes a limpiar el planeta para las futuras generaciones.
URL:https://academy.amplivo.com/event/formacion-es/
CATEGORIES:Training
ATTACH;FMTTYPE=image/jpeg:https://academy.amplivo.com/wp-content/uploads/Formacion-Andrea.jpg
END:VEVENT
BEGIN:VEVENT
DTSTART;TZID=UTC:20250805T200000
DTEND;TZID=UTC:20250805T203000
DTSTAMP:20260419T223715
CREATED:20250804T090237Z
LAST-MODIFIED:20250804T090237Z
UID:10000053-1754424000-1754425800@academy.amplivo.com
SUMMARY:Presentatie
DESCRIPTION:In deze presentatie van de Amplivo Business Opportunity laten we je zien hoe je zowel kunt helpen om de planeet op te ruimen als je eigen leven kunt verbeteren\, allemaal vanuit het comfort van je eigen huis. \nVoel je vrij om iedereen uit te nodigen die ook geïnteresseerd is om zich aan te sluiten bij onze missie.
URL:https://academy.amplivo.com/event/presentatie-2/
CATEGORIES:Presentation
ATTACH;FMTTYPE=image/jpeg:https://academy.amplivo.com/wp-content/uploads/photo_2025-05-07_15-53-38-1.jpg
END:VEVENT
BEGIN:VEVENT
DTSTART;TZID=UTC:20250805T210000
DTEND;TZID=UTC:20250805T213000
DTSTAMP:20260419T223715
CREATED:20250803T164306Z
LAST-MODIFIED:20250803T164606Z
UID:10000050-1754427600-1754429400@academy.amplivo.com
SUMMARY:Presentazione (IT)
DESCRIPTION:Presentazione in lingua italiana del business Corsair-Amplivo. In questo evento zoom di presentazione\, i migliori relatori italiani si impegnano a far capire cosa facciamo\, dal piano industriale al plastic credit CSR25.
URL:https://academy.amplivo.com/event/presentazione-it/
CATEGORIES:Presentation
ATTACH;FMTTYPE=image/jpeg:https://academy.amplivo.com/wp-content/uploads/MARTEDI.jpg
END:VEVENT
BEGIN:VEVENT
DTSTART;TZID=UTC:20250805T211500
DTEND;TZID=UTC:20250805T221500
DTSTAMP:20260419T223715
CREATED:20250804T095332Z
LAST-MODIFIED:20250804T095636Z
UID:10004274-1754428500-1754432100@academy.amplivo.com
SUMMARY:Training (ENG)
DESCRIPTION:Training with the Global Leader dott. Andrea Cerio\, training on technical and motivational topics.
URL:https://academy.amplivo.com/event/training-eng-3/2025-08-05/
CATEGORIES:Training
ATTACH;FMTTYPE=image/jpeg:https://academy.amplivo.com/wp-content/uploads/Form.ENG_.jpg
END:VEVENT
BEGIN:VEVENT
DTSTART;TZID=Europe/Paris:20250806T200000
DTEND;TZID=Europe/Paris:20250806T203000
DTSTAMP:20260419T223715
CREATED:20250802T152347Z
LAST-MODIFIED:20250805T074248Z
UID:10000037-1754510400-1754512200@academy.amplivo.com
SUMMARY:Présentation (FR)
DESCRIPTION:Dans cette présentation de l’opportunité d’affaires Amplivo\, nous vous expliquerons comment contribuer à nettoyer la planète tout en améliorant votre qualité de vie – le tout depuis le confort de votre maison. \nN’hésitez pas à inviter toute personne de votre entourage qui pourrait être intéressée à se joindre à nous dans cette mission. 
URL:https://academy.amplivo.com/event/presentation-fr/
CATEGORIES:Presentation
ATTACH;FMTTYPE=image/jpeg:https://academy.amplivo.com/wp-content/uploads/mercredi-6-20h.jpeg
END:VEVENT
BEGIN:VEVENT
DTSTART;TZID=UTC:20250806T203000
DTEND;TZID=UTC:20250806T220000
DTSTAMP:20260419T223715
CREATED:20250803T165640Z
LAST-MODIFIED:20250803T165910Z
UID:10000051-1754512200-1754517600@academy.amplivo.com
SUMMARY:Formazione speciale  (IT)
DESCRIPTION:Formazione LIVE e ZOOM\, “IL VALORE DEL TUO TEMPO”\, filosofie network\, il tempo da ottimizzare fino alla piena esplosione dei mercati\, come valorizzare il tuo part-time fino al full time.
URL:https://academy.amplivo.com/event/formazione-speciale-it/
CATEGORIES:Training
ATTACH;FMTTYPE=image/jpeg:https://academy.amplivo.com/wp-content/uploads/IMG_4564.jpg
END:VEVENT
BEGIN:VEVENT
DTSTART;TZID=Europe/Paris:20250806T213000
DTEND;TZID=Europe/Paris:20250806T223000
DTSTAMP:20260419T223715
CREATED:20250803T151900Z
LAST-MODIFIED:20250803T151900Z
UID:10000046-1754515800-1754519400@academy.amplivo.com
SUMMARY:Formação (PT)
DESCRIPTION:Estas formações\, ministradas pelos principais líderes da empresa\, irão ajudá-lo a crescer e a desenvolver o seu negócio Amplivo\, para que possa viver a vida que realmente merece\, ao mesmo tempo que ajuda a limpar o planeta para benefício das gerações futuras.
URL:https://academy.amplivo.com/event/formacao-pt/
CATEGORIES:Training
ATTACH;FMTTYPE=image/jpeg:https://academy.amplivo.com/wp-content/uploads/WhatsApp-Image-2025-08-03-at-16.10.09-2.jpeg
END:VEVENT
BEGIN:VEVENT
DTSTART;TZID=Europe/Paris:20250807T120000
DTEND;TZID=Europe/Paris:20250807T123000
DTSTAMP:20260419T223715
CREATED:20250802T152625Z
LAST-MODIFIED:20250802T152625Z
UID:10000038-1754568000-1754569800@academy.amplivo.com
SUMMARY:Présentation (FR)
DESCRIPTION:Dans cette présentation de l’opportunité d’affaires Amplivo\, nous vous expliquerons comment contribuer à nettoyer la planète tout en améliorant votre qualité de vie – le tout depuis le confort de votre maison. \nN’hésitez pas à inviter toute personne de votre entourage qui pourrait être intéressée à se joindre à nous dans cette mission. 
URL:https://academy.amplivo.com/event/presentation-fr-2/
CATEGORIES:Presentation
ATTACH;FMTTYPE=image/jpeg:https://academy.amplivo.com/wp-content/uploads/jeudi-7-midi-prez.jpeg
END:VEVENT
BEGIN:VEVENT
DTSTART;TZID=Europe/Amsterdam:20250807T190000
DTEND;TZID=Europe/Amsterdam:20250807T193000
DTSTAMP:20260419T223715
CREATED:20250731T153420Z
LAST-MODIFIED:20250731T153420Z
UID:10000035-1754593200-1754595000@academy.amplivo.com
SUMMARY:Presentation ENG
DESCRIPTION:In this presentation of the Amplivo Business Opportunity we will be sharing information with you on how you can help clean up the planet and improve your quality of life at the same time\, all from the comfort of your own home. Please feel free to invite anyone else you know who might be interested in joining us on our mission.
URL:https://academy.amplivo.com/event/presentation-eng/2025-08-07/
CATEGORIES:Presentation
ATTACH;FMTTYPE=image/jpeg:https://academy.amplivo.com/wp-content/uploads/Flyer-7th-August-2025.jpg
END:VEVENT
BEGIN:VEVENT
DTSTART;TZID=Europe/Paris:20250807T200000
DTEND;TZID=Europe/Paris:20250807T210000
DTSTAMP:20260419T223715
CREATED:20250802T152835Z
LAST-MODIFIED:20250802T152835Z
UID:10000039-1754596800-1754600400@academy.amplivo.com
SUMMARY:Formation (FR)
DESCRIPTION:Ces formations\, dispensées par les meilleurs leaders de l’entreprise\, vous aident à développer votre activité Amplivo afin que vous puissiez vivre pleinement la vie que vous méritez\, tout en contribuant à nettoyer la planète pour les générations futures.
URL:https://academy.amplivo.com/event/formation-fr/
CATEGORIES:Training
ATTACH;FMTTYPE=image/jpeg:https://academy.amplivo.com/wp-content/uploads/jeudi-7-20H-Formation.jpeg
END:VEVENT
BEGIN:VEVENT
DTSTART;TZID=UTC:20250807T210000
DTEND;TZID=UTC:20250807T213000
DTSTAMP:20260419T223715
CREATED:20250803T172216Z
LAST-MODIFIED:20250803T172216Z
UID:10000052-1754600400-1754602200@academy.amplivo.com
SUMMARY:Presentazione (IT)
DESCRIPTION:Presentazione in lingua italiana del business Corsair-Amplivo. In questo evento zoom di presentazione\, i migliori relatori italiani si impegnano a far capire cosa facciamo\, dal piano industriale al plastic credit CSR25.
URL:https://academy.amplivo.com/event/presentazione-it-2/
CATEGORIES:Presentation
ATTACH;FMTTYPE=image/jpeg:https://academy.amplivo.com/wp-content/uploads/GIOVEDI-1.jpg
END:VEVENT
BEGIN:VEVENT
DTSTART;TZID=Europe/Paris:20250807T213000
DTEND;TZID=Europe/Paris:20250807T223000
DTSTAMP:20260419T223715
CREATED:20250803T151702Z
LAST-MODIFIED:20250803T151702Z
UID:10000044-1754602200-1754605800@academy.amplivo.com
SUMMARY:Apresentação (PT)
DESCRIPTION:Nesta apresentação da Oportunidade de Negócio Amplivo\, iremos partilhar informações sobre como pode ajudar a limpar o planeta e melhorar a sua qualidade de vida ao mesmo tempo\, tudo a partir do conforto da sua casa.\nSinta-se à vontade para convidar qualquer pessoa que conheça\, e que possa estar interessada em juntar-se a nós\, no cumprimento da nossa missão.
URL:https://academy.amplivo.com/event/apresentacao-pt-2/
CATEGORIES:Presentation
ATTACH;FMTTYPE=image/jpeg:https://academy.amplivo.com/wp-content/uploads/WhatsApp-Image-2025-08-03-at-16.10.09-1.jpeg
END:VEVENT
BEGIN:VEVENT
DTSTART;TZID=Europe/Madrid:20250811T200000
DTEND;TZID=Europe/Madrid:20250811T200000
DTSTAMP:20260419T223715
CREATED:20250803T101444Z
LAST-MODIFIED:20250803T101444Z
UID:10000041-1754942400-1754942400@academy.amplivo.com
SUMMARY:Presentacion (ES)
DESCRIPTION:En esta presentación de la Oportunidad de Negocio de Amplivo\, compartiremos contigo información sobre cómo puedes ayudar a limpiar el planeta y mejorar tu calidad de vida al mismo tiempo\, todo desde la comodidad de tu hogar. No dudes en invitar a cualquier persona que creas que pueda estar interesada en unirse a nuestra misión.
URL:https://academy.amplivo.com/event/presentacion-es/
CATEGORIES:Presentation
ATTACH;FMTTYPE=image/jpeg:https://academy.amplivo.com/wp-content/uploads/Presentacion-Toni.jpg
END:VEVENT
BEGIN:VEVENT
DTSTART;TZID=UTC:20250811T200000
DTEND;TZID=UTC:20250811T203000
DTSTAMP:20260419T223715
CREATED:20250731T122540Z
LAST-MODIFIED:20250731T122540Z
UID:10000034-1754942400-1754944200@academy.amplivo.com
SUMMARY:Präsentation (DE)
DESCRIPTION:In dieser Präsentation der Amplivo-Geschäftsgelegenheit werden wir Ihnen Informationen darüber geben\, wie Sie helfen können\, den Planeten zu säubern und gleichzeitig Ihre Lebensqualität zu verbessern\, und das alles bequem von zu Hause aus. \nBitte laden Sie auch alle anderen Personen ein\, die Sie kennen und die daran interessiert sein könnten\, uns bei unserer Mission zu unterstützen.
URL:https://academy.amplivo.com/event/prasentation-de-2/
CATEGORIES:Presentation
ATTACH;FMTTYPE=image/jpeg:https://academy.amplivo.com/wp-content/uploads/Prasentation-2.jpg
END:VEVENT
END:VCALENDAR