BEGIN:VCALENDAR
VERSION:2.0
PRODID:-//Amplivo Academy - ECPv6.3.5//NONSGML v1.0//EN
CALSCALE:GREGORIAN
METHOD:PUBLISH
X-ORIGINAL-URL:https://academy.amplivo.com
X-WR-CALDESC:Events for Amplivo Academy
REFRESH-INTERVAL;VALUE=DURATION:PT1H
X-Robots-Tag:noindex
X-PUBLISHED-TTL:PT1H
BEGIN:VTIMEZONE
TZID:UTC
BEGIN:STANDARD
TZOFFSETFROM:+0000
TZOFFSETTO:+0000
TZNAME:UTC
DTSTART:20290101T000000
END:STANDARD
END:VTIMEZONE
BEGIN:VEVENT
DTSTART;TZID=UTC:20291217T203000
DTEND;TZID=UTC:20291217T220000
DTSTAMP:20260422T021705
CREATED:20260228T133747Z
LAST-MODIFIED:20260228T133747Z
UID:10007317-1892233800-1892239200@academy.amplivo.com
SUMMARY:Formazione (IT)
DESCRIPTION:Formazione italiana in compagnia dei Top Leader e del Global Leader dott. Andrea Cerio. Ogni Lunedì\, informazioni e formazione tecnica e motivazionale.
URL:https://academy.amplivo.com/event/formazione-it-5/2029-12-17/
CATEGORIES:Training
ATTACH;FMTTYPE=image/jpeg:https://academy.amplivo.com/wp-content/uploads/Form.ITA_.jpg
END:VEVENT
BEGIN:VEVENT
DTSTART;TZID=UTC:20291218T200000
DTEND;TZID=UTC:20291218T210000
DTSTAMP:20260422T021705
CREATED:20260228T133108Z
LAST-MODIFIED:20260228T133108Z
UID:10006795-1892318400-1892322000@academy.amplivo.com
SUMMARY:Formación (ES)
DESCRIPTION:Estas formaciones\, impartidas por los principales líderes de la compañía\, te ayudarán a hacer crecer y desarrollar tu negocio con Amplivo\, para que puedas vivir la vida que realmente mereces mientras contribuyes a limpiar el planeta para las futuras generaciones.
URL:https://academy.amplivo.com/event/formacion-es-4/2029-12-18/
CATEGORIES:Training
ATTACH;FMTTYPE=image/jpeg:https://academy.amplivo.com/wp-content/uploads/Form.ESP_.jpg
END:VEVENT
BEGIN:VEVENT
DTSTART;TZID=UTC:20291218T211500
DTEND;TZID=UTC:20291218T221500
DTSTAMP:20260422T021705
CREATED:20260228T133343Z
LAST-MODIFIED:20260228T133343Z
UID:10007056-1892322900-1892326500@academy.amplivo.com
SUMMARY:Training (ENG)
DESCRIPTION:Training with the Global Leader dott. Andrea Cerio\, training on technical and motivational topics.
URL:https://academy.amplivo.com/event/training-eng-4/2029-12-18/
CATEGORIES:Training
ATTACH;FMTTYPE=image/jpeg:https://academy.amplivo.com/wp-content/uploads/Form.ENG_.jpg
END:VEVENT
BEGIN:VEVENT
DTSTART;TZID=UTC:20291224T203000
DTEND;TZID=UTC:20291224T220000
DTSTAMP:20260422T021705
CREATED:20260228T133747Z
LAST-MODIFIED:20260228T133747Z
UID:10007318-1892838600-1892844000@academy.amplivo.com
SUMMARY:Formazione (IT)
DESCRIPTION:Formazione italiana in compagnia dei Top Leader e del Global Leader dott. Andrea Cerio. Ogni Lunedì\, informazioni e formazione tecnica e motivazionale.
URL:https://academy.amplivo.com/event/formazione-it-5/2029-12-24/
CATEGORIES:Training
ATTACH;FMTTYPE=image/jpeg:https://academy.amplivo.com/wp-content/uploads/Form.ITA_.jpg
END:VEVENT
BEGIN:VEVENT
DTSTART;TZID=UTC:20291225T200000
DTEND;TZID=UTC:20291225T210000
DTSTAMP:20260422T021705
CREATED:20260228T133108Z
LAST-MODIFIED:20260228T133108Z
UID:10006796-1892923200-1892926800@academy.amplivo.com
SUMMARY:Formación (ES)
DESCRIPTION:Estas formaciones\, impartidas por los principales líderes de la compañía\, te ayudarán a hacer crecer y desarrollar tu negocio con Amplivo\, para que puedas vivir la vida que realmente mereces mientras contribuyes a limpiar el planeta para las futuras generaciones.
URL:https://academy.amplivo.com/event/formacion-es-4/2029-12-25/
CATEGORIES:Training
ATTACH;FMTTYPE=image/jpeg:https://academy.amplivo.com/wp-content/uploads/Form.ESP_.jpg
END:VEVENT
BEGIN:VEVENT
DTSTART;TZID=UTC:20291225T211500
DTEND;TZID=UTC:20291225T221500
DTSTAMP:20260422T021705
CREATED:20260228T133343Z
LAST-MODIFIED:20260228T133343Z
UID:10007057-1892927700-1892931300@academy.amplivo.com
SUMMARY:Training (ENG)
DESCRIPTION:Training with the Global Leader dott. Andrea Cerio\, training on technical and motivational topics.
URL:https://academy.amplivo.com/event/training-eng-4/2029-12-25/
CATEGORIES:Training
ATTACH;FMTTYPE=image/jpeg:https://academy.amplivo.com/wp-content/uploads/Form.ENG_.jpg
END:VEVENT
BEGIN:VEVENT
DTSTART;TZID=UTC:20291231T203000
DTEND;TZID=UTC:20291231T220000
DTSTAMP:20260422T021705
CREATED:20260228T133747Z
LAST-MODIFIED:20260228T133747Z
UID:10007319-1893443400-1893448800@academy.amplivo.com
SUMMARY:Formazione (IT)
DESCRIPTION:Formazione italiana in compagnia dei Top Leader e del Global Leader dott. Andrea Cerio. Ogni Lunedì\, informazioni e formazione tecnica e motivazionale.
URL:https://academy.amplivo.com/event/formazione-it-5/2029-12-31/
CATEGORIES:Training
ATTACH;FMTTYPE=image/jpeg:https://academy.amplivo.com/wp-content/uploads/Form.ITA_.jpg
END:VEVENT
BEGIN:VEVENT
DTSTART;TZID=UTC:20300101T200000
DTEND;TZID=UTC:20300101T210000
DTSTAMP:20260422T021705
CREATED:20260228T133108Z
LAST-MODIFIED:20260228T133108Z
UID:10006797-1893528000-1893531600@academy.amplivo.com
SUMMARY:Formación (ES)
DESCRIPTION:Estas formaciones\, impartidas por los principales líderes de la compañía\, te ayudarán a hacer crecer y desarrollar tu negocio con Amplivo\, para que puedas vivir la vida que realmente mereces mientras contribuyes a limpiar el planeta para las futuras generaciones.
URL:https://academy.amplivo.com/event/formacion-es-4/2030-01-01/
CATEGORIES:Training
ATTACH;FMTTYPE=image/jpeg:https://academy.amplivo.com/wp-content/uploads/Form.ESP_.jpg
END:VEVENT
BEGIN:VEVENT
DTSTART;TZID=UTC:20300101T211500
DTEND;TZID=UTC:20300101T221500
DTSTAMP:20260422T021705
CREATED:20260228T133343Z
LAST-MODIFIED:20260228T133343Z
UID:10007058-1893532500-1893536100@academy.amplivo.com
SUMMARY:Training (ENG)
DESCRIPTION:Training with the Global Leader dott. Andrea Cerio\, training on technical and motivational topics.
URL:https://academy.amplivo.com/event/training-eng-4/2030-01-01/
CATEGORIES:Training
ATTACH;FMTTYPE=image/jpeg:https://academy.amplivo.com/wp-content/uploads/Form.ENG_.jpg
END:VEVENT
BEGIN:VEVENT
DTSTART;TZID=UTC:20300107T203000
DTEND;TZID=UTC:20300107T220000
DTSTAMP:20260422T021705
CREATED:20260228T133747Z
LAST-MODIFIED:20260228T133747Z
UID:10007320-1894048200-1894053600@academy.amplivo.com
SUMMARY:Formazione (IT)
DESCRIPTION:Formazione italiana in compagnia dei Top Leader e del Global Leader dott. Andrea Cerio. Ogni Lunedì\, informazioni e formazione tecnica e motivazionale.
URL:https://academy.amplivo.com/event/formazione-it-5/2030-01-07/
CATEGORIES:Training
ATTACH;FMTTYPE=image/jpeg:https://academy.amplivo.com/wp-content/uploads/Form.ITA_.jpg
END:VEVENT
BEGIN:VEVENT
DTSTART;TZID=UTC:20300108T200000
DTEND;TZID=UTC:20300108T210000
DTSTAMP:20260422T021705
CREATED:20260228T133108Z
LAST-MODIFIED:20260228T133108Z
UID:10006798-1894132800-1894136400@academy.amplivo.com
SUMMARY:Formación (ES)
DESCRIPTION:Estas formaciones\, impartidas por los principales líderes de la compañía\, te ayudarán a hacer crecer y desarrollar tu negocio con Amplivo\, para que puedas vivir la vida que realmente mereces mientras contribuyes a limpiar el planeta para las futuras generaciones.
URL:https://academy.amplivo.com/event/formacion-es-4/2030-01-08/
CATEGORIES:Training
ATTACH;FMTTYPE=image/jpeg:https://academy.amplivo.com/wp-content/uploads/Form.ESP_.jpg
END:VEVENT
BEGIN:VEVENT
DTSTART;TZID=UTC:20300108T211500
DTEND;TZID=UTC:20300108T221500
DTSTAMP:20260422T021705
CREATED:20260228T133343Z
LAST-MODIFIED:20260228T133343Z
UID:10007059-1894137300-1894140900@academy.amplivo.com
SUMMARY:Training (ENG)
DESCRIPTION:Training with the Global Leader dott. Andrea Cerio\, training on technical and motivational topics.
URL:https://academy.amplivo.com/event/training-eng-4/2030-01-08/
CATEGORIES:Training
ATTACH;FMTTYPE=image/jpeg:https://academy.amplivo.com/wp-content/uploads/Form.ENG_.jpg
END:VEVENT
BEGIN:VEVENT
DTSTART;TZID=UTC:20300114T203000
DTEND;TZID=UTC:20300114T220000
DTSTAMP:20260422T021705
CREATED:20260228T133747Z
LAST-MODIFIED:20260228T133747Z
UID:10007321-1894653000-1894658400@academy.amplivo.com
SUMMARY:Formazione (IT)
DESCRIPTION:Formazione italiana in compagnia dei Top Leader e del Global Leader dott. Andrea Cerio. Ogni Lunedì\, informazioni e formazione tecnica e motivazionale.
URL:https://academy.amplivo.com/event/formazione-it-5/2030-01-14/
CATEGORIES:Training
ATTACH;FMTTYPE=image/jpeg:https://academy.amplivo.com/wp-content/uploads/Form.ITA_.jpg
END:VEVENT
BEGIN:VEVENT
DTSTART;TZID=UTC:20300115T200000
DTEND;TZID=UTC:20300115T210000
DTSTAMP:20260422T021705
CREATED:20260228T133108Z
LAST-MODIFIED:20260228T133108Z
UID:10006799-1894737600-1894741200@academy.amplivo.com
SUMMARY:Formación (ES)
DESCRIPTION:Estas formaciones\, impartidas por los principales líderes de la compañía\, te ayudarán a hacer crecer y desarrollar tu negocio con Amplivo\, para que puedas vivir la vida que realmente mereces mientras contribuyes a limpiar el planeta para las futuras generaciones.
URL:https://academy.amplivo.com/event/formacion-es-4/2030-01-15/
CATEGORIES:Training
ATTACH;FMTTYPE=image/jpeg:https://academy.amplivo.com/wp-content/uploads/Form.ESP_.jpg
END:VEVENT
BEGIN:VEVENT
DTSTART;TZID=UTC:20300115T211500
DTEND;TZID=UTC:20300115T221500
DTSTAMP:20260422T021705
CREATED:20260228T133343Z
LAST-MODIFIED:20260228T133343Z
UID:10007060-1894742100-1894745700@academy.amplivo.com
SUMMARY:Training (ENG)
DESCRIPTION:Training with the Global Leader dott. Andrea Cerio\, training on technical and motivational topics.
URL:https://academy.amplivo.com/event/training-eng-4/2030-01-15/
CATEGORIES:Training
ATTACH;FMTTYPE=image/jpeg:https://academy.amplivo.com/wp-content/uploads/Form.ENG_.jpg
END:VEVENT
BEGIN:VEVENT
DTSTART;TZID=UTC:20300121T203000
DTEND;TZID=UTC:20300121T220000
DTSTAMP:20260422T021705
CREATED:20260228T133747Z
LAST-MODIFIED:20260228T133747Z
UID:10007322-1895257800-1895263200@academy.amplivo.com
SUMMARY:Formazione (IT)
DESCRIPTION:Formazione italiana in compagnia dei Top Leader e del Global Leader dott. Andrea Cerio. Ogni Lunedì\, informazioni e formazione tecnica e motivazionale.
URL:https://academy.amplivo.com/event/formazione-it-5/2030-01-21/
CATEGORIES:Training
ATTACH;FMTTYPE=image/jpeg:https://academy.amplivo.com/wp-content/uploads/Form.ITA_.jpg
END:VEVENT
BEGIN:VEVENT
DTSTART;TZID=UTC:20300122T200000
DTEND;TZID=UTC:20300122T210000
DTSTAMP:20260422T021705
CREATED:20260228T133108Z
LAST-MODIFIED:20260228T133108Z
UID:10006800-1895342400-1895346000@academy.amplivo.com
SUMMARY:Formación (ES)
DESCRIPTION:Estas formaciones\, impartidas por los principales líderes de la compañía\, te ayudarán a hacer crecer y desarrollar tu negocio con Amplivo\, para que puedas vivir la vida que realmente mereces mientras contribuyes a limpiar el planeta para las futuras generaciones.
URL:https://academy.amplivo.com/event/formacion-es-4/2030-01-22/
CATEGORIES:Training
ATTACH;FMTTYPE=image/jpeg:https://academy.amplivo.com/wp-content/uploads/Form.ESP_.jpg
END:VEVENT
BEGIN:VEVENT
DTSTART;TZID=UTC:20300122T211500
DTEND;TZID=UTC:20300122T221500
DTSTAMP:20260422T021705
CREATED:20260228T133343Z
LAST-MODIFIED:20260228T133343Z
UID:10007061-1895346900-1895350500@academy.amplivo.com
SUMMARY:Training (ENG)
DESCRIPTION:Training with the Global Leader dott. Andrea Cerio\, training on technical and motivational topics.
URL:https://academy.amplivo.com/event/training-eng-4/2030-01-22/
CATEGORIES:Training
ATTACH;FMTTYPE=image/jpeg:https://academy.amplivo.com/wp-content/uploads/Form.ENG_.jpg
END:VEVENT
BEGIN:VEVENT
DTSTART;TZID=UTC:20300128T203000
DTEND;TZID=UTC:20300128T220000
DTSTAMP:20260422T021705
CREATED:20260228T133747Z
LAST-MODIFIED:20260228T133747Z
UID:10007323-1895862600-1895868000@academy.amplivo.com
SUMMARY:Formazione (IT)
DESCRIPTION:Formazione italiana in compagnia dei Top Leader e del Global Leader dott. Andrea Cerio. Ogni Lunedì\, informazioni e formazione tecnica e motivazionale.
URL:https://academy.amplivo.com/event/formazione-it-5/2030-01-28/
CATEGORIES:Training
ATTACH;FMTTYPE=image/jpeg:https://academy.amplivo.com/wp-content/uploads/Form.ITA_.jpg
END:VEVENT
BEGIN:VEVENT
DTSTART;TZID=UTC:20300129T200000
DTEND;TZID=UTC:20300129T210000
DTSTAMP:20260422T021705
CREATED:20260228T133108Z
LAST-MODIFIED:20260228T133108Z
UID:10006801-1895947200-1895950800@academy.amplivo.com
SUMMARY:Formación (ES)
DESCRIPTION:Estas formaciones\, impartidas por los principales líderes de la compañía\, te ayudarán a hacer crecer y desarrollar tu negocio con Amplivo\, para que puedas vivir la vida que realmente mereces mientras contribuyes a limpiar el planeta para las futuras generaciones.
URL:https://academy.amplivo.com/event/formacion-es-4/2030-01-29/
CATEGORIES:Training
ATTACH;FMTTYPE=image/jpeg:https://academy.amplivo.com/wp-content/uploads/Form.ESP_.jpg
END:VEVENT
BEGIN:VEVENT
DTSTART;TZID=UTC:20300129T211500
DTEND;TZID=UTC:20300129T221500
DTSTAMP:20260422T021705
CREATED:20260228T133343Z
LAST-MODIFIED:20260228T133343Z
UID:10007062-1895951700-1895955300@academy.amplivo.com
SUMMARY:Training (ENG)
DESCRIPTION:Training with the Global Leader dott. Andrea Cerio\, training on technical and motivational topics.
URL:https://academy.amplivo.com/event/training-eng-4/2030-01-29/
CATEGORIES:Training
ATTACH;FMTTYPE=image/jpeg:https://academy.amplivo.com/wp-content/uploads/Form.ENG_.jpg
END:VEVENT
BEGIN:VEVENT
DTSTART;TZID=UTC:20300204T203000
DTEND;TZID=UTC:20300204T220000
DTSTAMP:20260422T021705
CREATED:20260228T133747Z
LAST-MODIFIED:20260228T133747Z
UID:10007324-1896467400-1896472800@academy.amplivo.com
SUMMARY:Formazione (IT)
DESCRIPTION:Formazione italiana in compagnia dei Top Leader e del Global Leader dott. Andrea Cerio. Ogni Lunedì\, informazioni e formazione tecnica e motivazionale.
URL:https://academy.amplivo.com/event/formazione-it-5/2030-02-04/
CATEGORIES:Training
ATTACH;FMTTYPE=image/jpeg:https://academy.amplivo.com/wp-content/uploads/Form.ITA_.jpg
END:VEVENT
BEGIN:VEVENT
DTSTART;TZID=UTC:20300205T200000
DTEND;TZID=UTC:20300205T210000
DTSTAMP:20260422T021705
CREATED:20260228T133108Z
LAST-MODIFIED:20260228T133108Z
UID:10006802-1896552000-1896555600@academy.amplivo.com
SUMMARY:Formación (ES)
DESCRIPTION:Estas formaciones\, impartidas por los principales líderes de la compañía\, te ayudarán a hacer crecer y desarrollar tu negocio con Amplivo\, para que puedas vivir la vida que realmente mereces mientras contribuyes a limpiar el planeta para las futuras generaciones.
URL:https://academy.amplivo.com/event/formacion-es-4/2030-02-05/
CATEGORIES:Training
ATTACH;FMTTYPE=image/jpeg:https://academy.amplivo.com/wp-content/uploads/Form.ESP_.jpg
END:VEVENT
BEGIN:VEVENT
DTSTART;TZID=UTC:20300205T211500
DTEND;TZID=UTC:20300205T221500
DTSTAMP:20260422T021705
CREATED:20260228T133343Z
LAST-MODIFIED:20260228T133343Z
UID:10007063-1896556500-1896560100@academy.amplivo.com
SUMMARY:Training (ENG)
DESCRIPTION:Training with the Global Leader dott. Andrea Cerio\, training on technical and motivational topics.
URL:https://academy.amplivo.com/event/training-eng-4/2030-02-05/
CATEGORIES:Training
ATTACH;FMTTYPE=image/jpeg:https://academy.amplivo.com/wp-content/uploads/Form.ENG_.jpg
END:VEVENT
BEGIN:VEVENT
DTSTART;TZID=UTC:20300211T203000
DTEND;TZID=UTC:20300211T220000
DTSTAMP:20260422T021705
CREATED:20260228T133747Z
LAST-MODIFIED:20260228T133747Z
UID:10007325-1897072200-1897077600@academy.amplivo.com
SUMMARY:Formazione (IT)
DESCRIPTION:Formazione italiana in compagnia dei Top Leader e del Global Leader dott. Andrea Cerio. Ogni Lunedì\, informazioni e formazione tecnica e motivazionale.
URL:https://academy.amplivo.com/event/formazione-it-5/2030-02-11/
CATEGORIES:Training
ATTACH;FMTTYPE=image/jpeg:https://academy.amplivo.com/wp-content/uploads/Form.ITA_.jpg
END:VEVENT
BEGIN:VEVENT
DTSTART;TZID=UTC:20300212T200000
DTEND;TZID=UTC:20300212T210000
DTSTAMP:20260422T021705
CREATED:20260228T133108Z
LAST-MODIFIED:20260228T133108Z
UID:10006803-1897156800-1897160400@academy.amplivo.com
SUMMARY:Formación (ES)
DESCRIPTION:Estas formaciones\, impartidas por los principales líderes de la compañía\, te ayudarán a hacer crecer y desarrollar tu negocio con Amplivo\, para que puedas vivir la vida que realmente mereces mientras contribuyes a limpiar el planeta para las futuras generaciones.
URL:https://academy.amplivo.com/event/formacion-es-4/2030-02-12/
CATEGORIES:Training
ATTACH;FMTTYPE=image/jpeg:https://academy.amplivo.com/wp-content/uploads/Form.ESP_.jpg
END:VEVENT
BEGIN:VEVENT
DTSTART;TZID=UTC:20300212T211500
DTEND;TZID=UTC:20300212T221500
DTSTAMP:20260422T021705
CREATED:20260228T133343Z
LAST-MODIFIED:20260228T133343Z
UID:10007064-1897161300-1897164900@academy.amplivo.com
SUMMARY:Training (ENG)
DESCRIPTION:Training with the Global Leader dott. Andrea Cerio\, training on technical and motivational topics.
URL:https://academy.amplivo.com/event/training-eng-4/2030-02-12/
CATEGORIES:Training
ATTACH;FMTTYPE=image/jpeg:https://academy.amplivo.com/wp-content/uploads/Form.ENG_.jpg
END:VEVENT
BEGIN:VEVENT
DTSTART;TZID=UTC:20300218T203000
DTEND;TZID=UTC:20300218T220000
DTSTAMP:20260422T021705
CREATED:20260228T133747Z
LAST-MODIFIED:20260228T133747Z
UID:10007326-1897677000-1897682400@academy.amplivo.com
SUMMARY:Formazione (IT)
DESCRIPTION:Formazione italiana in compagnia dei Top Leader e del Global Leader dott. Andrea Cerio. Ogni Lunedì\, informazioni e formazione tecnica e motivazionale.
URL:https://academy.amplivo.com/event/formazione-it-5/2030-02-18/
CATEGORIES:Training
ATTACH;FMTTYPE=image/jpeg:https://academy.amplivo.com/wp-content/uploads/Form.ITA_.jpg
END:VEVENT
BEGIN:VEVENT
DTSTART;TZID=UTC:20300219T200000
DTEND;TZID=UTC:20300219T210000
DTSTAMP:20260422T021705
CREATED:20260228T133108Z
LAST-MODIFIED:20260228T133108Z
UID:10006804-1897761600-1897765200@academy.amplivo.com
SUMMARY:Formación (ES)
DESCRIPTION:Estas formaciones\, impartidas por los principales líderes de la compañía\, te ayudarán a hacer crecer y desarrollar tu negocio con Amplivo\, para que puedas vivir la vida que realmente mereces mientras contribuyes a limpiar el planeta para las futuras generaciones.
URL:https://academy.amplivo.com/event/formacion-es-4/2030-02-19/
CATEGORIES:Training
ATTACH;FMTTYPE=image/jpeg:https://academy.amplivo.com/wp-content/uploads/Form.ESP_.jpg
END:VEVENT
BEGIN:VEVENT
DTSTART;TZID=UTC:20300219T211500
DTEND;TZID=UTC:20300219T221500
DTSTAMP:20260422T021705
CREATED:20260228T133343Z
LAST-MODIFIED:20260228T133343Z
UID:10007065-1897766100-1897769700@academy.amplivo.com
SUMMARY:Training (ENG)
DESCRIPTION:Training with the Global Leader dott. Andrea Cerio\, training on technical and motivational topics.
URL:https://academy.amplivo.com/event/training-eng-4/2030-02-19/
CATEGORIES:Training
ATTACH;FMTTYPE=image/jpeg:https://academy.amplivo.com/wp-content/uploads/Form.ENG_.jpg
END:VEVENT
END:VCALENDAR