BEGIN:VCALENDAR
VERSION:2.0
PRODID:-//Amplivo Academy - ECPv6.3.5//NONSGML v1.0//EN
CALSCALE:GREGORIAN
METHOD:PUBLISH
X-WR-CALNAME:Amplivo Academy
X-ORIGINAL-URL:https://academy.amplivo.com
X-WR-CALDESC:Events for Amplivo Academy
REFRESH-INTERVAL;VALUE=DURATION:PT1H
X-Robots-Tag:noindex
X-PUBLISHED-TTL:PT1H
BEGIN:VTIMEZONE
TZID:UTC
BEGIN:STANDARD
TZOFFSETFROM:+0000
TZOFFSETTO:+0000
TZNAME:UTC
DTSTART:20290101T000000
END:STANDARD
END:VTIMEZONE
BEGIN:VEVENT
DTSTART;TZID=UTC:20290709T203000
DTEND;TZID=UTC:20290709T220000
DTSTAMP:20260422T222038
CREATED:20260228T133747Z
LAST-MODIFIED:20260228T133747Z
UID:10007294-1878323400-1878328800@academy.amplivo.com
SUMMARY:Formazione (IT)
DESCRIPTION:Formazione italiana in compagnia dei Top Leader e del Global Leader dott. Andrea Cerio. Ogni Lunedì\, informazioni e formazione tecnica e motivazionale.
URL:https://academy.amplivo.com/event/formazione-it-5/2029-07-09/
CATEGORIES:Training
ATTACH;FMTTYPE=image/jpeg:https://academy.amplivo.com/wp-content/uploads/Form.ITA_.jpg
END:VEVENT
BEGIN:VEVENT
DTSTART;TZID=UTC:20290710T200000
DTEND;TZID=UTC:20290710T210000
DTSTAMP:20260422T222038
CREATED:20260228T133108Z
LAST-MODIFIED:20260228T133108Z
UID:10006772-1878408000-1878411600@academy.amplivo.com
SUMMARY:Formación (ES)
DESCRIPTION:Estas formaciones\, impartidas por los principales líderes de la compañía\, te ayudarán a hacer crecer y desarrollar tu negocio con Amplivo\, para que puedas vivir la vida que realmente mereces mientras contribuyes a limpiar el planeta para las futuras generaciones.
URL:https://academy.amplivo.com/event/formacion-es-4/2029-07-10/
CATEGORIES:Training
ATTACH;FMTTYPE=image/jpeg:https://academy.amplivo.com/wp-content/uploads/Form.ESP_.jpg
END:VEVENT
BEGIN:VEVENT
DTSTART;TZID=UTC:20290710T211500
DTEND;TZID=UTC:20290710T221500
DTSTAMP:20260422T222038
CREATED:20260228T133343Z
LAST-MODIFIED:20260228T133343Z
UID:10007033-1878412500-1878416100@academy.amplivo.com
SUMMARY:Training (ENG)
DESCRIPTION:Training with the Global Leader dott. Andrea Cerio\, training on technical and motivational topics.
URL:https://academy.amplivo.com/event/training-eng-4/2029-07-10/
CATEGORIES:Training
ATTACH;FMTTYPE=image/jpeg:https://academy.amplivo.com/wp-content/uploads/Form.ENG_.jpg
END:VEVENT
BEGIN:VEVENT
DTSTART;TZID=UTC:20290716T203000
DTEND;TZID=UTC:20290716T220000
DTSTAMP:20260422T222038
CREATED:20260228T133747Z
LAST-MODIFIED:20260228T133747Z
UID:10007295-1878928200-1878933600@academy.amplivo.com
SUMMARY:Formazione (IT)
DESCRIPTION:Formazione italiana in compagnia dei Top Leader e del Global Leader dott. Andrea Cerio. Ogni Lunedì\, informazioni e formazione tecnica e motivazionale.
URL:https://academy.amplivo.com/event/formazione-it-5/2029-07-16/
CATEGORIES:Training
ATTACH;FMTTYPE=image/jpeg:https://academy.amplivo.com/wp-content/uploads/Form.ITA_.jpg
END:VEVENT
BEGIN:VEVENT
DTSTART;TZID=UTC:20290717T200000
DTEND;TZID=UTC:20290717T210000
DTSTAMP:20260422T222038
CREATED:20260228T133108Z
LAST-MODIFIED:20260228T133108Z
UID:10006773-1879012800-1879016400@academy.amplivo.com
SUMMARY:Formación (ES)
DESCRIPTION:Estas formaciones\, impartidas por los principales líderes de la compañía\, te ayudarán a hacer crecer y desarrollar tu negocio con Amplivo\, para que puedas vivir la vida que realmente mereces mientras contribuyes a limpiar el planeta para las futuras generaciones.
URL:https://academy.amplivo.com/event/formacion-es-4/2029-07-17/
CATEGORIES:Training
ATTACH;FMTTYPE=image/jpeg:https://academy.amplivo.com/wp-content/uploads/Form.ESP_.jpg
END:VEVENT
BEGIN:VEVENT
DTSTART;TZID=UTC:20290717T211500
DTEND;TZID=UTC:20290717T221500
DTSTAMP:20260422T222038
CREATED:20260228T133343Z
LAST-MODIFIED:20260228T133343Z
UID:10007034-1879017300-1879020900@academy.amplivo.com
SUMMARY:Training (ENG)
DESCRIPTION:Training with the Global Leader dott. Andrea Cerio\, training on technical and motivational topics.
URL:https://academy.amplivo.com/event/training-eng-4/2029-07-17/
CATEGORIES:Training
ATTACH;FMTTYPE=image/jpeg:https://academy.amplivo.com/wp-content/uploads/Form.ENG_.jpg
END:VEVENT
BEGIN:VEVENT
DTSTART;TZID=UTC:20290723T203000
DTEND;TZID=UTC:20290723T220000
DTSTAMP:20260422T222038
CREATED:20260228T133747Z
LAST-MODIFIED:20260228T133747Z
UID:10007296-1879533000-1879538400@academy.amplivo.com
SUMMARY:Formazione (IT)
DESCRIPTION:Formazione italiana in compagnia dei Top Leader e del Global Leader dott. Andrea Cerio. Ogni Lunedì\, informazioni e formazione tecnica e motivazionale.
URL:https://academy.amplivo.com/event/formazione-it-5/2029-07-23/
CATEGORIES:Training
ATTACH;FMTTYPE=image/jpeg:https://academy.amplivo.com/wp-content/uploads/Form.ITA_.jpg
END:VEVENT
BEGIN:VEVENT
DTSTART;TZID=UTC:20290724T200000
DTEND;TZID=UTC:20290724T210000
DTSTAMP:20260422T222038
CREATED:20260228T133108Z
LAST-MODIFIED:20260228T133108Z
UID:10006774-1879617600-1879621200@academy.amplivo.com
SUMMARY:Formación (ES)
DESCRIPTION:Estas formaciones\, impartidas por los principales líderes de la compañía\, te ayudarán a hacer crecer y desarrollar tu negocio con Amplivo\, para que puedas vivir la vida que realmente mereces mientras contribuyes a limpiar el planeta para las futuras generaciones.
URL:https://academy.amplivo.com/event/formacion-es-4/2029-07-24/
CATEGORIES:Training
ATTACH;FMTTYPE=image/jpeg:https://academy.amplivo.com/wp-content/uploads/Form.ESP_.jpg
END:VEVENT
BEGIN:VEVENT
DTSTART;TZID=UTC:20290724T211500
DTEND;TZID=UTC:20290724T221500
DTSTAMP:20260422T222038
CREATED:20260228T133343Z
LAST-MODIFIED:20260228T133343Z
UID:10007035-1879622100-1879625700@academy.amplivo.com
SUMMARY:Training (ENG)
DESCRIPTION:Training with the Global Leader dott. Andrea Cerio\, training on technical and motivational topics.
URL:https://academy.amplivo.com/event/training-eng-4/2029-07-24/
CATEGORIES:Training
ATTACH;FMTTYPE=image/jpeg:https://academy.amplivo.com/wp-content/uploads/Form.ENG_.jpg
END:VEVENT
BEGIN:VEVENT
DTSTART;TZID=UTC:20290730T203000
DTEND;TZID=UTC:20290730T220000
DTSTAMP:20260422T222038
CREATED:20260228T133747Z
LAST-MODIFIED:20260228T133747Z
UID:10007297-1880137800-1880143200@academy.amplivo.com
SUMMARY:Formazione (IT)
DESCRIPTION:Formazione italiana in compagnia dei Top Leader e del Global Leader dott. Andrea Cerio. Ogni Lunedì\, informazioni e formazione tecnica e motivazionale.
URL:https://academy.amplivo.com/event/formazione-it-5/2029-07-30/
CATEGORIES:Training
ATTACH;FMTTYPE=image/jpeg:https://academy.amplivo.com/wp-content/uploads/Form.ITA_.jpg
END:VEVENT
BEGIN:VEVENT
DTSTART;TZID=UTC:20290731T200000
DTEND;TZID=UTC:20290731T210000
DTSTAMP:20260422T222038
CREATED:20260228T133108Z
LAST-MODIFIED:20260228T133108Z
UID:10006775-1880222400-1880226000@academy.amplivo.com
SUMMARY:Formación (ES)
DESCRIPTION:Estas formaciones\, impartidas por los principales líderes de la compañía\, te ayudarán a hacer crecer y desarrollar tu negocio con Amplivo\, para que puedas vivir la vida que realmente mereces mientras contribuyes a limpiar el planeta para las futuras generaciones.
URL:https://academy.amplivo.com/event/formacion-es-4/2029-07-31/
CATEGORIES:Training
ATTACH;FMTTYPE=image/jpeg:https://academy.amplivo.com/wp-content/uploads/Form.ESP_.jpg
END:VEVENT
BEGIN:VEVENT
DTSTART;TZID=UTC:20290731T211500
DTEND;TZID=UTC:20290731T221500
DTSTAMP:20260422T222038
CREATED:20260228T133343Z
LAST-MODIFIED:20260228T133343Z
UID:10007036-1880226900-1880230500@academy.amplivo.com
SUMMARY:Training (ENG)
DESCRIPTION:Training with the Global Leader dott. Andrea Cerio\, training on technical and motivational topics.
URL:https://academy.amplivo.com/event/training-eng-4/2029-07-31/
CATEGORIES:Training
ATTACH;FMTTYPE=image/jpeg:https://academy.amplivo.com/wp-content/uploads/Form.ENG_.jpg
END:VEVENT
BEGIN:VEVENT
DTSTART;TZID=UTC:20290806T203000
DTEND;TZID=UTC:20290806T220000
DTSTAMP:20260422T222038
CREATED:20260228T133747Z
LAST-MODIFIED:20260228T133747Z
UID:10007298-1880742600-1880748000@academy.amplivo.com
SUMMARY:Formazione (IT)
DESCRIPTION:Formazione italiana in compagnia dei Top Leader e del Global Leader dott. Andrea Cerio. Ogni Lunedì\, informazioni e formazione tecnica e motivazionale.
URL:https://academy.amplivo.com/event/formazione-it-5/2029-08-06/
CATEGORIES:Training
ATTACH;FMTTYPE=image/jpeg:https://academy.amplivo.com/wp-content/uploads/Form.ITA_.jpg
END:VEVENT
BEGIN:VEVENT
DTSTART;TZID=UTC:20290807T200000
DTEND;TZID=UTC:20290807T210000
DTSTAMP:20260422T222038
CREATED:20260228T133108Z
LAST-MODIFIED:20260228T133108Z
UID:10006776-1880827200-1880830800@academy.amplivo.com
SUMMARY:Formación (ES)
DESCRIPTION:Estas formaciones\, impartidas por los principales líderes de la compañía\, te ayudarán a hacer crecer y desarrollar tu negocio con Amplivo\, para que puedas vivir la vida que realmente mereces mientras contribuyes a limpiar el planeta para las futuras generaciones.
URL:https://academy.amplivo.com/event/formacion-es-4/2029-08-07/
CATEGORIES:Training
ATTACH;FMTTYPE=image/jpeg:https://academy.amplivo.com/wp-content/uploads/Form.ESP_.jpg
END:VEVENT
BEGIN:VEVENT
DTSTART;TZID=UTC:20290807T211500
DTEND;TZID=UTC:20290807T221500
DTSTAMP:20260422T222038
CREATED:20260228T133343Z
LAST-MODIFIED:20260228T133343Z
UID:10007037-1880831700-1880835300@academy.amplivo.com
SUMMARY:Training (ENG)
DESCRIPTION:Training with the Global Leader dott. Andrea Cerio\, training on technical and motivational topics.
URL:https://academy.amplivo.com/event/training-eng-4/2029-08-07/
CATEGORIES:Training
ATTACH;FMTTYPE=image/jpeg:https://academy.amplivo.com/wp-content/uploads/Form.ENG_.jpg
END:VEVENT
BEGIN:VEVENT
DTSTART;TZID=UTC:20290813T203000
DTEND;TZID=UTC:20290813T220000
DTSTAMP:20260422T222038
CREATED:20260228T133747Z
LAST-MODIFIED:20260228T133747Z
UID:10007299-1881347400-1881352800@academy.amplivo.com
SUMMARY:Formazione (IT)
DESCRIPTION:Formazione italiana in compagnia dei Top Leader e del Global Leader dott. Andrea Cerio. Ogni Lunedì\, informazioni e formazione tecnica e motivazionale.
URL:https://academy.amplivo.com/event/formazione-it-5/2029-08-13/
CATEGORIES:Training
ATTACH;FMTTYPE=image/jpeg:https://academy.amplivo.com/wp-content/uploads/Form.ITA_.jpg
END:VEVENT
BEGIN:VEVENT
DTSTART;TZID=UTC:20290814T200000
DTEND;TZID=UTC:20290814T210000
DTSTAMP:20260422T222038
CREATED:20260228T133108Z
LAST-MODIFIED:20260228T133108Z
UID:10006777-1881432000-1881435600@academy.amplivo.com
SUMMARY:Formación (ES)
DESCRIPTION:Estas formaciones\, impartidas por los principales líderes de la compañía\, te ayudarán a hacer crecer y desarrollar tu negocio con Amplivo\, para que puedas vivir la vida que realmente mereces mientras contribuyes a limpiar el planeta para las futuras generaciones.
URL:https://academy.amplivo.com/event/formacion-es-4/2029-08-14/
CATEGORIES:Training
ATTACH;FMTTYPE=image/jpeg:https://academy.amplivo.com/wp-content/uploads/Form.ESP_.jpg
END:VEVENT
BEGIN:VEVENT
DTSTART;TZID=UTC:20290814T211500
DTEND;TZID=UTC:20290814T221500
DTSTAMP:20260422T222038
CREATED:20260228T133343Z
LAST-MODIFIED:20260228T133343Z
UID:10007038-1881436500-1881440100@academy.amplivo.com
SUMMARY:Training (ENG)
DESCRIPTION:Training with the Global Leader dott. Andrea Cerio\, training on technical and motivational topics.
URL:https://academy.amplivo.com/event/training-eng-4/2029-08-14/
CATEGORIES:Training
ATTACH;FMTTYPE=image/jpeg:https://academy.amplivo.com/wp-content/uploads/Form.ENG_.jpg
END:VEVENT
BEGIN:VEVENT
DTSTART;TZID=UTC:20290820T203000
DTEND;TZID=UTC:20290820T220000
DTSTAMP:20260422T222038
CREATED:20260228T133747Z
LAST-MODIFIED:20260228T133747Z
UID:10007300-1881952200-1881957600@academy.amplivo.com
SUMMARY:Formazione (IT)
DESCRIPTION:Formazione italiana in compagnia dei Top Leader e del Global Leader dott. Andrea Cerio. Ogni Lunedì\, informazioni e formazione tecnica e motivazionale.
URL:https://academy.amplivo.com/event/formazione-it-5/2029-08-20/
CATEGORIES:Training
ATTACH;FMTTYPE=image/jpeg:https://academy.amplivo.com/wp-content/uploads/Form.ITA_.jpg
END:VEVENT
BEGIN:VEVENT
DTSTART;TZID=UTC:20290821T200000
DTEND;TZID=UTC:20290821T210000
DTSTAMP:20260422T222038
CREATED:20260228T133108Z
LAST-MODIFIED:20260228T133108Z
UID:10006778-1882036800-1882040400@academy.amplivo.com
SUMMARY:Formación (ES)
DESCRIPTION:Estas formaciones\, impartidas por los principales líderes de la compañía\, te ayudarán a hacer crecer y desarrollar tu negocio con Amplivo\, para que puedas vivir la vida que realmente mereces mientras contribuyes a limpiar el planeta para las futuras generaciones.
URL:https://academy.amplivo.com/event/formacion-es-4/2029-08-21/
CATEGORIES:Training
ATTACH;FMTTYPE=image/jpeg:https://academy.amplivo.com/wp-content/uploads/Form.ESP_.jpg
END:VEVENT
BEGIN:VEVENT
DTSTART;TZID=UTC:20290821T211500
DTEND;TZID=UTC:20290821T221500
DTSTAMP:20260422T222038
CREATED:20260228T133343Z
LAST-MODIFIED:20260228T133343Z
UID:10007039-1882041300-1882044900@academy.amplivo.com
SUMMARY:Training (ENG)
DESCRIPTION:Training with the Global Leader dott. Andrea Cerio\, training on technical and motivational topics.
URL:https://academy.amplivo.com/event/training-eng-4/2029-08-21/
CATEGORIES:Training
ATTACH;FMTTYPE=image/jpeg:https://academy.amplivo.com/wp-content/uploads/Form.ENG_.jpg
END:VEVENT
BEGIN:VEVENT
DTSTART;TZID=UTC:20290827T203000
DTEND;TZID=UTC:20290827T220000
DTSTAMP:20260422T222038
CREATED:20260228T133747Z
LAST-MODIFIED:20260228T133747Z
UID:10007301-1882557000-1882562400@academy.amplivo.com
SUMMARY:Formazione (IT)
DESCRIPTION:Formazione italiana in compagnia dei Top Leader e del Global Leader dott. Andrea Cerio. Ogni Lunedì\, informazioni e formazione tecnica e motivazionale.
URL:https://academy.amplivo.com/event/formazione-it-5/2029-08-27/
CATEGORIES:Training
ATTACH;FMTTYPE=image/jpeg:https://academy.amplivo.com/wp-content/uploads/Form.ITA_.jpg
END:VEVENT
BEGIN:VEVENT
DTSTART;TZID=UTC:20290828T200000
DTEND;TZID=UTC:20290828T210000
DTSTAMP:20260422T222038
CREATED:20260228T133108Z
LAST-MODIFIED:20260228T133108Z
UID:10006779-1882641600-1882645200@academy.amplivo.com
SUMMARY:Formación (ES)
DESCRIPTION:Estas formaciones\, impartidas por los principales líderes de la compañía\, te ayudarán a hacer crecer y desarrollar tu negocio con Amplivo\, para que puedas vivir la vida que realmente mereces mientras contribuyes a limpiar el planeta para las futuras generaciones.
URL:https://academy.amplivo.com/event/formacion-es-4/2029-08-28/
CATEGORIES:Training
ATTACH;FMTTYPE=image/jpeg:https://academy.amplivo.com/wp-content/uploads/Form.ESP_.jpg
END:VEVENT
BEGIN:VEVENT
DTSTART;TZID=UTC:20290828T211500
DTEND;TZID=UTC:20290828T221500
DTSTAMP:20260422T222038
CREATED:20260228T133343Z
LAST-MODIFIED:20260228T133343Z
UID:10007040-1882646100-1882649700@academy.amplivo.com
SUMMARY:Training (ENG)
DESCRIPTION:Training with the Global Leader dott. Andrea Cerio\, training on technical and motivational topics.
URL:https://academy.amplivo.com/event/training-eng-4/2029-08-28/
CATEGORIES:Training
ATTACH;FMTTYPE=image/jpeg:https://academy.amplivo.com/wp-content/uploads/Form.ENG_.jpg
END:VEVENT
BEGIN:VEVENT
DTSTART;TZID=UTC:20290903T203000
DTEND;TZID=UTC:20290903T220000
DTSTAMP:20260422T222038
CREATED:20260228T133747Z
LAST-MODIFIED:20260228T133747Z
UID:10007302-1883161800-1883167200@academy.amplivo.com
SUMMARY:Formazione (IT)
DESCRIPTION:Formazione italiana in compagnia dei Top Leader e del Global Leader dott. Andrea Cerio. Ogni Lunedì\, informazioni e formazione tecnica e motivazionale.
URL:https://academy.amplivo.com/event/formazione-it-5/2029-09-03/
CATEGORIES:Training
ATTACH;FMTTYPE=image/jpeg:https://academy.amplivo.com/wp-content/uploads/Form.ITA_.jpg
END:VEVENT
BEGIN:VEVENT
DTSTART;TZID=UTC:20290904T200000
DTEND;TZID=UTC:20290904T210000
DTSTAMP:20260422T222038
CREATED:20260228T133108Z
LAST-MODIFIED:20260228T133108Z
UID:10006780-1883246400-1883250000@academy.amplivo.com
SUMMARY:Formación (ES)
DESCRIPTION:Estas formaciones\, impartidas por los principales líderes de la compañía\, te ayudarán a hacer crecer y desarrollar tu negocio con Amplivo\, para que puedas vivir la vida que realmente mereces mientras contribuyes a limpiar el planeta para las futuras generaciones.
URL:https://academy.amplivo.com/event/formacion-es-4/2029-09-04/
CATEGORIES:Training
ATTACH;FMTTYPE=image/jpeg:https://academy.amplivo.com/wp-content/uploads/Form.ESP_.jpg
END:VEVENT
BEGIN:VEVENT
DTSTART;TZID=UTC:20290904T211500
DTEND;TZID=UTC:20290904T221500
DTSTAMP:20260422T222038
CREATED:20260228T133343Z
LAST-MODIFIED:20260228T133343Z
UID:10007041-1883250900-1883254500@academy.amplivo.com
SUMMARY:Training (ENG)
DESCRIPTION:Training with the Global Leader dott. Andrea Cerio\, training on technical and motivational topics.
URL:https://academy.amplivo.com/event/training-eng-4/2029-09-04/
CATEGORIES:Training
ATTACH;FMTTYPE=image/jpeg:https://academy.amplivo.com/wp-content/uploads/Form.ENG_.jpg
END:VEVENT
BEGIN:VEVENT
DTSTART;TZID=UTC:20290910T203000
DTEND;TZID=UTC:20290910T220000
DTSTAMP:20260422T222038
CREATED:20260228T133747Z
LAST-MODIFIED:20260228T133747Z
UID:10007303-1883766600-1883772000@academy.amplivo.com
SUMMARY:Formazione (IT)
DESCRIPTION:Formazione italiana in compagnia dei Top Leader e del Global Leader dott. Andrea Cerio. Ogni Lunedì\, informazioni e formazione tecnica e motivazionale.
URL:https://academy.amplivo.com/event/formazione-it-5/2029-09-10/
CATEGORIES:Training
ATTACH;FMTTYPE=image/jpeg:https://academy.amplivo.com/wp-content/uploads/Form.ITA_.jpg
END:VEVENT
BEGIN:VEVENT
DTSTART;TZID=UTC:20290911T200000
DTEND;TZID=UTC:20290911T210000
DTSTAMP:20260422T222038
CREATED:20260228T133108Z
LAST-MODIFIED:20260228T133108Z
UID:10006781-1883851200-1883854800@academy.amplivo.com
SUMMARY:Formación (ES)
DESCRIPTION:Estas formaciones\, impartidas por los principales líderes de la compañía\, te ayudarán a hacer crecer y desarrollar tu negocio con Amplivo\, para que puedas vivir la vida que realmente mereces mientras contribuyes a limpiar el planeta para las futuras generaciones.
URL:https://academy.amplivo.com/event/formacion-es-4/2029-09-11/
CATEGORIES:Training
ATTACH;FMTTYPE=image/jpeg:https://academy.amplivo.com/wp-content/uploads/Form.ESP_.jpg
END:VEVENT
BEGIN:VEVENT
DTSTART;TZID=UTC:20290911T211500
DTEND;TZID=UTC:20290911T221500
DTSTAMP:20260422T222038
CREATED:20260228T133343Z
LAST-MODIFIED:20260228T133343Z
UID:10007042-1883855700-1883859300@academy.amplivo.com
SUMMARY:Training (ENG)
DESCRIPTION:Training with the Global Leader dott. Andrea Cerio\, training on technical and motivational topics.
URL:https://academy.amplivo.com/event/training-eng-4/2029-09-11/
CATEGORIES:Training
ATTACH;FMTTYPE=image/jpeg:https://academy.amplivo.com/wp-content/uploads/Form.ENG_.jpg
END:VEVENT
END:VCALENDAR