BEGIN:VCALENDAR
VERSION:2.0
PRODID:-//Amplivo Academy - ECPv6.3.5//NONSGML v1.0//EN
CALSCALE:GREGORIAN
METHOD:PUBLISH
X-ORIGINAL-URL:https://academy.amplivo.com
X-WR-CALDESC:Events for Amplivo Academy
REFRESH-INTERVAL;VALUE=DURATION:PT1H
X-Robots-Tag:noindex
X-PUBLISHED-TTL:PT1H
BEGIN:VTIMEZONE
TZID:UTC
BEGIN:STANDARD
TZOFFSETFROM:+0000
TZOFFSETTO:+0000
TZNAME:UTC
DTSTART:20280101T000000
END:STANDARD
END:VTIMEZONE
BEGIN:VEVENT
DTSTART;TZID=UTC:20280918T203000
DTEND;TZID=UTC:20280918T220000
DTSTAMP:20260421T004950
CREATED:20260228T133747Z
LAST-MODIFIED:20260228T133747Z
UID:10007252-1852921800-1852927200@academy.amplivo.com
SUMMARY:Formazione (IT)
DESCRIPTION:Formazione italiana in compagnia dei Top Leader e del Global Leader dott. Andrea Cerio. Ogni Lunedì\, informazioni e formazione tecnica e motivazionale.
URL:https://academy.amplivo.com/event/formazione-it-5/2028-09-18/
CATEGORIES:Training
ATTACH;FMTTYPE=image/jpeg:https://academy.amplivo.com/wp-content/uploads/Form.ITA_.jpg
END:VEVENT
BEGIN:VEVENT
DTSTART;TZID=UTC:20280919T200000
DTEND;TZID=UTC:20280919T210000
DTSTAMP:20260421T004950
CREATED:20260228T133108Z
LAST-MODIFIED:20260228T133108Z
UID:10006730-1853006400-1853010000@academy.amplivo.com
SUMMARY:Formación (ES)
DESCRIPTION:Estas formaciones\, impartidas por los principales líderes de la compañía\, te ayudarán a hacer crecer y desarrollar tu negocio con Amplivo\, para que puedas vivir la vida que realmente mereces mientras contribuyes a limpiar el planeta para las futuras generaciones.
URL:https://academy.amplivo.com/event/formacion-es-4/2028-09-19/
CATEGORIES:Training
ATTACH;FMTTYPE=image/jpeg:https://academy.amplivo.com/wp-content/uploads/Form.ESP_.jpg
END:VEVENT
BEGIN:VEVENT
DTSTART;TZID=UTC:20280919T211500
DTEND;TZID=UTC:20280919T221500
DTSTAMP:20260421T004950
CREATED:20260228T133343Z
LAST-MODIFIED:20260228T133343Z
UID:10006991-1853010900-1853014500@academy.amplivo.com
SUMMARY:Training (ENG)
DESCRIPTION:Training with the Global Leader dott. Andrea Cerio\, training on technical and motivational topics.
URL:https://academy.amplivo.com/event/training-eng-4/2028-09-19/
CATEGORIES:Training
ATTACH;FMTTYPE=image/jpeg:https://academy.amplivo.com/wp-content/uploads/Form.ENG_.jpg
END:VEVENT
BEGIN:VEVENT
DTSTART;TZID=UTC:20280925T203000
DTEND;TZID=UTC:20280925T220000
DTSTAMP:20260421T004950
CREATED:20260228T133747Z
LAST-MODIFIED:20260228T133747Z
UID:10007253-1853526600-1853532000@academy.amplivo.com
SUMMARY:Formazione (IT)
DESCRIPTION:Formazione italiana in compagnia dei Top Leader e del Global Leader dott. Andrea Cerio. Ogni Lunedì\, informazioni e formazione tecnica e motivazionale.
URL:https://academy.amplivo.com/event/formazione-it-5/2028-09-25/
CATEGORIES:Training
ATTACH;FMTTYPE=image/jpeg:https://academy.amplivo.com/wp-content/uploads/Form.ITA_.jpg
END:VEVENT
BEGIN:VEVENT
DTSTART;TZID=UTC:20280926T200000
DTEND;TZID=UTC:20280926T210000
DTSTAMP:20260421T004950
CREATED:20260228T133108Z
LAST-MODIFIED:20260228T133108Z
UID:10006731-1853611200-1853614800@academy.amplivo.com
SUMMARY:Formación (ES)
DESCRIPTION:Estas formaciones\, impartidas por los principales líderes de la compañía\, te ayudarán a hacer crecer y desarrollar tu negocio con Amplivo\, para que puedas vivir la vida que realmente mereces mientras contribuyes a limpiar el planeta para las futuras generaciones.
URL:https://academy.amplivo.com/event/formacion-es-4/2028-09-26/
CATEGORIES:Training
ATTACH;FMTTYPE=image/jpeg:https://academy.amplivo.com/wp-content/uploads/Form.ESP_.jpg
END:VEVENT
BEGIN:VEVENT
DTSTART;TZID=UTC:20280926T211500
DTEND;TZID=UTC:20280926T221500
DTSTAMP:20260421T004950
CREATED:20260228T133343Z
LAST-MODIFIED:20260228T133343Z
UID:10006992-1853615700-1853619300@academy.amplivo.com
SUMMARY:Training (ENG)
DESCRIPTION:Training with the Global Leader dott. Andrea Cerio\, training on technical and motivational topics.
URL:https://academy.amplivo.com/event/training-eng-4/2028-09-26/
CATEGORIES:Training
ATTACH;FMTTYPE=image/jpeg:https://academy.amplivo.com/wp-content/uploads/Form.ENG_.jpg
END:VEVENT
BEGIN:VEVENT
DTSTART;TZID=UTC:20281002T203000
DTEND;TZID=UTC:20281002T220000
DTSTAMP:20260421T004950
CREATED:20260228T133747Z
LAST-MODIFIED:20260228T133747Z
UID:10007254-1854131400-1854136800@academy.amplivo.com
SUMMARY:Formazione (IT)
DESCRIPTION:Formazione italiana in compagnia dei Top Leader e del Global Leader dott. Andrea Cerio. Ogni Lunedì\, informazioni e formazione tecnica e motivazionale.
URL:https://academy.amplivo.com/event/formazione-it-5/2028-10-02/
CATEGORIES:Training
ATTACH;FMTTYPE=image/jpeg:https://academy.amplivo.com/wp-content/uploads/Form.ITA_.jpg
END:VEVENT
BEGIN:VEVENT
DTSTART;TZID=UTC:20281003T200000
DTEND;TZID=UTC:20281003T210000
DTSTAMP:20260421T004950
CREATED:20260228T133108Z
LAST-MODIFIED:20260228T133108Z
UID:10006732-1854216000-1854219600@academy.amplivo.com
SUMMARY:Formación (ES)
DESCRIPTION:Estas formaciones\, impartidas por los principales líderes de la compañía\, te ayudarán a hacer crecer y desarrollar tu negocio con Amplivo\, para que puedas vivir la vida que realmente mereces mientras contribuyes a limpiar el planeta para las futuras generaciones.
URL:https://academy.amplivo.com/event/formacion-es-4/2028-10-03/
CATEGORIES:Training
ATTACH;FMTTYPE=image/jpeg:https://academy.amplivo.com/wp-content/uploads/Form.ESP_.jpg
END:VEVENT
BEGIN:VEVENT
DTSTART;TZID=UTC:20281003T211500
DTEND;TZID=UTC:20281003T221500
DTSTAMP:20260421T004950
CREATED:20260228T133343Z
LAST-MODIFIED:20260228T133343Z
UID:10006993-1854220500-1854224100@academy.amplivo.com
SUMMARY:Training (ENG)
DESCRIPTION:Training with the Global Leader dott. Andrea Cerio\, training on technical and motivational topics.
URL:https://academy.amplivo.com/event/training-eng-4/2028-10-03/
CATEGORIES:Training
ATTACH;FMTTYPE=image/jpeg:https://academy.amplivo.com/wp-content/uploads/Form.ENG_.jpg
END:VEVENT
BEGIN:VEVENT
DTSTART;TZID=UTC:20281009T203000
DTEND;TZID=UTC:20281009T220000
DTSTAMP:20260421T004950
CREATED:20260228T133747Z
LAST-MODIFIED:20260228T133747Z
UID:10007255-1854736200-1854741600@academy.amplivo.com
SUMMARY:Formazione (IT)
DESCRIPTION:Formazione italiana in compagnia dei Top Leader e del Global Leader dott. Andrea Cerio. Ogni Lunedì\, informazioni e formazione tecnica e motivazionale.
URL:https://academy.amplivo.com/event/formazione-it-5/2028-10-09/
CATEGORIES:Training
ATTACH;FMTTYPE=image/jpeg:https://academy.amplivo.com/wp-content/uploads/Form.ITA_.jpg
END:VEVENT
BEGIN:VEVENT
DTSTART;TZID=UTC:20281010T200000
DTEND;TZID=UTC:20281010T210000
DTSTAMP:20260421T004950
CREATED:20260228T133108Z
LAST-MODIFIED:20260228T133108Z
UID:10006733-1854820800-1854824400@academy.amplivo.com
SUMMARY:Formación (ES)
DESCRIPTION:Estas formaciones\, impartidas por los principales líderes de la compañía\, te ayudarán a hacer crecer y desarrollar tu negocio con Amplivo\, para que puedas vivir la vida que realmente mereces mientras contribuyes a limpiar el planeta para las futuras generaciones.
URL:https://academy.amplivo.com/event/formacion-es-4/2028-10-10/
CATEGORIES:Training
ATTACH;FMTTYPE=image/jpeg:https://academy.amplivo.com/wp-content/uploads/Form.ESP_.jpg
END:VEVENT
BEGIN:VEVENT
DTSTART;TZID=UTC:20281010T211500
DTEND;TZID=UTC:20281010T221500
DTSTAMP:20260421T004950
CREATED:20260228T133343Z
LAST-MODIFIED:20260228T133343Z
UID:10006994-1854825300-1854828900@academy.amplivo.com
SUMMARY:Training (ENG)
DESCRIPTION:Training with the Global Leader dott. Andrea Cerio\, training on technical and motivational topics.
URL:https://academy.amplivo.com/event/training-eng-4/2028-10-10/
CATEGORIES:Training
ATTACH;FMTTYPE=image/jpeg:https://academy.amplivo.com/wp-content/uploads/Form.ENG_.jpg
END:VEVENT
BEGIN:VEVENT
DTSTART;TZID=UTC:20281016T203000
DTEND;TZID=UTC:20281016T220000
DTSTAMP:20260421T004950
CREATED:20260228T133747Z
LAST-MODIFIED:20260228T133747Z
UID:10007256-1855341000-1855346400@academy.amplivo.com
SUMMARY:Formazione (IT)
DESCRIPTION:Formazione italiana in compagnia dei Top Leader e del Global Leader dott. Andrea Cerio. Ogni Lunedì\, informazioni e formazione tecnica e motivazionale.
URL:https://academy.amplivo.com/event/formazione-it-5/2028-10-16/
CATEGORIES:Training
ATTACH;FMTTYPE=image/jpeg:https://academy.amplivo.com/wp-content/uploads/Form.ITA_.jpg
END:VEVENT
BEGIN:VEVENT
DTSTART;TZID=UTC:20281017T200000
DTEND;TZID=UTC:20281017T210000
DTSTAMP:20260421T004950
CREATED:20260228T133108Z
LAST-MODIFIED:20260228T133108Z
UID:10006734-1855425600-1855429200@academy.amplivo.com
SUMMARY:Formación (ES)
DESCRIPTION:Estas formaciones\, impartidas por los principales líderes de la compañía\, te ayudarán a hacer crecer y desarrollar tu negocio con Amplivo\, para que puedas vivir la vida que realmente mereces mientras contribuyes a limpiar el planeta para las futuras generaciones.
URL:https://academy.amplivo.com/event/formacion-es-4/2028-10-17/
CATEGORIES:Training
ATTACH;FMTTYPE=image/jpeg:https://academy.amplivo.com/wp-content/uploads/Form.ESP_.jpg
END:VEVENT
BEGIN:VEVENT
DTSTART;TZID=UTC:20281017T211500
DTEND;TZID=UTC:20281017T221500
DTSTAMP:20260421T004950
CREATED:20260228T133343Z
LAST-MODIFIED:20260228T133343Z
UID:10006995-1855430100-1855433700@academy.amplivo.com
SUMMARY:Training (ENG)
DESCRIPTION:Training with the Global Leader dott. Andrea Cerio\, training on technical and motivational topics.
URL:https://academy.amplivo.com/event/training-eng-4/2028-10-17/
CATEGORIES:Training
ATTACH;FMTTYPE=image/jpeg:https://academy.amplivo.com/wp-content/uploads/Form.ENG_.jpg
END:VEVENT
BEGIN:VEVENT
DTSTART;TZID=UTC:20281023T203000
DTEND;TZID=UTC:20281023T220000
DTSTAMP:20260421T004950
CREATED:20260228T133747Z
LAST-MODIFIED:20260228T133747Z
UID:10007257-1855945800-1855951200@academy.amplivo.com
SUMMARY:Formazione (IT)
DESCRIPTION:Formazione italiana in compagnia dei Top Leader e del Global Leader dott. Andrea Cerio. Ogni Lunedì\, informazioni e formazione tecnica e motivazionale.
URL:https://academy.amplivo.com/event/formazione-it-5/2028-10-23/
CATEGORIES:Training
ATTACH;FMTTYPE=image/jpeg:https://academy.amplivo.com/wp-content/uploads/Form.ITA_.jpg
END:VEVENT
BEGIN:VEVENT
DTSTART;TZID=UTC:20281024T200000
DTEND;TZID=UTC:20281024T210000
DTSTAMP:20260421T004950
CREATED:20260228T133108Z
LAST-MODIFIED:20260228T133108Z
UID:10006735-1856030400-1856034000@academy.amplivo.com
SUMMARY:Formación (ES)
DESCRIPTION:Estas formaciones\, impartidas por los principales líderes de la compañía\, te ayudarán a hacer crecer y desarrollar tu negocio con Amplivo\, para que puedas vivir la vida que realmente mereces mientras contribuyes a limpiar el planeta para las futuras generaciones.
URL:https://academy.amplivo.com/event/formacion-es-4/2028-10-24/
CATEGORIES:Training
ATTACH;FMTTYPE=image/jpeg:https://academy.amplivo.com/wp-content/uploads/Form.ESP_.jpg
END:VEVENT
BEGIN:VEVENT
DTSTART;TZID=UTC:20281024T211500
DTEND;TZID=UTC:20281024T221500
DTSTAMP:20260421T004950
CREATED:20260228T133343Z
LAST-MODIFIED:20260228T133343Z
UID:10006996-1856034900-1856038500@academy.amplivo.com
SUMMARY:Training (ENG)
DESCRIPTION:Training with the Global Leader dott. Andrea Cerio\, training on technical and motivational topics.
URL:https://academy.amplivo.com/event/training-eng-4/2028-10-24/
CATEGORIES:Training
ATTACH;FMTTYPE=image/jpeg:https://academy.amplivo.com/wp-content/uploads/Form.ENG_.jpg
END:VEVENT
BEGIN:VEVENT
DTSTART;TZID=UTC:20281030T203000
DTEND;TZID=UTC:20281030T220000
DTSTAMP:20260421T004950
CREATED:20260228T133747Z
LAST-MODIFIED:20260228T133747Z
UID:10007258-1856550600-1856556000@academy.amplivo.com
SUMMARY:Formazione (IT)
DESCRIPTION:Formazione italiana in compagnia dei Top Leader e del Global Leader dott. Andrea Cerio. Ogni Lunedì\, informazioni e formazione tecnica e motivazionale.
URL:https://academy.amplivo.com/event/formazione-it-5/2028-10-30/
CATEGORIES:Training
ATTACH;FMTTYPE=image/jpeg:https://academy.amplivo.com/wp-content/uploads/Form.ITA_.jpg
END:VEVENT
BEGIN:VEVENT
DTSTART;TZID=UTC:20281031T200000
DTEND;TZID=UTC:20281031T210000
DTSTAMP:20260421T004950
CREATED:20260228T133108Z
LAST-MODIFIED:20260228T133108Z
UID:10006736-1856635200-1856638800@academy.amplivo.com
SUMMARY:Formación (ES)
DESCRIPTION:Estas formaciones\, impartidas por los principales líderes de la compañía\, te ayudarán a hacer crecer y desarrollar tu negocio con Amplivo\, para que puedas vivir la vida que realmente mereces mientras contribuyes a limpiar el planeta para las futuras generaciones.
URL:https://academy.amplivo.com/event/formacion-es-4/2028-10-31/
CATEGORIES:Training
ATTACH;FMTTYPE=image/jpeg:https://academy.amplivo.com/wp-content/uploads/Form.ESP_.jpg
END:VEVENT
BEGIN:VEVENT
DTSTART;TZID=UTC:20281031T211500
DTEND;TZID=UTC:20281031T221500
DTSTAMP:20260421T004950
CREATED:20260228T133343Z
LAST-MODIFIED:20260228T133343Z
UID:10006997-1856639700-1856643300@academy.amplivo.com
SUMMARY:Training (ENG)
DESCRIPTION:Training with the Global Leader dott. Andrea Cerio\, training on technical and motivational topics.
URL:https://academy.amplivo.com/event/training-eng-4/2028-10-31/
CATEGORIES:Training
ATTACH;FMTTYPE=image/jpeg:https://academy.amplivo.com/wp-content/uploads/Form.ENG_.jpg
END:VEVENT
BEGIN:VEVENT
DTSTART;TZID=UTC:20281106T203000
DTEND;TZID=UTC:20281106T220000
DTSTAMP:20260421T004950
CREATED:20260228T133747Z
LAST-MODIFIED:20260228T133747Z
UID:10007259-1857155400-1857160800@academy.amplivo.com
SUMMARY:Formazione (IT)
DESCRIPTION:Formazione italiana in compagnia dei Top Leader e del Global Leader dott. Andrea Cerio. Ogni Lunedì\, informazioni e formazione tecnica e motivazionale.
URL:https://academy.amplivo.com/event/formazione-it-5/2028-11-06/
CATEGORIES:Training
ATTACH;FMTTYPE=image/jpeg:https://academy.amplivo.com/wp-content/uploads/Form.ITA_.jpg
END:VEVENT
BEGIN:VEVENT
DTSTART;TZID=UTC:20281107T200000
DTEND;TZID=UTC:20281107T210000
DTSTAMP:20260421T004950
CREATED:20260228T133108Z
LAST-MODIFIED:20260228T133108Z
UID:10006737-1857240000-1857243600@academy.amplivo.com
SUMMARY:Formación (ES)
DESCRIPTION:Estas formaciones\, impartidas por los principales líderes de la compañía\, te ayudarán a hacer crecer y desarrollar tu negocio con Amplivo\, para que puedas vivir la vida que realmente mereces mientras contribuyes a limpiar el planeta para las futuras generaciones.
URL:https://academy.amplivo.com/event/formacion-es-4/2028-11-07/
CATEGORIES:Training
ATTACH;FMTTYPE=image/jpeg:https://academy.amplivo.com/wp-content/uploads/Form.ESP_.jpg
END:VEVENT
BEGIN:VEVENT
DTSTART;TZID=UTC:20281107T211500
DTEND;TZID=UTC:20281107T221500
DTSTAMP:20260421T004950
CREATED:20260228T133343Z
LAST-MODIFIED:20260228T133343Z
UID:10006998-1857244500-1857248100@academy.amplivo.com
SUMMARY:Training (ENG)
DESCRIPTION:Training with the Global Leader dott. Andrea Cerio\, training on technical and motivational topics.
URL:https://academy.amplivo.com/event/training-eng-4/2028-11-07/
CATEGORIES:Training
ATTACH;FMTTYPE=image/jpeg:https://academy.amplivo.com/wp-content/uploads/Form.ENG_.jpg
END:VEVENT
BEGIN:VEVENT
DTSTART;TZID=UTC:20281113T203000
DTEND;TZID=UTC:20281113T220000
DTSTAMP:20260421T004950
CREATED:20260228T133747Z
LAST-MODIFIED:20260228T133747Z
UID:10007260-1857760200-1857765600@academy.amplivo.com
SUMMARY:Formazione (IT)
DESCRIPTION:Formazione italiana in compagnia dei Top Leader e del Global Leader dott. Andrea Cerio. Ogni Lunedì\, informazioni e formazione tecnica e motivazionale.
URL:https://academy.amplivo.com/event/formazione-it-5/2028-11-13/
CATEGORIES:Training
ATTACH;FMTTYPE=image/jpeg:https://academy.amplivo.com/wp-content/uploads/Form.ITA_.jpg
END:VEVENT
BEGIN:VEVENT
DTSTART;TZID=UTC:20281114T200000
DTEND;TZID=UTC:20281114T210000
DTSTAMP:20260421T004950
CREATED:20260228T133108Z
LAST-MODIFIED:20260228T133108Z
UID:10006738-1857844800-1857848400@academy.amplivo.com
SUMMARY:Formación (ES)
DESCRIPTION:Estas formaciones\, impartidas por los principales líderes de la compañía\, te ayudarán a hacer crecer y desarrollar tu negocio con Amplivo\, para que puedas vivir la vida que realmente mereces mientras contribuyes a limpiar el planeta para las futuras generaciones.
URL:https://academy.amplivo.com/event/formacion-es-4/2028-11-14/
CATEGORIES:Training
ATTACH;FMTTYPE=image/jpeg:https://academy.amplivo.com/wp-content/uploads/Form.ESP_.jpg
END:VEVENT
BEGIN:VEVENT
DTSTART;TZID=UTC:20281114T211500
DTEND;TZID=UTC:20281114T221500
DTSTAMP:20260421T004950
CREATED:20260228T133343Z
LAST-MODIFIED:20260228T133343Z
UID:10006999-1857849300-1857852900@academy.amplivo.com
SUMMARY:Training (ENG)
DESCRIPTION:Training with the Global Leader dott. Andrea Cerio\, training on technical and motivational topics.
URL:https://academy.amplivo.com/event/training-eng-4/2028-11-14/
CATEGORIES:Training
ATTACH;FMTTYPE=image/jpeg:https://academy.amplivo.com/wp-content/uploads/Form.ENG_.jpg
END:VEVENT
BEGIN:VEVENT
DTSTART;TZID=UTC:20281120T203000
DTEND;TZID=UTC:20281120T220000
DTSTAMP:20260421T004950
CREATED:20260228T133747Z
LAST-MODIFIED:20260228T133747Z
UID:10007261-1858365000-1858370400@academy.amplivo.com
SUMMARY:Formazione (IT)
DESCRIPTION:Formazione italiana in compagnia dei Top Leader e del Global Leader dott. Andrea Cerio. Ogni Lunedì\, informazioni e formazione tecnica e motivazionale.
URL:https://academy.amplivo.com/event/formazione-it-5/2028-11-20/
CATEGORIES:Training
ATTACH;FMTTYPE=image/jpeg:https://academy.amplivo.com/wp-content/uploads/Form.ITA_.jpg
END:VEVENT
BEGIN:VEVENT
DTSTART;TZID=UTC:20281121T200000
DTEND;TZID=UTC:20281121T210000
DTSTAMP:20260421T004950
CREATED:20260228T133108Z
LAST-MODIFIED:20260228T133108Z
UID:10006739-1858449600-1858453200@academy.amplivo.com
SUMMARY:Formación (ES)
DESCRIPTION:Estas formaciones\, impartidas por los principales líderes de la compañía\, te ayudarán a hacer crecer y desarrollar tu negocio con Amplivo\, para que puedas vivir la vida que realmente mereces mientras contribuyes a limpiar el planeta para las futuras generaciones.
URL:https://academy.amplivo.com/event/formacion-es-4/2028-11-21/
CATEGORIES:Training
ATTACH;FMTTYPE=image/jpeg:https://academy.amplivo.com/wp-content/uploads/Form.ESP_.jpg
END:VEVENT
BEGIN:VEVENT
DTSTART;TZID=UTC:20281121T211500
DTEND;TZID=UTC:20281121T221500
DTSTAMP:20260421T004950
CREATED:20260228T133343Z
LAST-MODIFIED:20260228T133343Z
UID:10007000-1858454100-1858457700@academy.amplivo.com
SUMMARY:Training (ENG)
DESCRIPTION:Training with the Global Leader dott. Andrea Cerio\, training on technical and motivational topics.
URL:https://academy.amplivo.com/event/training-eng-4/2028-11-21/
CATEGORIES:Training
ATTACH;FMTTYPE=image/jpeg:https://academy.amplivo.com/wp-content/uploads/Form.ENG_.jpg
END:VEVENT
END:VCALENDAR