BEGIN:VCALENDAR
VERSION:2.0
PRODID:-//Amplivo Academy - ECPv6.3.5//NONSGML v1.0//EN
CALSCALE:GREGORIAN
METHOD:PUBLISH
X-WR-CALNAME:Amplivo Academy
X-ORIGINAL-URL:https://academy.amplivo.com
X-WR-CALDESC:Events for Amplivo Academy
REFRESH-INTERVAL;VALUE=DURATION:PT1H
X-Robots-Tag:noindex
X-PUBLISHED-TTL:PT1H
BEGIN:VTIMEZONE
TZID:UTC
BEGIN:STANDARD
TZOFFSETFROM:+0000
TZOFFSETTO:+0000
TZNAME:UTC
DTSTART:20280101T000000
END:STANDARD
END:VTIMEZONE
BEGIN:VEVENT
DTSTART;TZID=UTC:20280403T203000
DTEND;TZID=UTC:20280403T220000
DTSTAMP:20260420T072926
CREATED:20260228T133747Z
LAST-MODIFIED:20260228T133747Z
UID:10007228-1838406600-1838412000@academy.amplivo.com
SUMMARY:Formazione (IT)
DESCRIPTION:Formazione italiana in compagnia dei Top Leader e del Global Leader dott. Andrea Cerio. Ogni Lunedì\, informazioni e formazione tecnica e motivazionale.
URL:https://academy.amplivo.com/event/formazione-it-5/2028-04-03/
CATEGORIES:Training
ATTACH;FMTTYPE=image/jpeg:https://academy.amplivo.com/wp-content/uploads/Form.ITA_.jpg
END:VEVENT
BEGIN:VEVENT
DTSTART;TZID=UTC:20280404T200000
DTEND;TZID=UTC:20280404T210000
DTSTAMP:20260420T072926
CREATED:20260228T133108Z
LAST-MODIFIED:20260228T133108Z
UID:10006706-1838491200-1838494800@academy.amplivo.com
SUMMARY:Formación (ES)
DESCRIPTION:Estas formaciones\, impartidas por los principales líderes de la compañía\, te ayudarán a hacer crecer y desarrollar tu negocio con Amplivo\, para que puedas vivir la vida que realmente mereces mientras contribuyes a limpiar el planeta para las futuras generaciones.
URL:https://academy.amplivo.com/event/formacion-es-4/2028-04-04/
CATEGORIES:Training
ATTACH;FMTTYPE=image/jpeg:https://academy.amplivo.com/wp-content/uploads/Form.ESP_.jpg
END:VEVENT
BEGIN:VEVENT
DTSTART;TZID=UTC:20280404T211500
DTEND;TZID=UTC:20280404T221500
DTSTAMP:20260420T072926
CREATED:20260228T133343Z
LAST-MODIFIED:20260228T133343Z
UID:10006967-1838495700-1838499300@academy.amplivo.com
SUMMARY:Training (ENG)
DESCRIPTION:Training with the Global Leader dott. Andrea Cerio\, training on technical and motivational topics.
URL:https://academy.amplivo.com/event/training-eng-4/2028-04-04/
CATEGORIES:Training
ATTACH;FMTTYPE=image/jpeg:https://academy.amplivo.com/wp-content/uploads/Form.ENG_.jpg
END:VEVENT
BEGIN:VEVENT
DTSTART;TZID=UTC:20280410T203000
DTEND;TZID=UTC:20280410T220000
DTSTAMP:20260420T072926
CREATED:20260228T133747Z
LAST-MODIFIED:20260228T133747Z
UID:10007229-1839011400-1839016800@academy.amplivo.com
SUMMARY:Formazione (IT)
DESCRIPTION:Formazione italiana in compagnia dei Top Leader e del Global Leader dott. Andrea Cerio. Ogni Lunedì\, informazioni e formazione tecnica e motivazionale.
URL:https://academy.amplivo.com/event/formazione-it-5/2028-04-10/
CATEGORIES:Training
ATTACH;FMTTYPE=image/jpeg:https://academy.amplivo.com/wp-content/uploads/Form.ITA_.jpg
END:VEVENT
BEGIN:VEVENT
DTSTART;TZID=UTC:20280411T200000
DTEND;TZID=UTC:20280411T210000
DTSTAMP:20260420T072926
CREATED:20260228T133108Z
LAST-MODIFIED:20260228T133108Z
UID:10006707-1839096000-1839099600@academy.amplivo.com
SUMMARY:Formación (ES)
DESCRIPTION:Estas formaciones\, impartidas por los principales líderes de la compañía\, te ayudarán a hacer crecer y desarrollar tu negocio con Amplivo\, para que puedas vivir la vida que realmente mereces mientras contribuyes a limpiar el planeta para las futuras generaciones.
URL:https://academy.amplivo.com/event/formacion-es-4/2028-04-11/
CATEGORIES:Training
ATTACH;FMTTYPE=image/jpeg:https://academy.amplivo.com/wp-content/uploads/Form.ESP_.jpg
END:VEVENT
BEGIN:VEVENT
DTSTART;TZID=UTC:20280411T211500
DTEND;TZID=UTC:20280411T221500
DTSTAMP:20260420T072926
CREATED:20260228T133343Z
LAST-MODIFIED:20260228T133343Z
UID:10006968-1839100500-1839104100@academy.amplivo.com
SUMMARY:Training (ENG)
DESCRIPTION:Training with the Global Leader dott. Andrea Cerio\, training on technical and motivational topics.
URL:https://academy.amplivo.com/event/training-eng-4/2028-04-11/
CATEGORIES:Training
ATTACH;FMTTYPE=image/jpeg:https://academy.amplivo.com/wp-content/uploads/Form.ENG_.jpg
END:VEVENT
BEGIN:VEVENT
DTSTART;TZID=UTC:20280417T203000
DTEND;TZID=UTC:20280417T220000
DTSTAMP:20260420T072926
CREATED:20260228T133747Z
LAST-MODIFIED:20260228T133747Z
UID:10007230-1839616200-1839621600@academy.amplivo.com
SUMMARY:Formazione (IT)
DESCRIPTION:Formazione italiana in compagnia dei Top Leader e del Global Leader dott. Andrea Cerio. Ogni Lunedì\, informazioni e formazione tecnica e motivazionale.
URL:https://academy.amplivo.com/event/formazione-it-5/2028-04-17/
CATEGORIES:Training
ATTACH;FMTTYPE=image/jpeg:https://academy.amplivo.com/wp-content/uploads/Form.ITA_.jpg
END:VEVENT
BEGIN:VEVENT
DTSTART;TZID=UTC:20280418T200000
DTEND;TZID=UTC:20280418T210000
DTSTAMP:20260420T072926
CREATED:20260228T133108Z
LAST-MODIFIED:20260228T133108Z
UID:10006708-1839700800-1839704400@academy.amplivo.com
SUMMARY:Formación (ES)
DESCRIPTION:Estas formaciones\, impartidas por los principales líderes de la compañía\, te ayudarán a hacer crecer y desarrollar tu negocio con Amplivo\, para que puedas vivir la vida que realmente mereces mientras contribuyes a limpiar el planeta para las futuras generaciones.
URL:https://academy.amplivo.com/event/formacion-es-4/2028-04-18/
CATEGORIES:Training
ATTACH;FMTTYPE=image/jpeg:https://academy.amplivo.com/wp-content/uploads/Form.ESP_.jpg
END:VEVENT
BEGIN:VEVENT
DTSTART;TZID=UTC:20280418T211500
DTEND;TZID=UTC:20280418T221500
DTSTAMP:20260420T072926
CREATED:20260228T133343Z
LAST-MODIFIED:20260228T133343Z
UID:10006969-1839705300-1839708900@academy.amplivo.com
SUMMARY:Training (ENG)
DESCRIPTION:Training with the Global Leader dott. Andrea Cerio\, training on technical and motivational topics.
URL:https://academy.amplivo.com/event/training-eng-4/2028-04-18/
CATEGORIES:Training
ATTACH;FMTTYPE=image/jpeg:https://academy.amplivo.com/wp-content/uploads/Form.ENG_.jpg
END:VEVENT
BEGIN:VEVENT
DTSTART;TZID=UTC:20280424T203000
DTEND;TZID=UTC:20280424T220000
DTSTAMP:20260420T072926
CREATED:20260228T133747Z
LAST-MODIFIED:20260228T133747Z
UID:10007231-1840221000-1840226400@academy.amplivo.com
SUMMARY:Formazione (IT)
DESCRIPTION:Formazione italiana in compagnia dei Top Leader e del Global Leader dott. Andrea Cerio. Ogni Lunedì\, informazioni e formazione tecnica e motivazionale.
URL:https://academy.amplivo.com/event/formazione-it-5/2028-04-24/
CATEGORIES:Training
ATTACH;FMTTYPE=image/jpeg:https://academy.amplivo.com/wp-content/uploads/Form.ITA_.jpg
END:VEVENT
BEGIN:VEVENT
DTSTART;TZID=UTC:20280425T200000
DTEND;TZID=UTC:20280425T210000
DTSTAMP:20260420T072926
CREATED:20260228T133108Z
LAST-MODIFIED:20260228T133108Z
UID:10006709-1840305600-1840309200@academy.amplivo.com
SUMMARY:Formación (ES)
DESCRIPTION:Estas formaciones\, impartidas por los principales líderes de la compañía\, te ayudarán a hacer crecer y desarrollar tu negocio con Amplivo\, para que puedas vivir la vida que realmente mereces mientras contribuyes a limpiar el planeta para las futuras generaciones.
URL:https://academy.amplivo.com/event/formacion-es-4/2028-04-25/
CATEGORIES:Training
ATTACH;FMTTYPE=image/jpeg:https://academy.amplivo.com/wp-content/uploads/Form.ESP_.jpg
END:VEVENT
BEGIN:VEVENT
DTSTART;TZID=UTC:20280425T211500
DTEND;TZID=UTC:20280425T221500
DTSTAMP:20260420T072926
CREATED:20260228T133343Z
LAST-MODIFIED:20260228T133343Z
UID:10006970-1840310100-1840313700@academy.amplivo.com
SUMMARY:Training (ENG)
DESCRIPTION:Training with the Global Leader dott. Andrea Cerio\, training on technical and motivational topics.
URL:https://academy.amplivo.com/event/training-eng-4/2028-04-25/
CATEGORIES:Training
ATTACH;FMTTYPE=image/jpeg:https://academy.amplivo.com/wp-content/uploads/Form.ENG_.jpg
END:VEVENT
BEGIN:VEVENT
DTSTART;TZID=UTC:20280501T203000
DTEND;TZID=UTC:20280501T220000
DTSTAMP:20260420T072926
CREATED:20260228T133747Z
LAST-MODIFIED:20260228T133747Z
UID:10007232-1840825800-1840831200@academy.amplivo.com
SUMMARY:Formazione (IT)
DESCRIPTION:Formazione italiana in compagnia dei Top Leader e del Global Leader dott. Andrea Cerio. Ogni Lunedì\, informazioni e formazione tecnica e motivazionale.
URL:https://academy.amplivo.com/event/formazione-it-5/2028-05-01/
CATEGORIES:Training
ATTACH;FMTTYPE=image/jpeg:https://academy.amplivo.com/wp-content/uploads/Form.ITA_.jpg
END:VEVENT
BEGIN:VEVENT
DTSTART;TZID=UTC:20280502T200000
DTEND;TZID=UTC:20280502T210000
DTSTAMP:20260420T072926
CREATED:20260228T133108Z
LAST-MODIFIED:20260228T133108Z
UID:10006710-1840910400-1840914000@academy.amplivo.com
SUMMARY:Formación (ES)
DESCRIPTION:Estas formaciones\, impartidas por los principales líderes de la compañía\, te ayudarán a hacer crecer y desarrollar tu negocio con Amplivo\, para que puedas vivir la vida que realmente mereces mientras contribuyes a limpiar el planeta para las futuras generaciones.
URL:https://academy.amplivo.com/event/formacion-es-4/2028-05-02/
CATEGORIES:Training
ATTACH;FMTTYPE=image/jpeg:https://academy.amplivo.com/wp-content/uploads/Form.ESP_.jpg
END:VEVENT
BEGIN:VEVENT
DTSTART;TZID=UTC:20280502T211500
DTEND;TZID=UTC:20280502T221500
DTSTAMP:20260420T072926
CREATED:20260228T133343Z
LAST-MODIFIED:20260228T133343Z
UID:10006971-1840914900-1840918500@academy.amplivo.com
SUMMARY:Training (ENG)
DESCRIPTION:Training with the Global Leader dott. Andrea Cerio\, training on technical and motivational topics.
URL:https://academy.amplivo.com/event/training-eng-4/2028-05-02/
CATEGORIES:Training
ATTACH;FMTTYPE=image/jpeg:https://academy.amplivo.com/wp-content/uploads/Form.ENG_.jpg
END:VEVENT
BEGIN:VEVENT
DTSTART;TZID=UTC:20280508T203000
DTEND;TZID=UTC:20280508T220000
DTSTAMP:20260420T072926
CREATED:20260228T133747Z
LAST-MODIFIED:20260228T133747Z
UID:10007233-1841430600-1841436000@academy.amplivo.com
SUMMARY:Formazione (IT)
DESCRIPTION:Formazione italiana in compagnia dei Top Leader e del Global Leader dott. Andrea Cerio. Ogni Lunedì\, informazioni e formazione tecnica e motivazionale.
URL:https://academy.amplivo.com/event/formazione-it-5/2028-05-08/
CATEGORIES:Training
ATTACH;FMTTYPE=image/jpeg:https://academy.amplivo.com/wp-content/uploads/Form.ITA_.jpg
END:VEVENT
BEGIN:VEVENT
DTSTART;TZID=UTC:20280509T200000
DTEND;TZID=UTC:20280509T210000
DTSTAMP:20260420T072926
CREATED:20260228T133108Z
LAST-MODIFIED:20260228T133108Z
UID:10006711-1841515200-1841518800@academy.amplivo.com
SUMMARY:Formación (ES)
DESCRIPTION:Estas formaciones\, impartidas por los principales líderes de la compañía\, te ayudarán a hacer crecer y desarrollar tu negocio con Amplivo\, para que puedas vivir la vida que realmente mereces mientras contribuyes a limpiar el planeta para las futuras generaciones.
URL:https://academy.amplivo.com/event/formacion-es-4/2028-05-09/
CATEGORIES:Training
ATTACH;FMTTYPE=image/jpeg:https://academy.amplivo.com/wp-content/uploads/Form.ESP_.jpg
END:VEVENT
BEGIN:VEVENT
DTSTART;TZID=UTC:20280509T211500
DTEND;TZID=UTC:20280509T221500
DTSTAMP:20260420T072926
CREATED:20260228T133343Z
LAST-MODIFIED:20260228T133343Z
UID:10006972-1841519700-1841523300@academy.amplivo.com
SUMMARY:Training (ENG)
DESCRIPTION:Training with the Global Leader dott. Andrea Cerio\, training on technical and motivational topics.
URL:https://academy.amplivo.com/event/training-eng-4/2028-05-09/
CATEGORIES:Training
ATTACH;FMTTYPE=image/jpeg:https://academy.amplivo.com/wp-content/uploads/Form.ENG_.jpg
END:VEVENT
BEGIN:VEVENT
DTSTART;TZID=UTC:20280515T203000
DTEND;TZID=UTC:20280515T220000
DTSTAMP:20260420T072926
CREATED:20260228T133747Z
LAST-MODIFIED:20260228T133747Z
UID:10007234-1842035400-1842040800@academy.amplivo.com
SUMMARY:Formazione (IT)
DESCRIPTION:Formazione italiana in compagnia dei Top Leader e del Global Leader dott. Andrea Cerio. Ogni Lunedì\, informazioni e formazione tecnica e motivazionale.
URL:https://academy.amplivo.com/event/formazione-it-5/2028-05-15/
CATEGORIES:Training
ATTACH;FMTTYPE=image/jpeg:https://academy.amplivo.com/wp-content/uploads/Form.ITA_.jpg
END:VEVENT
BEGIN:VEVENT
DTSTART;TZID=UTC:20280516T200000
DTEND;TZID=UTC:20280516T210000
DTSTAMP:20260420T072926
CREATED:20260228T133108Z
LAST-MODIFIED:20260228T133108Z
UID:10006712-1842120000-1842123600@academy.amplivo.com
SUMMARY:Formación (ES)
DESCRIPTION:Estas formaciones\, impartidas por los principales líderes de la compañía\, te ayudarán a hacer crecer y desarrollar tu negocio con Amplivo\, para que puedas vivir la vida que realmente mereces mientras contribuyes a limpiar el planeta para las futuras generaciones.
URL:https://academy.amplivo.com/event/formacion-es-4/2028-05-16/
CATEGORIES:Training
ATTACH;FMTTYPE=image/jpeg:https://academy.amplivo.com/wp-content/uploads/Form.ESP_.jpg
END:VEVENT
BEGIN:VEVENT
DTSTART;TZID=UTC:20280516T211500
DTEND;TZID=UTC:20280516T221500
DTSTAMP:20260420T072926
CREATED:20260228T133343Z
LAST-MODIFIED:20260228T133343Z
UID:10006973-1842124500-1842128100@academy.amplivo.com
SUMMARY:Training (ENG)
DESCRIPTION:Training with the Global Leader dott. Andrea Cerio\, training on technical and motivational topics.
URL:https://academy.amplivo.com/event/training-eng-4/2028-05-16/
CATEGORIES:Training
ATTACH;FMTTYPE=image/jpeg:https://academy.amplivo.com/wp-content/uploads/Form.ENG_.jpg
END:VEVENT
BEGIN:VEVENT
DTSTART;TZID=UTC:20280522T203000
DTEND;TZID=UTC:20280522T220000
DTSTAMP:20260420T072926
CREATED:20260228T133747Z
LAST-MODIFIED:20260228T133747Z
UID:10007235-1842640200-1842645600@academy.amplivo.com
SUMMARY:Formazione (IT)
DESCRIPTION:Formazione italiana in compagnia dei Top Leader e del Global Leader dott. Andrea Cerio. Ogni Lunedì\, informazioni e formazione tecnica e motivazionale.
URL:https://academy.amplivo.com/event/formazione-it-5/2028-05-22/
CATEGORIES:Training
ATTACH;FMTTYPE=image/jpeg:https://academy.amplivo.com/wp-content/uploads/Form.ITA_.jpg
END:VEVENT
BEGIN:VEVENT
DTSTART;TZID=UTC:20280523T200000
DTEND;TZID=UTC:20280523T210000
DTSTAMP:20260420T072926
CREATED:20260228T133108Z
LAST-MODIFIED:20260228T133108Z
UID:10006713-1842724800-1842728400@academy.amplivo.com
SUMMARY:Formación (ES)
DESCRIPTION:Estas formaciones\, impartidas por los principales líderes de la compañía\, te ayudarán a hacer crecer y desarrollar tu negocio con Amplivo\, para que puedas vivir la vida que realmente mereces mientras contribuyes a limpiar el planeta para las futuras generaciones.
URL:https://academy.amplivo.com/event/formacion-es-4/2028-05-23/
CATEGORIES:Training
ATTACH;FMTTYPE=image/jpeg:https://academy.amplivo.com/wp-content/uploads/Form.ESP_.jpg
END:VEVENT
BEGIN:VEVENT
DTSTART;TZID=UTC:20280523T211500
DTEND;TZID=UTC:20280523T221500
DTSTAMP:20260420T072926
CREATED:20260228T133343Z
LAST-MODIFIED:20260228T133343Z
UID:10006974-1842729300-1842732900@academy.amplivo.com
SUMMARY:Training (ENG)
DESCRIPTION:Training with the Global Leader dott. Andrea Cerio\, training on technical and motivational topics.
URL:https://academy.amplivo.com/event/training-eng-4/2028-05-23/
CATEGORIES:Training
ATTACH;FMTTYPE=image/jpeg:https://academy.amplivo.com/wp-content/uploads/Form.ENG_.jpg
END:VEVENT
BEGIN:VEVENT
DTSTART;TZID=UTC:20280529T203000
DTEND;TZID=UTC:20280529T220000
DTSTAMP:20260420T072926
CREATED:20260228T133747Z
LAST-MODIFIED:20260228T133747Z
UID:10007236-1843245000-1843250400@academy.amplivo.com
SUMMARY:Formazione (IT)
DESCRIPTION:Formazione italiana in compagnia dei Top Leader e del Global Leader dott. Andrea Cerio. Ogni Lunedì\, informazioni e formazione tecnica e motivazionale.
URL:https://academy.amplivo.com/event/formazione-it-5/2028-05-29/
CATEGORIES:Training
ATTACH;FMTTYPE=image/jpeg:https://academy.amplivo.com/wp-content/uploads/Form.ITA_.jpg
END:VEVENT
BEGIN:VEVENT
DTSTART;TZID=UTC:20280530T200000
DTEND;TZID=UTC:20280530T210000
DTSTAMP:20260420T072926
CREATED:20260228T133108Z
LAST-MODIFIED:20260228T133108Z
UID:10006714-1843329600-1843333200@academy.amplivo.com
SUMMARY:Formación (ES)
DESCRIPTION:Estas formaciones\, impartidas por los principales líderes de la compañía\, te ayudarán a hacer crecer y desarrollar tu negocio con Amplivo\, para que puedas vivir la vida que realmente mereces mientras contribuyes a limpiar el planeta para las futuras generaciones.
URL:https://academy.amplivo.com/event/formacion-es-4/2028-05-30/
CATEGORIES:Training
ATTACH;FMTTYPE=image/jpeg:https://academy.amplivo.com/wp-content/uploads/Form.ESP_.jpg
END:VEVENT
BEGIN:VEVENT
DTSTART;TZID=UTC:20280530T211500
DTEND;TZID=UTC:20280530T221500
DTSTAMP:20260420T072926
CREATED:20260228T133343Z
LAST-MODIFIED:20260228T133343Z
UID:10006975-1843334100-1843337700@academy.amplivo.com
SUMMARY:Training (ENG)
DESCRIPTION:Training with the Global Leader dott. Andrea Cerio\, training on technical and motivational topics.
URL:https://academy.amplivo.com/event/training-eng-4/2028-05-30/
CATEGORIES:Training
ATTACH;FMTTYPE=image/jpeg:https://academy.amplivo.com/wp-content/uploads/Form.ENG_.jpg
END:VEVENT
BEGIN:VEVENT
DTSTART;TZID=UTC:20280605T203000
DTEND;TZID=UTC:20280605T220000
DTSTAMP:20260420T072926
CREATED:20260228T133747Z
LAST-MODIFIED:20260228T133747Z
UID:10007237-1843849800-1843855200@academy.amplivo.com
SUMMARY:Formazione (IT)
DESCRIPTION:Formazione italiana in compagnia dei Top Leader e del Global Leader dott. Andrea Cerio. Ogni Lunedì\, informazioni e formazione tecnica e motivazionale.
URL:https://academy.amplivo.com/event/formazione-it-5/2028-06-05/
CATEGORIES:Training
ATTACH;FMTTYPE=image/jpeg:https://academy.amplivo.com/wp-content/uploads/Form.ITA_.jpg
END:VEVENT
BEGIN:VEVENT
DTSTART;TZID=UTC:20280606T200000
DTEND;TZID=UTC:20280606T210000
DTSTAMP:20260420T072926
CREATED:20260228T133108Z
LAST-MODIFIED:20260228T133108Z
UID:10006715-1843934400-1843938000@academy.amplivo.com
SUMMARY:Formación (ES)
DESCRIPTION:Estas formaciones\, impartidas por los principales líderes de la compañía\, te ayudarán a hacer crecer y desarrollar tu negocio con Amplivo\, para que puedas vivir la vida que realmente mereces mientras contribuyes a limpiar el planeta para las futuras generaciones.
URL:https://academy.amplivo.com/event/formacion-es-4/2028-06-06/
CATEGORIES:Training
ATTACH;FMTTYPE=image/jpeg:https://academy.amplivo.com/wp-content/uploads/Form.ESP_.jpg
END:VEVENT
BEGIN:VEVENT
DTSTART;TZID=UTC:20280606T211500
DTEND;TZID=UTC:20280606T221500
DTSTAMP:20260420T072926
CREATED:20260228T133343Z
LAST-MODIFIED:20260228T133343Z
UID:10006976-1843938900-1843942500@academy.amplivo.com
SUMMARY:Training (ENG)
DESCRIPTION:Training with the Global Leader dott. Andrea Cerio\, training on technical and motivational topics.
URL:https://academy.amplivo.com/event/training-eng-4/2028-06-06/
CATEGORIES:Training
ATTACH;FMTTYPE=image/jpeg:https://academy.amplivo.com/wp-content/uploads/Form.ENG_.jpg
END:VEVENT
END:VCALENDAR