BEGIN:VCALENDAR
VERSION:2.0
PRODID:-//Amplivo Academy - ECPv6.3.5//NONSGML v1.0//EN
CALSCALE:GREGORIAN
METHOD:PUBLISH
X-WR-CALNAME:Amplivo Academy
X-ORIGINAL-URL:https://academy.amplivo.com
X-WR-CALDESC:Events for Amplivo Academy
REFRESH-INTERVAL;VALUE=DURATION:PT1H
X-Robots-Tag:noindex
X-PUBLISHED-TTL:PT1H
BEGIN:VTIMEZONE
TZID:UTC
BEGIN:STANDARD
TZOFFSETFROM:+0000
TZOFFSETTO:+0000
TZNAME:UTC
DTSTART:20280101T000000
END:STANDARD
END:VTIMEZONE
BEGIN:VEVENT
DTSTART;TZID=UTC:20280125T200000
DTEND;TZID=UTC:20280125T210000
DTSTAMP:20260420T043703
CREATED:20260228T133108Z
LAST-MODIFIED:20260228T133108Z
UID:10006696-1832443200-1832446800@academy.amplivo.com
SUMMARY:Formación (ES)
DESCRIPTION:Estas formaciones\, impartidas por los principales líderes de la compañía\, te ayudarán a hacer crecer y desarrollar tu negocio con Amplivo\, para que puedas vivir la vida que realmente mereces mientras contribuyes a limpiar el planeta para las futuras generaciones.
URL:https://academy.amplivo.com/event/formacion-es-4/2028-01-25/
CATEGORIES:Training
ATTACH;FMTTYPE=image/jpeg:https://academy.amplivo.com/wp-content/uploads/Form.ESP_.jpg
END:VEVENT
BEGIN:VEVENT
DTSTART;TZID=UTC:20280125T211500
DTEND;TZID=UTC:20280125T221500
DTSTAMP:20260420T043703
CREATED:20260228T133343Z
LAST-MODIFIED:20260228T133343Z
UID:10006957-1832447700-1832451300@academy.amplivo.com
SUMMARY:Training (ENG)
DESCRIPTION:Training with the Global Leader dott. Andrea Cerio\, training on technical and motivational topics.
URL:https://academy.amplivo.com/event/training-eng-4/2028-01-25/
CATEGORIES:Training
ATTACH;FMTTYPE=image/jpeg:https://academy.amplivo.com/wp-content/uploads/Form.ENG_.jpg
END:VEVENT
BEGIN:VEVENT
DTSTART;TZID=UTC:20280131T203000
DTEND;TZID=UTC:20280131T220000
DTSTAMP:20260420T043703
CREATED:20260228T133747Z
LAST-MODIFIED:20260228T133747Z
UID:10007219-1832963400-1832968800@academy.amplivo.com
SUMMARY:Formazione (IT)
DESCRIPTION:Formazione italiana in compagnia dei Top Leader e del Global Leader dott. Andrea Cerio. Ogni Lunedì\, informazioni e formazione tecnica e motivazionale.
URL:https://academy.amplivo.com/event/formazione-it-5/2028-01-31/
CATEGORIES:Training
ATTACH;FMTTYPE=image/jpeg:https://academy.amplivo.com/wp-content/uploads/Form.ITA_.jpg
END:VEVENT
BEGIN:VEVENT
DTSTART;TZID=UTC:20280201T200000
DTEND;TZID=UTC:20280201T210000
DTSTAMP:20260420T043703
CREATED:20260228T133108Z
LAST-MODIFIED:20260228T133108Z
UID:10006697-1833048000-1833051600@academy.amplivo.com
SUMMARY:Formación (ES)
DESCRIPTION:Estas formaciones\, impartidas por los principales líderes de la compañía\, te ayudarán a hacer crecer y desarrollar tu negocio con Amplivo\, para que puedas vivir la vida que realmente mereces mientras contribuyes a limpiar el planeta para las futuras generaciones.
URL:https://academy.amplivo.com/event/formacion-es-4/2028-02-01/
CATEGORIES:Training
ATTACH;FMTTYPE=image/jpeg:https://academy.amplivo.com/wp-content/uploads/Form.ESP_.jpg
END:VEVENT
BEGIN:VEVENT
DTSTART;TZID=UTC:20280201T211500
DTEND;TZID=UTC:20280201T221500
DTSTAMP:20260420T043703
CREATED:20260228T133343Z
LAST-MODIFIED:20260228T133343Z
UID:10006958-1833052500-1833056100@academy.amplivo.com
SUMMARY:Training (ENG)
DESCRIPTION:Training with the Global Leader dott. Andrea Cerio\, training on technical and motivational topics.
URL:https://academy.amplivo.com/event/training-eng-4/2028-02-01/
CATEGORIES:Training
ATTACH;FMTTYPE=image/jpeg:https://academy.amplivo.com/wp-content/uploads/Form.ENG_.jpg
END:VEVENT
BEGIN:VEVENT
DTSTART;TZID=UTC:20280207T203000
DTEND;TZID=UTC:20280207T220000
DTSTAMP:20260420T043703
CREATED:20260228T133747Z
LAST-MODIFIED:20260228T133747Z
UID:10007220-1833568200-1833573600@academy.amplivo.com
SUMMARY:Formazione (IT)
DESCRIPTION:Formazione italiana in compagnia dei Top Leader e del Global Leader dott. Andrea Cerio. Ogni Lunedì\, informazioni e formazione tecnica e motivazionale.
URL:https://academy.amplivo.com/event/formazione-it-5/2028-02-07/
CATEGORIES:Training
ATTACH;FMTTYPE=image/jpeg:https://academy.amplivo.com/wp-content/uploads/Form.ITA_.jpg
END:VEVENT
BEGIN:VEVENT
DTSTART;TZID=UTC:20280208T200000
DTEND;TZID=UTC:20280208T210000
DTSTAMP:20260420T043703
CREATED:20260228T133108Z
LAST-MODIFIED:20260228T133108Z
UID:10006698-1833652800-1833656400@academy.amplivo.com
SUMMARY:Formación (ES)
DESCRIPTION:Estas formaciones\, impartidas por los principales líderes de la compañía\, te ayudarán a hacer crecer y desarrollar tu negocio con Amplivo\, para que puedas vivir la vida que realmente mereces mientras contribuyes a limpiar el planeta para las futuras generaciones.
URL:https://academy.amplivo.com/event/formacion-es-4/2028-02-08/
CATEGORIES:Training
ATTACH;FMTTYPE=image/jpeg:https://academy.amplivo.com/wp-content/uploads/Form.ESP_.jpg
END:VEVENT
BEGIN:VEVENT
DTSTART;TZID=UTC:20280208T211500
DTEND;TZID=UTC:20280208T221500
DTSTAMP:20260420T043703
CREATED:20260228T133343Z
LAST-MODIFIED:20260228T133343Z
UID:10006959-1833657300-1833660900@academy.amplivo.com
SUMMARY:Training (ENG)
DESCRIPTION:Training with the Global Leader dott. Andrea Cerio\, training on technical and motivational topics.
URL:https://academy.amplivo.com/event/training-eng-4/2028-02-08/
CATEGORIES:Training
ATTACH;FMTTYPE=image/jpeg:https://academy.amplivo.com/wp-content/uploads/Form.ENG_.jpg
END:VEVENT
BEGIN:VEVENT
DTSTART;TZID=UTC:20280214T203000
DTEND;TZID=UTC:20280214T220000
DTSTAMP:20260420T043703
CREATED:20260228T133747Z
LAST-MODIFIED:20260228T133747Z
UID:10007221-1834173000-1834178400@academy.amplivo.com
SUMMARY:Formazione (IT)
DESCRIPTION:Formazione italiana in compagnia dei Top Leader e del Global Leader dott. Andrea Cerio. Ogni Lunedì\, informazioni e formazione tecnica e motivazionale.
URL:https://academy.amplivo.com/event/formazione-it-5/2028-02-14/
CATEGORIES:Training
ATTACH;FMTTYPE=image/jpeg:https://academy.amplivo.com/wp-content/uploads/Form.ITA_.jpg
END:VEVENT
BEGIN:VEVENT
DTSTART;TZID=UTC:20280215T200000
DTEND;TZID=UTC:20280215T210000
DTSTAMP:20260420T043703
CREATED:20260228T133108Z
LAST-MODIFIED:20260228T133108Z
UID:10006699-1834257600-1834261200@academy.amplivo.com
SUMMARY:Formación (ES)
DESCRIPTION:Estas formaciones\, impartidas por los principales líderes de la compañía\, te ayudarán a hacer crecer y desarrollar tu negocio con Amplivo\, para que puedas vivir la vida que realmente mereces mientras contribuyes a limpiar el planeta para las futuras generaciones.
URL:https://academy.amplivo.com/event/formacion-es-4/2028-02-15/
CATEGORIES:Training
ATTACH;FMTTYPE=image/jpeg:https://academy.amplivo.com/wp-content/uploads/Form.ESP_.jpg
END:VEVENT
BEGIN:VEVENT
DTSTART;TZID=UTC:20280215T211500
DTEND;TZID=UTC:20280215T221500
DTSTAMP:20260420T043703
CREATED:20260228T133343Z
LAST-MODIFIED:20260228T133343Z
UID:10006960-1834262100-1834265700@academy.amplivo.com
SUMMARY:Training (ENG)
DESCRIPTION:Training with the Global Leader dott. Andrea Cerio\, training on technical and motivational topics.
URL:https://academy.amplivo.com/event/training-eng-4/2028-02-15/
CATEGORIES:Training
ATTACH;FMTTYPE=image/jpeg:https://academy.amplivo.com/wp-content/uploads/Form.ENG_.jpg
END:VEVENT
BEGIN:VEVENT
DTSTART;TZID=UTC:20280221T203000
DTEND;TZID=UTC:20280221T220000
DTSTAMP:20260420T043703
CREATED:20260228T133747Z
LAST-MODIFIED:20260228T133747Z
UID:10007222-1834777800-1834783200@academy.amplivo.com
SUMMARY:Formazione (IT)
DESCRIPTION:Formazione italiana in compagnia dei Top Leader e del Global Leader dott. Andrea Cerio. Ogni Lunedì\, informazioni e formazione tecnica e motivazionale.
URL:https://academy.amplivo.com/event/formazione-it-5/2028-02-21/
CATEGORIES:Training
ATTACH;FMTTYPE=image/jpeg:https://academy.amplivo.com/wp-content/uploads/Form.ITA_.jpg
END:VEVENT
BEGIN:VEVENT
DTSTART;TZID=UTC:20280222T200000
DTEND;TZID=UTC:20280222T210000
DTSTAMP:20260420T043703
CREATED:20260228T133108Z
LAST-MODIFIED:20260228T133108Z
UID:10006700-1834862400-1834866000@academy.amplivo.com
SUMMARY:Formación (ES)
DESCRIPTION:Estas formaciones\, impartidas por los principales líderes de la compañía\, te ayudarán a hacer crecer y desarrollar tu negocio con Amplivo\, para que puedas vivir la vida que realmente mereces mientras contribuyes a limpiar el planeta para las futuras generaciones.
URL:https://academy.amplivo.com/event/formacion-es-4/2028-02-22/
CATEGORIES:Training
ATTACH;FMTTYPE=image/jpeg:https://academy.amplivo.com/wp-content/uploads/Form.ESP_.jpg
END:VEVENT
BEGIN:VEVENT
DTSTART;TZID=UTC:20280222T211500
DTEND;TZID=UTC:20280222T221500
DTSTAMP:20260420T043703
CREATED:20260228T133343Z
LAST-MODIFIED:20260228T133343Z
UID:10006961-1834866900-1834870500@academy.amplivo.com
SUMMARY:Training (ENG)
DESCRIPTION:Training with the Global Leader dott. Andrea Cerio\, training on technical and motivational topics.
URL:https://academy.amplivo.com/event/training-eng-4/2028-02-22/
CATEGORIES:Training
ATTACH;FMTTYPE=image/jpeg:https://academy.amplivo.com/wp-content/uploads/Form.ENG_.jpg
END:VEVENT
BEGIN:VEVENT
DTSTART;TZID=UTC:20280228T203000
DTEND;TZID=UTC:20280228T220000
DTSTAMP:20260420T043703
CREATED:20260228T133747Z
LAST-MODIFIED:20260228T133747Z
UID:10007223-1835382600-1835388000@academy.amplivo.com
SUMMARY:Formazione (IT)
DESCRIPTION:Formazione italiana in compagnia dei Top Leader e del Global Leader dott. Andrea Cerio. Ogni Lunedì\, informazioni e formazione tecnica e motivazionale.
URL:https://academy.amplivo.com/event/formazione-it-5/2028-02-28/
CATEGORIES:Training
ATTACH;FMTTYPE=image/jpeg:https://academy.amplivo.com/wp-content/uploads/Form.ITA_.jpg
END:VEVENT
BEGIN:VEVENT
DTSTART;TZID=UTC:20280229T200000
DTEND;TZID=UTC:20280229T210000
DTSTAMP:20260420T043703
CREATED:20260228T133108Z
LAST-MODIFIED:20260228T133108Z
UID:10006701-1835467200-1835470800@academy.amplivo.com
SUMMARY:Formación (ES)
DESCRIPTION:Estas formaciones\, impartidas por los principales líderes de la compañía\, te ayudarán a hacer crecer y desarrollar tu negocio con Amplivo\, para que puedas vivir la vida que realmente mereces mientras contribuyes a limpiar el planeta para las futuras generaciones.
URL:https://academy.amplivo.com/event/formacion-es-4/2028-02-29/
CATEGORIES:Training
ATTACH;FMTTYPE=image/jpeg:https://academy.amplivo.com/wp-content/uploads/Form.ESP_.jpg
END:VEVENT
BEGIN:VEVENT
DTSTART;TZID=UTC:20280229T211500
DTEND;TZID=UTC:20280229T221500
DTSTAMP:20260420T043703
CREATED:20260228T133343Z
LAST-MODIFIED:20260228T133343Z
UID:10006962-1835471700-1835475300@academy.amplivo.com
SUMMARY:Training (ENG)
DESCRIPTION:Training with the Global Leader dott. Andrea Cerio\, training on technical and motivational topics.
URL:https://academy.amplivo.com/event/training-eng-4/2028-02-29/
CATEGORIES:Training
ATTACH;FMTTYPE=image/jpeg:https://academy.amplivo.com/wp-content/uploads/Form.ENG_.jpg
END:VEVENT
BEGIN:VEVENT
DTSTART;TZID=UTC:20280306T203000
DTEND;TZID=UTC:20280306T220000
DTSTAMP:20260420T043703
CREATED:20260228T133747Z
LAST-MODIFIED:20260228T133747Z
UID:10007224-1835987400-1835992800@academy.amplivo.com
SUMMARY:Formazione (IT)
DESCRIPTION:Formazione italiana in compagnia dei Top Leader e del Global Leader dott. Andrea Cerio. Ogni Lunedì\, informazioni e formazione tecnica e motivazionale.
URL:https://academy.amplivo.com/event/formazione-it-5/2028-03-06/
CATEGORIES:Training
ATTACH;FMTTYPE=image/jpeg:https://academy.amplivo.com/wp-content/uploads/Form.ITA_.jpg
END:VEVENT
BEGIN:VEVENT
DTSTART;TZID=UTC:20280307T200000
DTEND;TZID=UTC:20280307T210000
DTSTAMP:20260420T043703
CREATED:20260228T133108Z
LAST-MODIFIED:20260228T133108Z
UID:10006702-1836072000-1836075600@academy.amplivo.com
SUMMARY:Formación (ES)
DESCRIPTION:Estas formaciones\, impartidas por los principales líderes de la compañía\, te ayudarán a hacer crecer y desarrollar tu negocio con Amplivo\, para que puedas vivir la vida que realmente mereces mientras contribuyes a limpiar el planeta para las futuras generaciones.
URL:https://academy.amplivo.com/event/formacion-es-4/2028-03-07/
CATEGORIES:Training
ATTACH;FMTTYPE=image/jpeg:https://academy.amplivo.com/wp-content/uploads/Form.ESP_.jpg
END:VEVENT
BEGIN:VEVENT
DTSTART;TZID=UTC:20280307T211500
DTEND;TZID=UTC:20280307T221500
DTSTAMP:20260420T043703
CREATED:20260228T133343Z
LAST-MODIFIED:20260228T133343Z
UID:10006963-1836076500-1836080100@academy.amplivo.com
SUMMARY:Training (ENG)
DESCRIPTION:Training with the Global Leader dott. Andrea Cerio\, training on technical and motivational topics.
URL:https://academy.amplivo.com/event/training-eng-4/2028-03-07/
CATEGORIES:Training
ATTACH;FMTTYPE=image/jpeg:https://academy.amplivo.com/wp-content/uploads/Form.ENG_.jpg
END:VEVENT
BEGIN:VEVENT
DTSTART;TZID=UTC:20280313T203000
DTEND;TZID=UTC:20280313T220000
DTSTAMP:20260420T043703
CREATED:20260228T133747Z
LAST-MODIFIED:20260228T133747Z
UID:10007225-1836592200-1836597600@academy.amplivo.com
SUMMARY:Formazione (IT)
DESCRIPTION:Formazione italiana in compagnia dei Top Leader e del Global Leader dott. Andrea Cerio. Ogni Lunedì\, informazioni e formazione tecnica e motivazionale.
URL:https://academy.amplivo.com/event/formazione-it-5/2028-03-13/
CATEGORIES:Training
ATTACH;FMTTYPE=image/jpeg:https://academy.amplivo.com/wp-content/uploads/Form.ITA_.jpg
END:VEVENT
BEGIN:VEVENT
DTSTART;TZID=UTC:20280314T200000
DTEND;TZID=UTC:20280314T210000
DTSTAMP:20260420T043703
CREATED:20260228T133108Z
LAST-MODIFIED:20260228T133108Z
UID:10006703-1836676800-1836680400@academy.amplivo.com
SUMMARY:Formación (ES)
DESCRIPTION:Estas formaciones\, impartidas por los principales líderes de la compañía\, te ayudarán a hacer crecer y desarrollar tu negocio con Amplivo\, para que puedas vivir la vida que realmente mereces mientras contribuyes a limpiar el planeta para las futuras generaciones.
URL:https://academy.amplivo.com/event/formacion-es-4/2028-03-14/
CATEGORIES:Training
ATTACH;FMTTYPE=image/jpeg:https://academy.amplivo.com/wp-content/uploads/Form.ESP_.jpg
END:VEVENT
BEGIN:VEVENT
DTSTART;TZID=UTC:20280314T211500
DTEND;TZID=UTC:20280314T221500
DTSTAMP:20260420T043703
CREATED:20260228T133343Z
LAST-MODIFIED:20260228T133343Z
UID:10006964-1836681300-1836684900@academy.amplivo.com
SUMMARY:Training (ENG)
DESCRIPTION:Training with the Global Leader dott. Andrea Cerio\, training on technical and motivational topics.
URL:https://academy.amplivo.com/event/training-eng-4/2028-03-14/
CATEGORIES:Training
ATTACH;FMTTYPE=image/jpeg:https://academy.amplivo.com/wp-content/uploads/Form.ENG_.jpg
END:VEVENT
BEGIN:VEVENT
DTSTART;TZID=UTC:20280320T203000
DTEND;TZID=UTC:20280320T220000
DTSTAMP:20260420T043703
CREATED:20260228T133747Z
LAST-MODIFIED:20260228T133747Z
UID:10007226-1837197000-1837202400@academy.amplivo.com
SUMMARY:Formazione (IT)
DESCRIPTION:Formazione italiana in compagnia dei Top Leader e del Global Leader dott. Andrea Cerio. Ogni Lunedì\, informazioni e formazione tecnica e motivazionale.
URL:https://academy.amplivo.com/event/formazione-it-5/2028-03-20/
CATEGORIES:Training
ATTACH;FMTTYPE=image/jpeg:https://academy.amplivo.com/wp-content/uploads/Form.ITA_.jpg
END:VEVENT
BEGIN:VEVENT
DTSTART;TZID=UTC:20280321T200000
DTEND;TZID=UTC:20280321T210000
DTSTAMP:20260420T043703
CREATED:20260228T133108Z
LAST-MODIFIED:20260228T133108Z
UID:10006704-1837281600-1837285200@academy.amplivo.com
SUMMARY:Formación (ES)
DESCRIPTION:Estas formaciones\, impartidas por los principales líderes de la compañía\, te ayudarán a hacer crecer y desarrollar tu negocio con Amplivo\, para que puedas vivir la vida que realmente mereces mientras contribuyes a limpiar el planeta para las futuras generaciones.
URL:https://academy.amplivo.com/event/formacion-es-4/2028-03-21/
CATEGORIES:Training
ATTACH;FMTTYPE=image/jpeg:https://academy.amplivo.com/wp-content/uploads/Form.ESP_.jpg
END:VEVENT
BEGIN:VEVENT
DTSTART;TZID=UTC:20280321T211500
DTEND;TZID=UTC:20280321T221500
DTSTAMP:20260420T043703
CREATED:20260228T133343Z
LAST-MODIFIED:20260228T133343Z
UID:10006965-1837286100-1837289700@academy.amplivo.com
SUMMARY:Training (ENG)
DESCRIPTION:Training with the Global Leader dott. Andrea Cerio\, training on technical and motivational topics.
URL:https://academy.amplivo.com/event/training-eng-4/2028-03-21/
CATEGORIES:Training
ATTACH;FMTTYPE=image/jpeg:https://academy.amplivo.com/wp-content/uploads/Form.ENG_.jpg
END:VEVENT
BEGIN:VEVENT
DTSTART;TZID=UTC:20280327T203000
DTEND;TZID=UTC:20280327T220000
DTSTAMP:20260420T043703
CREATED:20260228T133747Z
LAST-MODIFIED:20260228T133747Z
UID:10007227-1837801800-1837807200@academy.amplivo.com
SUMMARY:Formazione (IT)
DESCRIPTION:Formazione italiana in compagnia dei Top Leader e del Global Leader dott. Andrea Cerio. Ogni Lunedì\, informazioni e formazione tecnica e motivazionale.
URL:https://academy.amplivo.com/event/formazione-it-5/2028-03-27/
CATEGORIES:Training
ATTACH;FMTTYPE=image/jpeg:https://academy.amplivo.com/wp-content/uploads/Form.ITA_.jpg
END:VEVENT
BEGIN:VEVENT
DTSTART;TZID=UTC:20280328T200000
DTEND;TZID=UTC:20280328T210000
DTSTAMP:20260420T043703
CREATED:20260228T133108Z
LAST-MODIFIED:20260228T133108Z
UID:10006705-1837886400-1837890000@academy.amplivo.com
SUMMARY:Formación (ES)
DESCRIPTION:Estas formaciones\, impartidas por los principales líderes de la compañía\, te ayudarán a hacer crecer y desarrollar tu negocio con Amplivo\, para que puedas vivir la vida que realmente mereces mientras contribuyes a limpiar el planeta para las futuras generaciones.
URL:https://academy.amplivo.com/event/formacion-es-4/2028-03-28/
CATEGORIES:Training
ATTACH;FMTTYPE=image/jpeg:https://academy.amplivo.com/wp-content/uploads/Form.ESP_.jpg
END:VEVENT
BEGIN:VEVENT
DTSTART;TZID=UTC:20280328T211500
DTEND;TZID=UTC:20280328T221500
DTSTAMP:20260420T043703
CREATED:20260228T133343Z
LAST-MODIFIED:20260228T133343Z
UID:10006966-1837890900-1837894500@academy.amplivo.com
SUMMARY:Training (ENG)
DESCRIPTION:Training with the Global Leader dott. Andrea Cerio\, training on technical and motivational topics.
URL:https://academy.amplivo.com/event/training-eng-4/2028-03-28/
CATEGORIES:Training
ATTACH;FMTTYPE=image/jpeg:https://academy.amplivo.com/wp-content/uploads/Form.ENG_.jpg
END:VEVENT
BEGIN:VEVENT
DTSTART;TZID=UTC:20280403T203000
DTEND;TZID=UTC:20280403T220000
DTSTAMP:20260420T043703
CREATED:20260228T133747Z
LAST-MODIFIED:20260228T133747Z
UID:10007228-1838406600-1838412000@academy.amplivo.com
SUMMARY:Formazione (IT)
DESCRIPTION:Formazione italiana in compagnia dei Top Leader e del Global Leader dott. Andrea Cerio. Ogni Lunedì\, informazioni e formazione tecnica e motivazionale.
URL:https://academy.amplivo.com/event/formazione-it-5/2028-04-03/
CATEGORIES:Training
ATTACH;FMTTYPE=image/jpeg:https://academy.amplivo.com/wp-content/uploads/Form.ITA_.jpg
END:VEVENT
END:VCALENDAR