BEGIN:VCALENDAR
VERSION:2.0
PRODID:-//Amplivo Academy - ECPv6.3.5//NONSGML v1.0//EN
CALSCALE:GREGORIAN
METHOD:PUBLISH
X-WR-CALNAME:Amplivo Academy
X-ORIGINAL-URL:https://academy.amplivo.com
X-WR-CALDESC:Events for Amplivo Academy
REFRESH-INTERVAL;VALUE=DURATION:PT1H
X-Robots-Tag:noindex
X-PUBLISHED-TTL:PT1H
BEGIN:VTIMEZONE
TZID:UTC
BEGIN:STANDARD
TZOFFSETFROM:+0000
TZOFFSETTO:+0000
TZNAME:UTC
DTSTART:20250101T000000
END:STANDARD
TZID:Europe/Paris
BEGIN:DAYLIGHT
TZOFFSETFROM:+0100
TZOFFSETTO:+0200
TZNAME:CEST
DTSTART:20250330T010000
END:DAYLIGHT
BEGIN:STANDARD
TZOFFSETFROM:+0200
TZOFFSETTO:+0100
TZNAME:CET
DTSTART:20251026T010000
END:STANDARD
TZID:Europe/Madrid
BEGIN:DAYLIGHT
TZOFFSETFROM:+0100
TZOFFSETTO:+0200
TZNAME:CEST
DTSTART:20250330T010000
END:DAYLIGHT
BEGIN:STANDARD
TZOFFSETFROM:+0200
TZOFFSETTO:+0100
TZNAME:CET
DTSTART:20251026T010000
END:STANDARD
TZID:Europe/Paris
BEGIN:DAYLIGHT
TZOFFSETFROM:+0100
TZOFFSETTO:+0200
TZNAME:CEST
DTSTART:20250330T010000
END:DAYLIGHT
BEGIN:STANDARD
TZOFFSETFROM:+0200
TZOFFSETTO:+0100
TZNAME:CET
DTSTART:20251026T010000
END:STANDARD
END:VTIMEZONE
BEGIN:VEVENT
DTSTART;TZID=UTC:20250923T200000
DTEND;TZID=UTC:20250923T203000
DTSTAMP:20260420T053755
CREATED:20250903T100722Z
LAST-MODIFIED:20250903T100722Z
UID:10005368-1758657600-1758659400@academy.amplivo.com
SUMMARY:Presentatie
DESCRIPTION:In deze presentatie van de Amplivo Business Opportunity laten we je zien hoe je zowel kunt helpen om de planeet op te ruimen als je eigen leven kunt verbeteren\, allemaal vanuit het comfort van je eigen huis. \nVoel je vrij om iedereen uit te nodigen die ook geïnteresseerd is om zich aan te sluiten bij onze missie.
URL:https://academy.amplivo.com/event/presentatie-8/
CATEGORIES:Presentation
ATTACH;FMTTYPE=image/jpeg:https://academy.amplivo.com/wp-content/uploads/photo_2025-05-07_15-53-38-4.jpg
END:VEVENT
BEGIN:VEVENT
DTSTART;TZID=UTC:20250924T200000
DTEND;TZID=UTC:20250924T203000
DTSTAMP:20260420T053755
CREATED:20250922T095139Z
LAST-MODIFIED:20250922T095139Z
UID:10005404-1758744000-1758745800@academy.amplivo.com
SUMMARY:Predstavitev (SLO)
DESCRIPTION:Predstavitev podjetja Corsair-Amplivo v slovenščini. V tej predstavitvi na Zoomu bodo vrhunski slovenski govorci predstavili naše delovanje\, od poslovnega načrta do plastic credita CSR25.
URL:https://academy.amplivo.com/event/predstavitev-slo-2/
CATEGORIES:Presentation
ATTACH;FMTTYPE=image/jpeg:https://academy.amplivo.com/wp-content/uploads/Slovenia-1.jpg
END:VEVENT
BEGIN:VEVENT
DTSTART;TZID=Europe/Paris:20250924T200000
DTEND;TZID=Europe/Paris:20250924T210000
DTSTAMP:20260420T053755
CREATED:20250919T213005Z
LAST-MODIFIED:20250920T152216Z
UID:10005400-1758744000-1758747600@academy.amplivo.com
SUMMARY:Présentation (FR)
DESCRIPTION:Dans cette présentation de l’opportunité d’affaires Amplivo\, nous vous expliquerons comment contribuer à nettoyer la planète tout en améliorant votre qualité de vie – le tout depuis le confort de votre maison. \nN’hésitez pas à inviter toute personne de votre entourage qui pourrait être intéressée à se joindre à nous dans cette mission.  
URL:https://academy.amplivo.com/event/presentation-fr-17/
CATEGORIES:Presentation
ATTACH;FMTTYPE=image/jpeg:https://academy.amplivo.com/wp-content/uploads/Mercredi-24-20h.jpeg
END:VEVENT
BEGIN:VEVENT
DTSTART;TZID=Europe/Paris:20250925T120000
DTEND;TZID=Europe/Paris:20250925T130000
DTSTAMP:20260420T053755
CREATED:20250919T213200Z
LAST-MODIFIED:20250920T152316Z
UID:10005401-1758801600-1758805200@academy.amplivo.com
SUMMARY:Présentation (FR)
DESCRIPTION:Dans cette présentation de l’opportunité d’affaires Amplivo\, nous vous expliquerons comment contribuer à nettoyer la planète tout en améliorant votre qualité de vie – le tout depuis le confort de votre maison. \nN’hésitez pas à inviter toute personne de votre entourage qui pourrait être intéressée à se joindre à nous dans cette mission.  
URL:https://academy.amplivo.com/event/presentation-fr-18/
CATEGORIES:Presentation
ATTACH;FMTTYPE=image/jpeg:https://academy.amplivo.com/wp-content/uploads/jeudi-25-12h.jpeg
END:VEVENT
BEGIN:VEVENT
DTSTART;TZID=UTC:20250925T210000
DTEND;TZID=UTC:20250925T213000
DTSTAMP:20260420T053755
CREATED:20250922T094822Z
LAST-MODIFIED:20250922T094822Z
UID:10005403-1758834000-1758835800@academy.amplivo.com
SUMMARY:Presentazione (IT)
DESCRIPTION:Presentazione in lingua italiana del business Corsair-Amplivo. In questo evento zoom di presentazione\, i migliori relatori italiani si impegnano a far capire cosa facciamo\, dal piano industriale al plastic credit CSR25.
URL:https://academy.amplivo.com/event/presentazione-it-15/
CATEGORIES:Presentation
ATTACH;FMTTYPE=image/jpeg:https://academy.amplivo.com/wp-content/uploads/GIOVEDI-7.jpg
END:VEVENT
BEGIN:VEVENT
DTSTART;TZID=UTC:20250925T213000
DTEND;TZID=UTC:20250925T223000
DTSTAMP:20260420T053755
CREATED:20250914T155431Z
LAST-MODIFIED:20250921T191451Z
UID:10005389-1758835800-1758839400@academy.amplivo.com
SUMMARY:Apresentação (PT)
DESCRIPTION:Nesta apresentação da Oportunidade de Negócio Amplivo\, iremos partilhar informações sobre como pode ajudar a limpar o planeta e melhorar a sua qualidade de vida ao mesmo tempo\, tudo a partir do conforto da sua casa.\nSinta-se à vontade para convidar qualquer pessoa que conheça\, e que possa estar interessada em juntar-se a nós\, no cumprimento da nossa missão.
URL:https://academy.amplivo.com/event/apresentacao-pt-15/
CATEGORIES:Presentation
ATTACH;FMTTYPE=image/jpeg:https://academy.amplivo.com/wp-content/uploads/WhatsApp-Image-2025-09-19-at-20.25.20.jpeg
END:VEVENT
BEGIN:VEVENT
DTSTART;TZID=Europe/Paris:20250929T190000
DTEND;TZID=Europe/Paris:20250929T193000
DTSTAMP:20260420T053755
CREATED:20250925T141529Z
LAST-MODIFIED:20250926T132510Z
UID:10005406-1759172400-1759174200@academy.amplivo.com
SUMMARY:Présentation (FR)
DESCRIPTION:Dans cette présentation de l’opportunité d’affaires Amplivo\, nous vous expliquerons comment contribuer à nettoyer la planète tout en améliorant votre qualité de vie – le tout depuis le confort de votre maison. \nN’hésitez pas à inviter toute personne de votre entourage qui pourrait être intéressée à se joindre à nous dans cette mission.  
URL:https://academy.amplivo.com/event/presentation-fr-19/
CATEGORIES:Presentation
ATTACH;FMTTYPE=image/jpeg:https://academy.amplivo.com/wp-content/uploads/Lundi-29.jpeg
END:VEVENT
BEGIN:VEVENT
DTSTART;TZID=Europe/Madrid:20250929T200000
DTEND;TZID=Europe/Madrid:20250929T200000
DTSTAMP:20260420T053755
CREATED:20250907T173028Z
LAST-MODIFIED:20250907T173028Z
UID:10005373-1759176000-1759176000@academy.amplivo.com
SUMMARY:Presentacion (ES)
DESCRIPTION:En esta presentación de la Oportunidad de Negocio de Amplivo\, compartiremos contigo información sobre cómo puedes ayudar a limpiar el planeta y mejorar tu calidad de vida al mismo tiempo\, todo desde la comodidad de tu hogar. No dudes en invitar a cualquier persona que creas que pueda estar interesada en unirse a nuestra misión.
URL:https://academy.amplivo.com/event/presentacion-es-7/
CATEGORIES:Presentation
ATTACH;FMTTYPE=image/jpeg:https://academy.amplivo.com/wp-content/uploads/Lluis-8.jpg
END:VEVENT
BEGIN:VEVENT
DTSTART;TZID=UTC:20250929T200000
DTEND;TZID=UTC:20250929T203000
DTSTAMP:20260420T053755
CREATED:20250902T090626Z
LAST-MODIFIED:20250902T090626Z
UID:10005361-1759176000-1759177800@academy.amplivo.com
SUMMARY:Präsentation (DE)
DESCRIPTION:In dieser Präsentation der Amplivo-Geschäftsgelegenheit werden wir Ihnen Informationen darüber geben\, wie Sie helfen können\, den Planeten zu saubern und gleichzeitig Ihre Lebensqualitat zu verbessern\, und das alles bequem von zu Hause aus. \nBitte laden Sie auch alle anderen Personen ein\, die Sie kennen und die daran interessiert sein könnten\, uns bei unserer Mission zu unterstützen.
URL:https://academy.amplivo.com/event/prasentation-de-9/
CATEGORIES:Presentation
ATTACH;FMTTYPE=image/jpeg:https://academy.amplivo.com/wp-content/uploads/Prasentation-9.jpg
END:VEVENT
BEGIN:VEVENT
DTSTART;TZID=UTC:20250929T213000
DTEND;TZID=UTC:20250929T223000
DTSTAMP:20260420T053755
CREATED:20250914T155527Z
LAST-MODIFIED:20250914T155527Z
UID:10005390-1759181400-1759185000@academy.amplivo.com
SUMMARY:Apresentação (PT)
DESCRIPTION:Nesta apresentação da Oportunidade de Negócio Amplivo\, iremos partilhar informações sobre como pode ajudar a limpar o planeta e melhorar a sua qualidade de vida ao mesmo tempo\, tudo a partir do conforto da sua casa.\nSinta-se à vontade para convidar qualquer pessoa que conheça\, e que possa estar interessada em juntar-se a nós\, no cumprimento da nossa missão.
URL:https://academy.amplivo.com/event/apresentacao-pt-16/
CATEGORIES:Presentation
ATTACH;FMTTYPE=image/jpeg:https://academy.amplivo.com/wp-content/uploads/GEH-2.jpg
END:VEVENT
BEGIN:VEVENT
DTSTART;TZID=UTC:20250930T200000
DTEND;TZID=UTC:20250930T203000
DTSTAMP:20260420T053755
CREATED:20250903T100815Z
LAST-MODIFIED:20250903T100815Z
UID:10005369-1759262400-1759264200@academy.amplivo.com
SUMMARY:Presentatie
DESCRIPTION:In deze presentatie van de Amplivo Business Opportunity laten we je zien hoe je zowel kunt helpen om de planeet op te ruimen als je eigen leven kunt verbeteren\, allemaal vanuit het comfort van je eigen huis. \nVoel je vrij om iedereen uit te nodigen die ook geïnteresseerd is om zich aan te sluiten bij onze missie.
URL:https://academy.amplivo.com/event/presentatie-9/
CATEGORIES:Presentation
ATTACH;FMTTYPE=image/jpeg:https://academy.amplivo.com/wp-content/uploads/photo_2025-03-26_14-10-49-3.jpg
END:VEVENT
BEGIN:VEVENT
DTSTART;TZID=UTC:20250930T200000
DTEND;TZID=UTC:20250930T203000
DTSTAMP:20260420T053755
CREATED:20250929T163138Z
LAST-MODIFIED:20250929T163138Z
UID:10005425-1759262400-1759264200@academy.amplivo.com
SUMMARY:Presentatie
DESCRIPTION:In deze presentatie van de Amplivo Business Opportunity laten we je zien hoe je zowel kunt helpen om de planeet op te ruimen als je eigen leven kunt verbeteren\, allemaal vanuit het comfort van je eigen huis. \nVoel je vrij om iedereen uit te nodigen die ook geïnteresseerd is om zich aan te sluiten bij onze missie.
URL:https://academy.amplivo.com/event/presentatie-10/
CATEGORIES:Presentation
ATTACH;FMTTYPE=image/jpeg:https://academy.amplivo.com/wp-content/uploads/photo_2025-03-26_14-10-49-4.jpg
END:VEVENT
BEGIN:VEVENT
DTSTART;TZID=Europe/Paris:20251001T200000
DTEND;TZID=Europe/Paris:20251001T203000
DTSTAMP:20260420T053755
CREATED:20250925T141704Z
LAST-MODIFIED:20250926T132601Z
UID:10005407-1759348800-1759350600@academy.amplivo.com
SUMMARY:Présentation (FR)
DESCRIPTION:Dans cette présentation de l’opportunité d’affaires Amplivo\, nous vous expliquerons comment contribuer à nettoyer la planète tout en améliorant votre qualité de vie – le tout depuis le confort de votre maison. \nN’hésitez pas à inviter toute personne de votre entourage qui pourrait être intéressée à se joindre à nous dans cette mission.  
URL:https://academy.amplivo.com/event/presentation-fr-20/
CATEGORIES:Presentation
ATTACH;FMTTYPE=image/jpeg:https://academy.amplivo.com/wp-content/uploads/Mercredi-1er.jpeg
END:VEVENT
BEGIN:VEVENT
DTSTART;TZID=Europe/Paris:20251002T120000
DTEND;TZID=Europe/Paris:20251002T123000
DTSTAMP:20260420T053755
CREATED:20250925T141908Z
LAST-MODIFIED:20250926T132701Z
UID:10005408-1759406400-1759408200@academy.amplivo.com
SUMMARY:Présentation (FR)
DESCRIPTION:Dans cette présentation de l’opportunité d’affaires Amplivo\, nous vous expliquerons comment contribuer à nettoyer la planète tout en améliorant votre qualité de vie – le tout depuis le confort de votre maison. \nN’hésitez pas à inviter toute personne de votre entourage qui pourrait être intéressée à se joindre à nous dans cette mission.  
URL:https://academy.amplivo.com/event/presentation-fr-21/
CATEGORIES:Presentation
ATTACH;FMTTYPE=image/jpeg:https://academy.amplivo.com/wp-content/uploads/Jeudi-2-1.jpeg
END:VEVENT
BEGIN:VEVENT
DTSTART;TZID=UTC:20251002T213000
DTEND;TZID=UTC:20251002T223000
DTSTAMP:20260420T053755
CREATED:20250914T155636Z
LAST-MODIFIED:20250928T185022Z
UID:10005391-1759440600-1759444200@academy.amplivo.com
SUMMARY:Apresentação (PT)
DESCRIPTION:Nesta apresentação da Oportunidade de Negócio Amplivo\, iremos partilhar informações sobre como pode ajudar a limpar o planeta e melhorar a sua qualidade de vida ao mesmo tempo\, tudo a partir do conforto da sua casa.\nSinta-se à vontade para convidar qualquer pessoa que conheça\, e que possa estar interessada em juntar-se a nós\, no cumprimento da nossa missão.
URL:https://academy.amplivo.com/event/apresentacao-pt-17/
CATEGORIES:Presentation
ATTACH;FMTTYPE=image/jpeg:https://academy.amplivo.com/wp-content/uploads/J-A.jpeg
END:VEVENT
BEGIN:VEVENT
DTSTART;TZID=Europe/Paris:20251006T190000
DTEND;TZID=Europe/Paris:20251006T193000
DTSTAMP:20260420T053755
CREATED:20251002T155630Z
LAST-MODIFIED:20251004T104152Z
UID:10005438-1759777200-1759779000@academy.amplivo.com
SUMMARY:Présentation (FR)
DESCRIPTION:Dans cette présentation de l’opportunité d’affaires Amplivo\, nous vous expliquerons comment contribuer à nettoyer la planète tout en améliorant votre qualité de vie – le tout depuis le confort de votre maison. \nN’hésitez pas à inviter toute personne de votre entourage qui pourrait être intéressée à se joindre à nous dans cette mission.  
URL:https://academy.amplivo.com/event/presentation-fr-22/
CATEGORIES:Presentation
ATTACH;FMTTYPE=image/jpeg:https://academy.amplivo.com/wp-content/uploads/Lundi-6.jpeg
END:VEVENT
BEGIN:VEVENT
DTSTART;TZID=Europe/Madrid:20251006T200000
DTEND;TZID=Europe/Madrid:20251006T200000
DTSTAMP:20260420T053755
CREATED:20250929T171609Z
LAST-MODIFIED:20250929T171609Z
UID:10005427-1759780800-1759780800@academy.amplivo.com
SUMMARY:Presentacion (ES)
DESCRIPTION:En esta presentación de la Oportunidad de Negocio de Amplivo\, compartiremos contigo información sobre cómo puedes ayudar a limpiar el planeta y mejorar tu calidad de vida al mismo tiempo\, todo desde la comodidad de tu hogar. No dudes en invitar a cualquier persona que creas que pueda estar interesada en unirse a nuestra misión.
URL:https://academy.amplivo.com/event/presentacion-es-8/
CATEGORIES:Presentation
ATTACH;FMTTYPE=image/jpeg:https://academy.amplivo.com/wp-content/uploads/Lluis-9.jpg
END:VEVENT
BEGIN:VEVENT
DTSTART;TZID=UTC:20251006T200000
DTEND;TZID=UTC:20251006T203000
DTSTAMP:20260420T053755
CREATED:20251002T083212Z
LAST-MODIFIED:20251002T083212Z
UID:10005433-1759780800-1759782600@academy.amplivo.com
SUMMARY:Präsentation (DE)
DESCRIPTION:In dieser Präsentation der Amplivo-Geschäftsgelegenheit werden wir Ihnen Informationen darüber geben\, wie Sie helfen können\, den Planeten zu saubern und gleichzeitig Ihre Lebensqualitat zu verbessern\, und das alles bequem von zu Hause aus. \nBitte laden Sie auch alle anderen Personen ein\, die Sie kennen und die daran interessiert sein könnten\, uns bei unserer Mission zu unterstützen.
URL:https://academy.amplivo.com/event/prasentation-de-10/
CATEGORIES:Presentation
ATTACH;FMTTYPE=image/jpeg:https://academy.amplivo.com/wp-content/uploads/Prasentation-10.jpg
END:VEVENT
BEGIN:VEVENT
DTSTART;TZID=Europe/Paris:20251006T210000
DTEND;TZID=Europe/Paris:20251006T220000
DTSTAMP:20260420T053755
CREATED:20251005T200355Z
LAST-MODIFIED:20251005T200444Z
UID:10005445-1759784400-1759788000@academy.amplivo.com
SUMMARY:Apresentação (PT)
DESCRIPTION:Nesta apresentação da Oportunidade de Negócio Amplivo\, iremos partilhar informações sobre como pode ajudar a limpar o planeta e melhorar a sua qualidade de vida ao mesmo tempo\, tudo a partir do conforto da sua casa.\nSinta-se à vontade para convidar qualquer pessoa que conheça\, e que possa estar interessada em juntar-se a nós\, no cumprimento da nossa missão.
URL:https://academy.amplivo.com/event/apresentacao-pt-21/2025-10-06/
CATEGORIES:Presentation
ATTACH;FMTTYPE=image/jpeg:https://academy.amplivo.com/wp-content/uploads/H-G.jpg
END:VEVENT
BEGIN:VEVENT
DTSTART;TZID=UTC:20251007T193000
DTEND;TZID=UTC:20251007T203000
DTSTAMP:20260420T053755
CREATED:20251006T102829Z
LAST-MODIFIED:20251006T102829Z
UID:10005466-1759865400-1759869000@academy.amplivo.com
SUMMARY:Presentazione (IT)
DESCRIPTION:Presentazione in lingua italiana del business Corsair-Amplivo. In questo evento zoom di presentazione\, i migliori relatori italiani si impegnano a far capire cosa facciamo\, dal piano industriale al plastic credit CSR25.
URL:https://academy.amplivo.com/event/presentazione-it-16/
CATEGORIES:Presentation
ATTACH;FMTTYPE=image/jpeg:https://academy.amplivo.com/wp-content/uploads/MARTEDI-8.jpg
END:VEVENT
BEGIN:VEVENT
DTSTART;TZID=UTC:20251007T200000
DTEND;TZID=UTC:20251007T203000
DTSTAMP:20260420T053755
CREATED:20250929T163246Z
LAST-MODIFIED:20250929T163246Z
UID:10005426-1759867200-1759869000@academy.amplivo.com
SUMMARY:Presentatie
DESCRIPTION:In deze presentatie van de Amplivo Business Opportunity laten we je zien hoe je zowel kunt helpen om de planeet op te ruimen als je eigen leven kunt verbeteren\, allemaal vanuit het comfort van je eigen huis. \nVoel je vrij om iedereen uit te nodigen die ook geïnteresseerd is om zich aan te sluiten bij onze missie.
URL:https://academy.amplivo.com/event/presentatie-11/
CATEGORIES:Presentation
ATTACH;FMTTYPE=image/jpeg:https://academy.amplivo.com/wp-content/uploads/photo_2025-05-07_15-53-38-5.jpg
END:VEVENT
BEGIN:VEVENT
DTSTART;TZID=Europe/Paris:20251008T200000
DTEND;TZID=Europe/Paris:20251008T203000
DTSTAMP:20260420T053755
CREATED:20251002T155906Z
LAST-MODIFIED:20251005T091254Z
UID:10005439-1759953600-1759955400@academy.amplivo.com
SUMMARY:Présentation (FR)
DESCRIPTION:Dans cette présentation de l’opportunité d’affaires Amplivo\, nous vous expliquerons comment contribuer à nettoyer la planète tout en améliorant votre qualité de vie – le tout depuis le confort de votre maison. \nN’hésitez pas à inviter toute personne de votre entourage qui pourrait être intéressée à se joindre à nous dans cette mission.  
URL:https://academy.amplivo.com/event/presentation-fr-23/
CATEGORIES:Presentation
ATTACH;FMTTYPE=image/jpeg:https://academy.amplivo.com/wp-content/uploads/Mercredi-8.jpeg
END:VEVENT
BEGIN:VEVENT
DTSTART;TZID=Europe/Paris:20251009T120000
DTEND;TZID=Europe/Paris:20251009T123000
DTSTAMP:20260420T053755
CREATED:20251002T160109Z
LAST-MODIFIED:20251004T104231Z
UID:10005440-1760011200-1760013000@academy.amplivo.com
SUMMARY:Présentation (FR)
DESCRIPTION:Dans cette présentation de l’opportunité d’affaires Amplivo\, nous vous expliquerons comment contribuer à nettoyer la planète tout en améliorant votre qualité de vie – le tout depuis le confort de votre maison. \nN’hésitez pas à inviter toute personne de votre entourage qui pourrait être intéressée à se joindre à nous dans cette mission.  
URL:https://academy.amplivo.com/event/presentation-fr-24/
CATEGORIES:Presentation
ATTACH;FMTTYPE=image/jpeg:https://academy.amplivo.com/wp-content/uploads/Jeudi-9.jpeg
END:VEVENT
BEGIN:VEVENT
DTSTART;TZID=Europe/Paris:20251009T210000
DTEND;TZID=Europe/Paris:20251009T220000
DTSTAMP:20260420T053755
CREATED:20251005T200513Z
LAST-MODIFIED:20251005T200551Z
UID:10005450-1760043600-1760047200@academy.amplivo.com
SUMMARY:Apresentação (PT)
DESCRIPTION:Nesta apresentação da Oportunidade de Negócio Amplivo\, iremos partilhar informações sobre como pode ajudar a limpar o planeta e melhorar a sua qualidade de vida ao mesmo tempo\, tudo a partir do conforto da sua casa.\nSinta-se à vontade para convidar qualquer pessoa que conheça\, e que possa estar interessada em juntar-se a nós\, no cumprimento da nossa missão.
URL:https://academy.amplivo.com/event/apresentacao-pt-22/2025-10-09/
CATEGORIES:Presentation
ATTACH;FMTTYPE=image/jpeg:https://academy.amplivo.com/wp-content/uploads/J-H.jpg
END:VEVENT
BEGIN:VEVENT
DTSTART;TZID=UTC:20251009T210000
DTEND;TZID=UTC:20251009T220000
DTSTAMP:20260420T053755
CREATED:20251006T103325Z
LAST-MODIFIED:20251006T103325Z
UID:10005467-1760043600-1760047200@academy.amplivo.com
SUMMARY:Presentazione (IT)
DESCRIPTION:Presentazione in lingua italiana del business Corsair-Amplivo. In questo evento zoom di presentazione\, i migliori relatori italiani si impegnano a far capire cosa facciamo\, dal piano industriale al plastic credit CSR25.
URL:https://academy.amplivo.com/event/presentazione-it-17/
CATEGORIES:Presentation
ATTACH;FMTTYPE=image/jpeg:https://academy.amplivo.com/wp-content/uploads/GIOVEDI-8.jpg
END:VEVENT
BEGIN:VEVENT
DTSTART;TZID=Europe/Paris:20251013T190000
DTEND;TZID=Europe/Paris:20251013T193000
DTSTAMP:20260420T053755
CREATED:20251002T160702Z
LAST-MODIFIED:20251013T055118Z
UID:10005442-1760382000-1760383800@academy.amplivo.com
SUMMARY:Présentation (FR)
DESCRIPTION:Dans cette présentation de l’opportunité d’affaires Amplivo\, nous vous expliquerons comment contribuer à nettoyer la planète tout en améliorant votre qualité de vie – le tout depuis le confort de votre maison. \nN’hésitez pas à inviter toute personne de votre entourage qui pourrait être intéressée à se joindre à nous dans cette mission.  
URL:https://academy.amplivo.com/event/presentation-fr-25/
CATEGORIES:Presentation
ATTACH;FMTTYPE=image/jpeg:https://academy.amplivo.com/wp-content/uploads/lundi-13.jpeg
END:VEVENT
BEGIN:VEVENT
DTSTART;TZID=Europe/Madrid:20251013T200000
DTEND;TZID=Europe/Madrid:20251013T200000
DTSTAMP:20260420T053755
CREATED:20250929T171731Z
LAST-MODIFIED:20250929T171731Z
UID:10005428-1760385600-1760385600@academy.amplivo.com
SUMMARY:Presentacion (ES)
DESCRIPTION:En esta presentación de la Oportunidad de Negocio de Amplivo\, compartiremos contigo información sobre cómo puedes ayudar a limpiar el planeta y mejorar tu calidad de vida al mismo tiempo\, todo desde la comodidad de tu hogar. No dudes en invitar a cualquier persona que creas que pueda estar interesada en unirse a nuestra misión.
URL:https://academy.amplivo.com/event/presentacion-es-9/
CATEGORIES:Presentation
ATTACH;FMTTYPE=image/jpeg:https://academy.amplivo.com/wp-content/uploads/Lluis-10.jpg
END:VEVENT
BEGIN:VEVENT
DTSTART;TZID=UTC:20251013T200000
DTEND;TZID=UTC:20251013T203000
DTSTAMP:20260420T053755
CREATED:20251002T083458Z
LAST-MODIFIED:20251002T083458Z
UID:10005434-1760385600-1760387400@academy.amplivo.com
SUMMARY:Präsentation (DE)
DESCRIPTION:In dieser Präsentation der Amplivo-Geschäftsgelegenheit werden wir Ihnen Informationen darüber geben\, wie Sie helfen können\, den Planeten zu saubern und gleichzeitig Ihre Lebensqualitat zu verbessern\, und das alles bequem von zu Hause aus. \nBitte laden Sie auch alle anderen Personen ein\, die Sie kennen und die daran interessiert sein könnten\, uns bei unserer Mission zu unterstützen.
URL:https://academy.amplivo.com/event/prasentation-de-11/
CATEGORIES:Presentation
ATTACH;FMTTYPE=image/jpeg:https://academy.amplivo.com/wp-content/uploads/Prasentation-11.jpg
END:VEVENT
BEGIN:VEVENT
DTSTART;TZID=Europe/Paris:20251013T210000
DTEND;TZID=Europe/Paris:20251013T220000
DTSTAMP:20260420T053755
CREATED:20251005T200355Z
LAST-MODIFIED:20251005T200444Z
UID:10005446-1760389200-1760392800@academy.amplivo.com
SUMMARY:Apresentação (PT)
DESCRIPTION:Nesta apresentação da Oportunidade de Negócio Amplivo\, iremos partilhar informações sobre como pode ajudar a limpar o planeta e melhorar a sua qualidade de vida ao mesmo tempo\, tudo a partir do conforto da sua casa.\nSinta-se à vontade para convidar qualquer pessoa que conheça\, e que possa estar interessada em juntar-se a nós\, no cumprimento da nossa missão.
URL:https://academy.amplivo.com/event/apresentacao-pt-21/2025-10-13/
CATEGORIES:Presentation
ATTACH;FMTTYPE=image/jpeg:https://academy.amplivo.com/wp-content/uploads/H-G.jpg
END:VEVENT
BEGIN:VEVENT
DTSTART;TZID=UTC:20251014T193000
DTEND;TZID=UTC:20251014T200000
DTSTAMP:20260420T053755
CREATED:20251013T101019Z
LAST-MODIFIED:20251013T101019Z
UID:10005469-1760470200-1760472000@academy.amplivo.com
SUMMARY:Presentazione (IT)
DESCRIPTION:Presentazione in lingua italiana del business Corsair-Amplivo. In questo evento zoom di presentazione\, i migliori relatori italiani si impegnano a far capire cosa facciamo\, dal piano industriale al plastic credit CSR25.
URL:https://academy.amplivo.com/event/presentazione-it-18/
CATEGORIES:Presentation
ATTACH;FMTTYPE=image/jpeg:https://academy.amplivo.com/wp-content/uploads/MARTEDI-9.jpg
END:VEVENT
END:VCALENDAR