BEGIN:VCALENDAR
VERSION:2.0
PRODID:-//Amplivo Academy - ECPv6.3.5//NONSGML v1.0//EN
CALSCALE:GREGORIAN
METHOD:PUBLISH
X-WR-CALNAME:Amplivo Academy
X-ORIGINAL-URL:https://academy.amplivo.com
X-WR-CALDESC:Events for Amplivo Academy
REFRESH-INTERVAL;VALUE=DURATION:PT1H
X-Robots-Tag:noindex
X-PUBLISHED-TTL:PT1H
BEGIN:VTIMEZONE
TZID:UTC
BEGIN:STANDARD
TZOFFSETFROM:+0000
TZOFFSETTO:+0000
TZNAME:UTC
DTSTART:20250101T000000
END:STANDARD
END:VTIMEZONE
BEGIN:VEVENT
DTSTART;TZID=UTC:20250910T200000
DTEND;TZID=UTC:20250910T203000
DTSTAMP:20260419T190409
CREATED:20250908T105313Z
LAST-MODIFIED:20250908T170908Z
UID:10005380-1757534400-1757536200@academy.amplivo.com
SUMMARY:Predstavitev (SLO)
DESCRIPTION:Predstavitev podjetja Corsair-Amplivo v slovenščini. V tej predstavitvi na Zoomu bodo vrhunski slovenski govorci predstavili naše delovanje\, od poslovnega načrta do plastic credita CSR25.
URL:https://academy.amplivo.com/event/predstavitev-svn/
CATEGORIES:Presentation
ATTACH;FMTTYPE=image/jpeg:https://academy.amplivo.com/wp-content/uploads/SLOVENIA.jpeg
END:VEVENT
END:VCALENDAR