BEGIN:VCALENDAR
VERSION:2.0
PRODID:-//Amplivo Academy - ECPv6.3.5//NONSGML v1.0//EN
CALSCALE:GREGORIAN
METHOD:PUBLISH
X-WR-CALNAME:Amplivo Academy
X-ORIGINAL-URL:https://academy.amplivo.com
X-WR-CALDESC:Events for Amplivo Academy
REFRESH-INTERVAL;VALUE=DURATION:PT1H
X-Robots-Tag:noindex
X-PUBLISHED-TTL:PT1H
BEGIN:VTIMEZONE
TZID:Europe/Paris
BEGIN:DAYLIGHT
TZOFFSETFROM:+0100
TZOFFSETTO:+0200
TZNAME:CEST
DTSTART:20250330T010000
END:DAYLIGHT
BEGIN:STANDARD
TZOFFSETFROM:+0200
TZOFFSETTO:+0100
TZNAME:CET
DTSTART:20251026T010000
END:STANDARD
TZID:UTC
BEGIN:STANDARD
TZOFFSETFROM:+0000
TZOFFSETTO:+0000
TZNAME:UTC
DTSTART:20250101T000000
END:STANDARD
TZID:Europe/Paris
BEGIN:DAYLIGHT
TZOFFSETFROM:+0100
TZOFFSETTO:+0200
TZNAME:CEST
DTSTART:20250330T010000
END:DAYLIGHT
BEGIN:STANDARD
TZOFFSETFROM:+0200
TZOFFSETTO:+0100
TZNAME:CET
DTSTART:20251026T010000
END:STANDARD
END:VTIMEZONE
BEGIN:VEVENT
DTSTART;TZID=Europe/Paris:20250731T120000
DTEND;TZID=Europe/Paris:20250731T123000
DTSTAMP:20260419T190356
CREATED:20250725T101457Z
LAST-MODIFIED:20250725T101457Z
UID:10000026-1753963200-1753965000@academy.amplivo.com
SUMMARY:Présentation
DESCRIPTION:Dans cette présentation de l’opportunité d’affaires Amplivo\, nous vous expliquerons comment contribuer à nettoyer la planète tout en améliorant votre qualité de vie – le tout depuis le confort de votre maison. \nN’hésitez pas à inviter toute personne de votre entourage qui pourrait être intéressée à se joindre à nous dans cette mission. 
URL:https://academy.amplivo.com/event/presentation-4/
CATEGORIES:Presentation
ATTACH;FMTTYPE=image/jpeg:https://academy.amplivo.com/wp-content/uploads/Jeudi-31-12h.jpeg
END:VEVENT
BEGIN:VEVENT
DTSTART;TZID=UTC:20250731T210000
DTEND;TZID=UTC:20250731T213000
DTSTAMP:20260419T190356
CREATED:20250730T105526Z
LAST-MODIFIED:20250731T080639Z
UID:10000031-1753995600-1753997400@academy.amplivo.com
SUMMARY:Presentazione (IT)
DESCRIPTION:Presentazione in lingua italiana del business Corsair-Amplivo. In questo evento zoom di presentazione\, i migliori relatori italiani si impegnano a far capire cosa facciamo\, dal piano industriale al plastic credit CSR25.
URL:https://academy.amplivo.com/event/presentazione/
CATEGORIES:Presentation
ATTACH;FMTTYPE=image/jpeg:https://academy.amplivo.com/wp-content/uploads/GIOVEDI.jpg
END:VEVENT
BEGIN:VEVENT
DTSTART;TZID=Europe/Paris:20250731T213000
DTEND;TZID=Europe/Paris:20250731T223000
DTSTAMP:20260419T190356
CREATED:20250725T233828Z
LAST-MODIFIED:20250725T234227Z
UID:10000028-1753997400-1754001000@academy.amplivo.com
SUMMARY:Apresentação
DESCRIPTION:Nesta apresentação da Oportunidade de Negócio Amplivo\, iremos partilhar informações sobre como pode ajudar a limpar o planeta e melhorar a sua qualidade de vida ao mesmo tempo\, tudo a partir do conforto da sua casa.\nSinta-se à vontade para convidar qualquer pessoa que conheça\, e que possa estar interessada em juntar-se a nós\, no cumprimento da nossa missão.
URL:https://academy.amplivo.com/event/apresentacao-2/
CATEGORIES:Presentation
ATTACH;FMTTYPE=image/jpeg:https://academy.amplivo.com/wp-content/uploads/Apresentacao-portugese-Thursdays.001.jpeg
END:VEVENT
END:VCALENDAR