BEGIN:VCALENDAR
VERSION:2.0
PRODID:-//Amplivo Academy - ECPv6.3.5//NONSGML v1.0//EN
CALSCALE:GREGORIAN
METHOD:PUBLISH
X-ORIGINAL-URL:https://academy.amplivo.com
X-WR-CALDESC:Events for Amplivo Academy
REFRESH-INTERVAL;VALUE=DURATION:PT1H
X-Robots-Tag:noindex
X-PUBLISHED-TTL:PT1H
BEGIN:VTIMEZONE
TZID:Europe/Paris
BEGIN:DAYLIGHT
TZOFFSETFROM:+0100
TZOFFSETTO:+0200
TZNAME:CEST
DTSTART:20250330T010000
END:DAYLIGHT
BEGIN:STANDARD
TZOFFSETFROM:+0200
TZOFFSETTO:+0100
TZNAME:CET
DTSTART:20251026T010000
END:STANDARD
TZID:UTC
BEGIN:STANDARD
TZOFFSETFROM:+0000
TZOFFSETTO:+0000
TZNAME:UTC
DTSTART:20250101T000000
END:STANDARD
TZID:Europe/Paris
BEGIN:DAYLIGHT
TZOFFSETFROM:+0100
TZOFFSETTO:+0200
TZNAME:CEST
DTSTART:20250330T010000
END:DAYLIGHT
BEGIN:STANDARD
TZOFFSETFROM:+0200
TZOFFSETTO:+0100
TZNAME:CET
DTSTART:20251026T010000
END:STANDARD
END:VTIMEZONE
BEGIN:VEVENT
DTSTART;TZID=Europe/Paris:20250904T120000
DTEND;TZID=Europe/Paris:20250904T123000
DTSTAMP:20260419T190251
CREATED:20250829T135529Z
LAST-MODIFIED:20250831T131751Z
UID:10005092-1756987200-1756989000@academy.amplivo.com
SUMMARY:Présentation (FR)
DESCRIPTION:Dans cette présentation de l’opportunité d’affaires Amplivo\, nous vous expliquerons comment contribuer à nettoyer la planète tout en améliorant votre qualité de vie – le tout depuis le confort de votre maison. \nN’hésitez pas à inviter toute personne de votre entourage qui pourrait être intéressée à se joindre à nous dans cette mission.  
URL:https://academy.amplivo.com/event/presentation-fr-10/
CATEGORIES:Presentation
ATTACH;FMTTYPE=image/jpeg:https://academy.amplivo.com/wp-content/uploads/Jeudi-4-Sept-12h.jpeg
END:VEVENT
BEGIN:VEVENT
DTSTART;TZID=Europe/Paris:20250904T200000
DTEND;TZID=Europe/Paris:20250904T210000
DTSTAMP:20260419T190251
CREATED:20250902T140239Z
LAST-MODIFIED:20250902T140239Z
UID:10005365-1757016000-1757019600@academy.amplivo.com
SUMMARY:Formation (FR)
DESCRIPTION:Ces formations\, dispensées par les meilleurs leaders de l’entreprise\, vous aident à développer votre activité Amplivo afin que vous puissiez vivre pleinement la vie que vous méritez\, tout en contribuant à nettoyer la planète pour les générations futures.
URL:https://academy.amplivo.com/event/formation-fr-3/
CATEGORIES:Training
ATTACH;FMTTYPE=image/jpeg:https://academy.amplivo.com/wp-content/uploads/Jeudi-0409-F-20H.jpeg
END:VEVENT
BEGIN:VEVENT
DTSTART;TZID=UTC:20250904T210000
DTEND;TZID=UTC:20250904T213000
DTSTAMP:20260419T190251
CREATED:20250901T095018Z
LAST-MODIFIED:20250901T095018Z
UID:10005094-1757019600-1757021400@academy.amplivo.com
SUMMARY:Presentazione (IT)
DESCRIPTION:Presentazione in lingua italiana del business Corsair-Amplivo. In questo evento zoom di presentazione\, i migliori relatori italiani si impegnano a far capire cosa facciamo\, dal piano industriale al plastic credit CSR25.
URL:https://academy.amplivo.com/event/presentazione-it-8/
CATEGORIES:Presentation
ATTACH;FMTTYPE=image/jpeg:https://academy.amplivo.com/wp-content/uploads/GIOVEDI-4.jpg
END:VEVENT
BEGIN:VEVENT
DTSTART;TZID=Europe/Paris:20250904T213000
DTEND;TZID=Europe/Paris:20250904T223000
DTSTAMP:20260419T190251
CREATED:20250824T174222Z
LAST-MODIFIED:20250824T175324Z
UID:10005080-1757021400-1757025000@academy.amplivo.com
SUMMARY:Apresentação (PT)
DESCRIPTION:Nesta apresentação da Oportunidade de Negócio Amplivo\, iremos partilhar informações sobre como pode ajudar a limpar o planeta e melhorar a sua qualidade de vida ao mesmo tempo\, tudo a partir do conforto da sua casa.\nSinta-se à vontade para convidar qualquer pessoa que conheça\, e que possa estar interessada em juntar-se a nós\, no cumprimento da nossa missão.
URL:https://academy.amplivo.com/event/apresentacao-pt-9/
CATEGORIES:Presentation
ATTACH;FMTTYPE=image/jpeg:https://academy.amplivo.com/wp-content/uploads/aeg-2.jpg
END:VEVENT
END:VCALENDAR