BEGIN:VCALENDAR
VERSION:2.0
PRODID:-//Amplivo Academy - ECPv6.3.5//NONSGML v1.0//EN
CALSCALE:GREGORIAN
METHOD:PUBLISH
X-ORIGINAL-URL:https://academy.amplivo.com
X-WR-CALDESC:Events for Amplivo Academy
REFRESH-INTERVAL;VALUE=DURATION:PT1H
X-Robots-Tag:noindex
X-PUBLISHED-TTL:PT1H
BEGIN:VTIMEZONE
TZID:Europe/Paris
BEGIN:DAYLIGHT
TZOFFSETFROM:+0100
TZOFFSETTO:+0200
TZNAME:CEST
DTSTART:20250330T010000
END:DAYLIGHT
BEGIN:STANDARD
TZOFFSETFROM:+0200
TZOFFSETTO:+0100
TZNAME:CET
DTSTART:20251026T010000
END:STANDARD
TZID:Europe/Madrid
BEGIN:DAYLIGHT
TZOFFSETFROM:+0100
TZOFFSETTO:+0200
TZNAME:CEST
DTSTART:20250330T010000
END:DAYLIGHT
BEGIN:STANDARD
TZOFFSETFROM:+0200
TZOFFSETTO:+0100
TZNAME:CET
DTSTART:20251026T010000
END:STANDARD
TZID:Europe/Berlin
BEGIN:DAYLIGHT
TZOFFSETFROM:+0100
TZOFFSETTO:+0200
TZNAME:CEST
DTSTART:20250330T010000
END:DAYLIGHT
BEGIN:STANDARD
TZOFFSETFROM:+0200
TZOFFSETTO:+0100
TZNAME:CET
DTSTART:20251026T010000
END:STANDARD
TZID:Europe/Paris
BEGIN:DAYLIGHT
TZOFFSETFROM:+0100
TZOFFSETTO:+0200
TZNAME:CEST
DTSTART:20250330T010000
END:DAYLIGHT
BEGIN:STANDARD
TZOFFSETFROM:+0200
TZOFFSETTO:+0100
TZNAME:CET
DTSTART:20251026T010000
END:STANDARD
END:VTIMEZONE
BEGIN:VEVENT
DTSTART;TZID=Europe/Paris:20250728T190000
DTEND;TZID=Europe/Paris:20250728T193000
DTSTAMP:20260419T190341
CREATED:20250724T174928Z
LAST-MODIFIED:20250725T101041Z
UID:10000024-1753729200-1753731000@academy.amplivo.com
SUMMARY:Présentation
DESCRIPTION:Dans cette présentation de l’opportunité d’affaires Amplivo\, nous vous expliquerons comment contribuer à nettoyer la planète tout en améliorant votre qualité de vie – le tout depuis le confort de votre maison. \nN’hésitez pas à inviter toute personne de votre entourage qui pourrait être intéressée à se joindre à nous dans cette mission.
URL:https://academy.amplivo.com/event/presentation-2/
CATEGORIES:Presentation
ATTACH;FMTTYPE=image/jpeg:https://academy.amplivo.com/wp-content/uploads/Lundi-28-19h.jpeg
END:VEVENT
BEGIN:VEVENT
DTSTART;TZID=Europe/Madrid:20250728T200000
DTEND;TZID=Europe/Madrid:20250728T200000
DTSTAMP:20260419T190341
CREATED:20250724T155450Z
LAST-MODIFIED:20250724T160117Z
UID:10000023-1753732800-1753732800@academy.amplivo.com
SUMMARY:Presentación
DESCRIPTION:En esta presentación de la Oportunidad de Negocio de Amplivo\, compartiremos contigo información sobre cómo puedes ayudar a limpiar el planeta y mejorar tu calidad de vida al mismo tiempo\, todo desde la comodidad de tu hogar. No dudes en invitar a cualquier persona que creas que pueda estar interesada en unirse a nuestra misión.
URL:https://academy.amplivo.com/event/presentacion/
CATEGORIES:Presentation
ATTACH;FMTTYPE=image/jpeg:https://academy.amplivo.com/wp-content/uploads/Lluis-1.jpg
END:VEVENT
BEGIN:VEVENT
DTSTART;TZID=Europe/Berlin:20250728T200000
DTEND;TZID=Europe/Berlin:20250728T203000
DTSTAMP:20260419T190341
CREATED:20250724T085855Z
LAST-MODIFIED:20250724T090129Z
UID:10000022-1753732800-1753734600@academy.amplivo.com
SUMMARY:Präsentation
DESCRIPTION:In dieser Präsentation der Amplivo-Geschäftsgelegenheit werden wir Ihnen Informationen darüber geben\, wie Sie helfen können\, den Planeten zu säubern und gleichzeitig Ihre Lebensqualität zu verbessern\, und das alles bequem von zu Hause aus.\nBitte laden Sie auch alle anderen Personen ein\, die Sie kennen und die daran interessiert sein könnten\, uns bei unserer Mission zu unterstützen.
URL:https://academy.amplivo.com/event/prasentation/
CATEGORIES:Presentation
ATTACH;FMTTYPE=image/jpeg:https://academy.amplivo.com/wp-content/uploads/Prasentation.jpg
END:VEVENT
BEGIN:VEVENT
DTSTART;TZID=Europe/Paris:20250728T213000
DTEND;TZID=Europe/Paris:20250728T223000
DTSTAMP:20260419T190341
CREATED:20250725T233505Z
LAST-MODIFIED:20250725T233604Z
UID:10000027-1753738200-1753741800@academy.amplivo.com
SUMMARY:Apresentação
DESCRIPTION:Nesta apresentação da Oportunidade de Negócio Amplivo\, iremos partilhar informações sobre como pode ajudar a limpar o planeta e melhorar a sua qualidade de vida ao mesmo tempo\, tudo a partir do conforto da sua casa.\nSinta-se à vontade para convidar qualquer pessoa que conheça\, e que possa estar interessada em juntar-se a nós\, no cumprimento da nossa missão.
URL:https://academy.amplivo.com/event/apresentacao/
CATEGORIES:Presentation
ATTACH;FMTTYPE=image/jpeg:https://academy.amplivo.com/wp-content/uploads/Apresentacao-portugese-Mondays.001.jpeg
END:VEVENT
END:VCALENDAR