BEGIN:VCALENDAR
VERSION:2.0
PRODID:-//Amplivo Academy - ECPv6.3.5//NONSGML v1.0//EN
CALSCALE:GREGORIAN
METHOD:PUBLISH
X-WR-CALNAME:Amplivo Academy
X-ORIGINAL-URL:https://academy.amplivo.com
X-WR-CALDESC:Events for Amplivo Academy
REFRESH-INTERVAL;VALUE=DURATION:PT1H
X-Robots-Tag:noindex
X-PUBLISHED-TTL:PT1H
BEGIN:VTIMEZONE
TZID:UTC
BEGIN:STANDARD
TZOFFSETFROM:+0000
TZOFFSETTO:+0000
TZNAME:UTC
DTSTART:20250101T000000
END:STANDARD
END:VTIMEZONE
BEGIN:VEVENT
DTSTART;TZID=UTC:20250925T210000
DTEND;TZID=UTC:20250925T213000
DTSTAMP:20260419T185423
CREATED:20250922T094822Z
LAST-MODIFIED:20250922T094822Z
UID:25437-1758834000-1758835800@academy.amplivo.com
SUMMARY:Presentazione (IT)
DESCRIPTION:Presentazione in lingua italiana del business Corsair-Amplivo. In questo evento zoom di presentazione\, i migliori relatori italiani si impegnano a far capire cosa facciamo\, dal piano industriale al plastic credit CSR25.
URL:https://academy.amplivo.com/event/presentazione-it-15/
CATEGORIES:Presentation
ATTACH;FMTTYPE=image/jpeg:https://academy.amplivo.com/wp-content/uploads/GIOVEDI-7.jpg
END:VEVENT
END:VCALENDAR