BEGIN:VCALENDAR
VERSION:2.0
PRODID:-//Amplivo Academy - ECPv6.3.5//NONSGML v1.0//EN
CALSCALE:GREGORIAN
METHOD:PUBLISH
X-WR-CALNAME:Amplivo Academy
X-ORIGINAL-URL:https://academy.amplivo.com
X-WR-CALDESC:Events for Amplivo Academy
REFRESH-INTERVAL;VALUE=DURATION:PT1H
X-Robots-Tag:noindex
X-PUBLISHED-TTL:PT1H
BEGIN:VTIMEZONE
TZID:Europe/Paris
BEGIN:DAYLIGHT
TZOFFSETFROM:+0100
TZOFFSETTO:+0200
TZNAME:CEST
DTSTART:20250330T010000
END:DAYLIGHT
BEGIN:STANDARD
TZOFFSETFROM:+0200
TZOFFSETTO:+0100
TZNAME:CET
DTSTART:20251026T010000
END:STANDARD
END:VTIMEZONE
BEGIN:VEVENT
DTSTART;TZID=Europe/Paris:20250911T120000
DTEND;TZID=Europe/Paris:20250911T130000
DTSTAMP:20260420T020343
CREATED:20250908T081822Z
LAST-MODIFIED:20250908T081822Z
UID:25155-1757592000-1757595600@academy.amplivo.com
SUMMARY:Présentation (FR)
DESCRIPTION:Dans cette présentation de l’opportunité d’affaires Amplivo\, nous vous expliquerons comment contribuer à nettoyer la planète tout en améliorant votre qualité de vie – le tout depuis le confort de votre maison. \nN’hésitez pas à inviter toute personne de votre entourage qui pourrait être intéressée à se joindre à nous dans cette mission.  
URL:https://academy.amplivo.com/event/presentation-fr-14/
CATEGORIES:Presentation
ATTACH;FMTTYPE=image/jpeg:https://academy.amplivo.com/wp-content/uploads/jeudi-11-12h-1.jpeg
END:VEVENT
END:VCALENDAR