BEGIN:VCALENDAR
VERSION:2.0
PRODID:-//Amplivo Academy - ECPv6.3.5//NONSGML v1.0//EN
CALSCALE:GREGORIAN
METHOD:PUBLISH
X-WR-CALNAME:Amplivo Academy
X-ORIGINAL-URL:https://academy.amplivo.com
X-WR-CALDESC:Events for Amplivo Academy
REFRESH-INTERVAL;VALUE=DURATION:PT1H
X-Robots-Tag:noindex
X-PUBLISHED-TTL:PT1H
BEGIN:VTIMEZONE
TZID:Europe/Amsterdam
BEGIN:DAYLIGHT
TZOFFSETFROM:+0100
TZOFFSETTO:+0200
TZNAME:CEST
DTSTART:20250330T010000
END:DAYLIGHT
BEGIN:STANDARD
TZOFFSETFROM:+0200
TZOFFSETTO:+0100
TZNAME:CET
DTSTART:20251026T010000
END:STANDARD
END:VTIMEZONE
BEGIN:VEVENT
DTSTART;TZID=Europe/Amsterdam:20250807T190000
DTEND;TZID=Europe/Amsterdam:20250807T193000
DTSTAMP:20260420T102655
CREATED:20250731T153420Z
LAST-MODIFIED:20250731T153420Z
UID:10000035-1754593200-1754595000@academy.amplivo.com
SUMMARY:Presentation ENG
DESCRIPTION:In this presentation of the Amplivo Business Opportunity we will be sharing information with you on how you can help clean up the planet and improve your quality of life at the same time\, all from the comfort of your own home. Please feel free to invite anyone else you know who might be interested in joining us on our mission.
URL:https://academy.amplivo.com/event/presentation-eng/2025-08-07/
CATEGORIES:Presentation
ATTACH;FMTTYPE=image/jpeg:https://academy.amplivo.com/wp-content/uploads/Flyer-7th-August-2025.jpg
END:VEVENT
END:VCALENDAR