BEGIN:VCALENDAR
VERSION:2.0
PRODID:-//Amplivo Academy - ECPv6.3.5//NONSGML v1.0//EN
CALSCALE:GREGORIAN
METHOD:PUBLISH
X-WR-CALNAME:Amplivo Academy
X-ORIGINAL-URL:https://academy.amplivo.com
X-WR-CALDESC:Events for Amplivo Academy
REFRESH-INTERVAL;VALUE=DURATION:PT1H
X-Robots-Tag:noindex
X-PUBLISHED-TTL:PT1H
BEGIN:VTIMEZONE
TZID:UTC
BEGIN:STANDARD
TZOFFSETFROM:+0000
TZOFFSETTO:+0000
TZNAME:UTC
DTSTART:20250101T000000
END:STANDARD
END:VTIMEZONE
BEGIN:VEVENT
DTSTART;TZID=UTC:20250806T203000
DTEND;TZID=UTC:20250806T220000
DTSTAMP:20260420T104221
CREATED:20250803T165640Z
LAST-MODIFIED:20250803T165910Z
UID:24513-1754512200-1754517600@academy.amplivo.com
SUMMARY:Formazione speciale  (IT)
DESCRIPTION:Formazione LIVE e ZOOM\, “IL VALORE DEL TUO TEMPO”\, filosofie network\, il tempo da ottimizzare fino alla piena esplosione dei mercati\, come valorizzare il tuo part-time fino al full time.
URL:https://academy.amplivo.com/event/formazione-speciale-it/
CATEGORIES:Training
ATTACH;FMTTYPE=image/jpeg:https://academy.amplivo.com/wp-content/uploads/IMG_4564.jpg
END:VEVENT
END:VCALENDAR