BEGIN:VCALENDAR
VERSION:2.0
PRODID:-//Amplivo Academy - ECPv6.3.5//NONSGML v1.0//EN
CALSCALE:GREGORIAN
METHOD:PUBLISH
X-WR-CALNAME:Amplivo Academy
X-ORIGINAL-URL:https://academy.amplivo.com
X-WR-CALDESC:Events for Amplivo Academy
REFRESH-INTERVAL;VALUE=DURATION:PT1H
X-Robots-Tag:noindex
X-PUBLISHED-TTL:PT1H
BEGIN:VTIMEZONE
TZID:Europe/Paris
BEGIN:DAYLIGHT
TZOFFSETFROM:+0100
TZOFFSETTO:+0200
TZNAME:CEST
DTSTART:20250330T010000
END:DAYLIGHT
BEGIN:STANDARD
TZOFFSETFROM:+0200
TZOFFSETTO:+0100
TZNAME:CET
DTSTART:20251026T010000
END:STANDARD
END:VTIMEZONE
BEGIN:VEVENT
DTSTART;TZID=Europe/Paris:20251008T210000
DTEND;TZID=Europe/Paris:20251008T220000
DTSTAMP:20260419T170402
CREATED:20251005T201537Z
LAST-MODIFIED:20251005T201537Z
UID:25711-1759957200-1759960800@academy.amplivo.com
SUMMARY:Formação Especial (PT)
DESCRIPTION:Esta é uma formação especial para Portugal\, com o Diretor de Network Elliot Hiller. Estão todos convidados para a 1ª parte da formação neste dia\, que certamente vos ajudará a alcançarem sucesso com a Amplivo e a concretizarem objetivos que estabeleceram com esta oportunidade de negócio\, única! \nO nosso Director de Network\, Elliot Hiller\, explicará passo-a-passo tudo o que precisam de saber para encontrarem parceiros e construírem uma equipa forte e eficiente. \nA empresa está a crescer e a expandir-se rapidamente — garanta a sua presença nesta 1ª sessão de formação\, para que o seu negócio também possa crescer e expandir-se! A formação será realizada em inglês\, com tradução profissional em simultâneo\, para o idioma português.
URL:https://academy.amplivo.com/event/formacao-especial-pt/
CATEGORIES:Training
ATTACH;FMTTYPE=image/jpeg:https://academy.amplivo.com/wp-content/uploads/Formacao-Especial-C.001.jpeg
END:VEVENT
END:VCALENDAR